BEGIN:VCALENDAR
VERSION:2.0
PRODID:-//St. Clair County Community College - ECPv6.15.20//NONSGML v1.0//EN
CALSCALE:GREGORIAN
METHOD:PUBLISH
X-WR-CALNAME:St. Clair County Community College
X-ORIGINAL-URL:https://sc4.edu
X-WR-CALDESC:Events for St. Clair County Community College
REFRESH-INTERVAL;VALUE=DURATION:PT1H
X-Robots-Tag:noindex
X-PUBLISHED-TTL:PT1H
BEGIN:VTIMEZONE
TZID:America/Detroit
BEGIN:DAYLIGHT
TZOFFSETFROM:-0500
TZOFFSETTO:-0400
TZNAME:EDT
DTSTART:20230312T070000
END:DAYLIGHT
BEGIN:STANDARD
TZOFFSETFROM:-0400
TZOFFSETTO:-0500
TZNAME:EST
DTSTART:20231105T060000
END:STANDARD
BEGIN:DAYLIGHT
TZOFFSETFROM:-0500
TZOFFSETTO:-0400
TZNAME:EDT
DTSTART:20240310T070000
END:DAYLIGHT
BEGIN:STANDARD
TZOFFSETFROM:-0400
TZOFFSETTO:-0500
TZNAME:EST
DTSTART:20241103T060000
END:STANDARD
BEGIN:DAYLIGHT
TZOFFSETFROM:-0500
TZOFFSETTO:-0400
TZNAME:EDT
DTSTART:20250309T070000
END:DAYLIGHT
BEGIN:STANDARD
TZOFFSETFROM:-0400
TZOFFSETTO:-0500
TZNAME:EST
DTSTART:20251102T060000
END:STANDARD
END:VTIMEZONE
BEGIN:VEVENT
DTSTART;TZID=America/Detroit:20240222T170000
DTEND;TZID=America/Detroit:20240222T180000
DTSTAMP:20260423T184103
CREATED:20240222T210014Z
LAST-MODIFIED:20240222T211302Z
UID:10001263-1708621200-1708624800@sc4.edu
SUMMARY:Respiratory Therapy Information Session
DESCRIPTION:The respiratory therapy program at St. Clair County Community College uses an integration of classroom and practicum experiences in hospitals\, outpatient testing facilities and physician offices. Students graduating from the program will obtain an Associate in Applied Arts and Science degree\, and become eligible to take the National Board of Respiratory Care (NBRC) credentialing examinations. \n\n\n\nAttend this virtual information session to ask questions and learn about the program\, course schedule\, any prerequisites\, and more. \n\n\n\nJoin on Teams.
URL:https://sc4.edu/event/respiratory-therapy-information-session/
CATEGORIES:Academics
END:VEVENT
BEGIN:VEVENT
DTSTART;TZID=America/Detroit:20240224T100000
DTEND;TZID=America/Detroit:20240224T120000
DTSTAMP:20260423T184103
CREATED:20240206T024112Z
LAST-MODIFIED:20240206T030902Z
UID:10001258-1708768800-1708776000@sc4.edu
SUMMARY:African American-Read-In
DESCRIPTION:The National African American Read-In was established in 1990 by the Black Caucus of the National Council of Teachers of English to make literacy a significant part of Black History Month. \n\n\n\nPlease join us for the National African American Read-In event. The event is open to the public\, encouraging k-12 students\, SC4 students\, faculty\, staff\, and community members to attend. \n\n\n\nOur SC4 Faculty member\, Chris Hilton\, talks with Chief DEI Officer Jessica Brown on the importance of the National Read-In and Literacy. \n\n\n\nSaturday\, Feb 24\, 10 a.m. \n\n\n\nSC4 Fine Arts Theatre \n\n\n\nChris Hilton is an English professor focusing on literature\, bringing 20 years of teaching experience to the academic world. Growing up in the state of Wyoming\, Chris’s journey into literature was influenced by the diverse landscapes and stories of the state\, fostering a deep appreciation for the narrative power of place\, history\, and identity. \n\n\n\nIn academia\, Chris has dedicated a significant part of his career to studying and teaching American literature\, analyzing the evolving narrative of the American experience through various lenses and periods. This includes a specialization in African American literature\, where Chris explores African American writers’ historical\, cultural\, and artistic contributions to the broader American literary canon. \n\n\n\nAdditionally\, Chris has expanded his teaching portfolio to include children’s literature\, recognizing the importance of early literary experiences in shaping young minds and fostering a lifelong love for reading and openness. \n\n\n\nChris’s approach to literature is rooted in a deep understanding of its power to reflect and shape society\, engage with complex identities\, and connect across diverse experiences.
URL:https://sc4.edu/event/african-american-read-in/
CATEGORIES:Academics,Diversity Equity Inclusion
END:VEVENT
BEGIN:VEVENT
DTSTART;TZID=America/Detroit:20240226T120000
DTEND;TZID=America/Detroit:20240226T140000
DTSTAMP:20260423T184103
CREATED:20240226T142813Z
LAST-MODIFIED:20240226T142814Z
UID:10001290-1708948800-1708956000@sc4.edu
SUMMARY:Serenity room opening
DESCRIPTION:The Serenity Room is a space specifically available for all members of the SC4 community to relax and destress. Visitors to the serenity room will be able to engage in private and personal reflection\, meditation\, yoga\, or other wellness practices. Amenities include mats\, soft seating\, adjustable low lighting\, a soothing indoor water fountain\, and calming imagery. \n\n\n\nLocated in Main Building Room 214
URL:https://sc4.edu/event/serenity-room-opening/
CATEGORIES:Academics,Campus life
END:VEVENT
BEGIN:VEVENT
DTSTART;TZID=America/Detroit:20240227T113000
DTEND;TZID=America/Detroit:20240227T140000
DTSTAMP:20260423T184103
CREATED:20240226T143010Z
LAST-MODIFIED:20240226T143111Z
UID:10001291-1709033400-1709042400@sc4.edu
SUMMARY:Taco Party with Pups
DESCRIPTION:Come relax with us at the College Center Atrium! There will be tacos catered by Chef Mike and therapy dogs available for students\, staff\, and faculty. \n\n\n\nSponsored by SC4 Student Government \n\n\n\nLocated in the College Center Atrium
URL:https://sc4.edu/event/taco-party-with-pups/
CATEGORIES:Academics,Campus life
END:VEVENT
END:VCALENDAR