BEGIN:VCALENDAR
VERSION:2.0
PRODID:-//St. Clair County Community College - ECPv6.15.20//NONSGML v1.0//EN
CALSCALE:GREGORIAN
METHOD:PUBLISH
X-ORIGINAL-URL:https://sc4.edu
X-WR-CALDESC:Events for St. Clair County Community College
REFRESH-INTERVAL;VALUE=DURATION:PT1H
X-Robots-Tag:noindex
X-PUBLISHED-TTL:PT1H
BEGIN:VTIMEZONE
TZID:America/Detroit
BEGIN:DAYLIGHT
TZOFFSETFROM:-0500
TZOFFSETTO:-0400
TZNAME:EDT
DTSTART:20240310T070000
END:DAYLIGHT
BEGIN:STANDARD
TZOFFSETFROM:-0400
TZOFFSETTO:-0500
TZNAME:EST
DTSTART:20241103T060000
END:STANDARD
BEGIN:DAYLIGHT
TZOFFSETFROM:-0500
TZOFFSETTO:-0400
TZNAME:EDT
DTSTART:20250309T070000
END:DAYLIGHT
BEGIN:STANDARD
TZOFFSETFROM:-0400
TZOFFSETTO:-0500
TZNAME:EST
DTSTART:20251102T060000
END:STANDARD
BEGIN:DAYLIGHT
TZOFFSETFROM:-0500
TZOFFSETTO:-0400
TZNAME:EDT
DTSTART:20260308T070000
END:DAYLIGHT
BEGIN:STANDARD
TZOFFSETFROM:-0400
TZOFFSETTO:-0500
TZNAME:EST
DTSTART:20261101T060000
END:STANDARD
END:VTIMEZONE
BEGIN:VEVENT
DTSTART;TZID=America/Detroit:20250411T100000
DTEND;TZID=America/Detroit:20250411T110000
DTSTAMP:20260422T152954
CREATED:20241203T151310Z
LAST-MODIFIED:20241203T151312Z
UID:10001934-1744365600-1744369200@sc4.edu
SUMMARY:Radiologic Technology Program Information Session
DESCRIPTION:Attend this virtual information session to ask questions and learn about the program\, course schedule\, any prerequisites\, and more. Join the meeting on Teams. \n\n\n\nApplication deadline for Radiologic Technology program is February 1 for a summer semester start. \n\n\n\nApply today at https://sc4.edu/health-sciences-application/
URL:https://sc4.edu/event/radiologic-technology-program-information-session-43/
CATEGORIES:Academics
END:VEVENT
BEGIN:VEVENT
DTSTART;TZID=America/Detroit:20250428T170000
DTEND;TZID=America/Detroit:20250428T180000
DTSTAMP:20260422T152954
CREATED:20240910T173839Z
LAST-MODIFIED:20240910T173908Z
UID:10001828-1745859600-1745863200@sc4.edu
SUMMARY:Respiratory Therapy Information Sessions
DESCRIPTION:Attend this virtual information session to ask questions and learn about the program\, course schedule\, any prerequisites\, and more. Join on Teams via this link.
URL:https://sc4.edu/event/respiratory-therapy-information-sessions-7/
CATEGORIES:Academics
END:VEVENT
BEGIN:VEVENT
DTSTART;TZID=America/Detroit:20250429T113000
DTEND;TZID=America/Detroit:20250429T140000
DTSTAMP:20260422T152954
CREATED:20250317T133426Z
LAST-MODIFIED:20250326T135900Z
UID:10002037-1745926200-1745935200@sc4.edu
SUMMARY:Student Government: Summer Dreams and Ice Cream
DESCRIPTION:Students\, faculty and staff are welcome to join the student government on the SC4 Greenway to enjoy eating ice cream and subs and petting therapy dogs.
URL:https://sc4.edu/event/student-government-stress-breaker-ice-cream-and-pups/
CATEGORIES:Academics,Wellness
END:VEVENT
END:VCALENDAR