BEGIN:VCALENDAR
VERSION:2.0
PRODID:-//St. Clair County Community College - ECPv6.15.20//NONSGML v1.0//EN
CALSCALE:GREGORIAN
METHOD:PUBLISH
X-WR-CALNAME:St. Clair County Community College
X-ORIGINAL-URL:https://sc4.edu
X-WR-CALDESC:Events for St. Clair County Community College
REFRESH-INTERVAL;VALUE=DURATION:PT1H
X-Robots-Tag:noindex
X-PUBLISHED-TTL:PT1H
BEGIN:VTIMEZONE
TZID:America/Detroit
BEGIN:DAYLIGHT
TZOFFSETFROM:-0500
TZOFFSETTO:-0400
TZNAME:EDT
DTSTART:20240310T070000
END:DAYLIGHT
BEGIN:STANDARD
TZOFFSETFROM:-0400
TZOFFSETTO:-0500
TZNAME:EST
DTSTART:20241103T060000
END:STANDARD
BEGIN:DAYLIGHT
TZOFFSETFROM:-0500
TZOFFSETTO:-0400
TZNAME:EDT
DTSTART:20250309T070000
END:DAYLIGHT
BEGIN:STANDARD
TZOFFSETFROM:-0400
TZOFFSETTO:-0500
TZNAME:EST
DTSTART:20251102T060000
END:STANDARD
BEGIN:DAYLIGHT
TZOFFSETFROM:-0500
TZOFFSETTO:-0400
TZNAME:EDT
DTSTART:20260308T070000
END:DAYLIGHT
BEGIN:STANDARD
TZOFFSETFROM:-0400
TZOFFSETTO:-0500
TZNAME:EST
DTSTART:20261101T060000
END:STANDARD
END:VTIMEZONE
BEGIN:VEVENT
DTSTART;TZID=America/Detroit:20250610T100000
DTEND;TZID=America/Detroit:20250610T110000
DTSTAMP:20260422T093243
CREATED:20241202T201810Z
LAST-MODIFIED:20241202T201814Z
UID:10001915-1749549600-1749553200@sc4.edu
SUMMARY:Associate Degree Nursing Information Session
DESCRIPTION:Attend this virtual information session to ask questions and learn about the program\, course schedule\, any prerequisites\, and more. Join the meeting on Teams.
URL:https://sc4.edu/event/associate-degree-nursing-information-session-15/
CATEGORIES:Academics,Admissions
END:VEVENT
BEGIN:VEVENT
DTSTART;TZID=America/Detroit:20250611T150000
DTEND;TZID=America/Detroit:20250611T160000
DTSTAMP:20260422T093243
CREATED:20241202T203445Z
LAST-MODIFIED:20241202T203450Z
UID:10001927-1749654000-1749657600@sc4.edu
SUMMARY:ADN Transition program information session
DESCRIPTION:Attend this virtual information session to ask questions and learn about the program\, course schedule\, any prerequisites\, and more. Join the meeting here.
URL:https://sc4.edu/event/adn-transition-program-information-session-10/
CATEGORIES:Academics,Admissions
END:VEVENT
BEGIN:VEVENT
DTSTART;TZID=America/Detroit:20250612T100000
DTEND;TZID=America/Detroit:20250612T110000
DTSTAMP:20260422T093243
CREATED:20241202T202547Z
LAST-MODIFIED:20241202T202555Z
UID:10001921-1749722400-1749726000@sc4.edu
SUMMARY:Practical Nursing Information Session
DESCRIPTION:Attend this virtual information session to ask questions and learn about the program\, course schedule\, any prerequisites\, and more. Join the meeting on Teams.
URL:https://sc4.edu/event/practical-nursing-information-session-10/
CATEGORIES:Academics,Admissions
END:VEVENT
BEGIN:VEVENT
DTSTART;TZID=America/Detroit:20250617T130000
DTEND;TZID=America/Detroit:20250617T140000
DTSTAMP:20260422T093243
CREATED:20250528T131728Z
LAST-MODIFIED:20250822T010704Z
UID:10002158-1750165200-1750168800@sc4.edu
SUMMARY:Radiologic Technology Program Virtual Information Session
DESCRIPTION:Interested in a career in medical imaging? Join SC4’s Radiologic Technology Program Virtual Information Session to explore how you can become a certified radiologic technologist. This session is your first step toward a rewarding healthcare career\, offering insights into: \n\n\n\n\nProgram structure and course schedule\n\n\n\nAdmission requirements and prerequisites\n\n\n\nHands-on clinical experiences in hospitals\, orthopedic practices\, and doctor’s offices\n\n\n\nCareer opportunities in hospitals\, urgent care clinics\, imaging centers\, and more\n\n\n\nSC4’s outstanding 100% job placement and certification exam pass rates 1\n\n\n\n\nAttending an information session is mandatory for anyone applying to the program. You’ll have the opportunity to ask questions\, meet faculty\, and learn how SC4 prepares students with the skills and confidence to succeed in the field. \n\n\n\nApply today at https://sc4.edu/health-sciences-application/
URL:https://sc4.edu/event/radiologic-technology-program-information-session-44/
CATEGORIES:Academics,Admissions,Health Science Programs
END:VEVENT
END:VCALENDAR