BEGIN:VCALENDAR
VERSION:2.0
PRODID:-//St. Clair County Community College - ECPv6.15.20//NONSGML v1.0//EN
CALSCALE:GREGORIAN
METHOD:PUBLISH
X-ORIGINAL-URL:https://sc4.edu
X-WR-CALDESC:Events for St. Clair County Community College
REFRESH-INTERVAL;VALUE=DURATION:PT1H
X-Robots-Tag:noindex
X-PUBLISHED-TTL:PT1H
BEGIN:VTIMEZONE
TZID:America/Detroit
BEGIN:DAYLIGHT
TZOFFSETFROM:-0500
TZOFFSETTO:-0400
TZNAME:EDT
DTSTART:20240310T070000
END:DAYLIGHT
BEGIN:STANDARD
TZOFFSETFROM:-0400
TZOFFSETTO:-0500
TZNAME:EST
DTSTART:20241103T060000
END:STANDARD
BEGIN:DAYLIGHT
TZOFFSETFROM:-0500
TZOFFSETTO:-0400
TZNAME:EDT
DTSTART:20250309T070000
END:DAYLIGHT
BEGIN:STANDARD
TZOFFSETFROM:-0400
TZOFFSETTO:-0500
TZNAME:EST
DTSTART:20251102T060000
END:STANDARD
BEGIN:DAYLIGHT
TZOFFSETFROM:-0500
TZOFFSETTO:-0400
TZNAME:EDT
DTSTART:20260308T070000
END:DAYLIGHT
BEGIN:STANDARD
TZOFFSETFROM:-0400
TZOFFSETTO:-0500
TZNAME:EST
DTSTART:20261101T060000
END:STANDARD
END:VTIMEZONE
BEGIN:VEVENT
DTSTART;TZID=America/Detroit:20250909T150000
DTEND;TZID=America/Detroit:20250909T160000
DTSTAMP:20260420T032904
CREATED:20241202T202802Z
LAST-MODIFIED:20241202T202808Z
UID:10001923-1757430000-1757433600@sc4.edu
SUMMARY:Practical Nursing Information Session
DESCRIPTION:Attend this virtual information session to ask questions and learn about the program\, course schedule\, any prerequisites\, and more. Join the meeting on Teams.
URL:https://sc4.edu/event/practical-nursing-information-session-12/
CATEGORIES:Academics,Admissions
END:VEVENT
BEGIN:VEVENT
DTSTART;TZID=America/Detroit:20250910T100000
DTEND;TZID=America/Detroit:20250910T110000
DTSTAMP:20260420T032904
CREATED:20241202T203641Z
LAST-MODIFIED:20241202T203646Z
UID:10001929-1757498400-1757502000@sc4.edu
SUMMARY:ADN Transition program information session
DESCRIPTION:Attend this virtual information session to ask questions and learn about the program\, course schedule\, any prerequisites\, and more. Join the meeting here.
URL:https://sc4.edu/event/adn-transition-program-information-session-12/
CATEGORIES:Academics,Admissions
END:VEVENT
BEGIN:VEVENT
DTSTART;TZID=America/Detroit:20250917T000000
DTEND;TZID=America/Detroit:20250917T120000
DTSTAMP:20260420T032904
CREATED:20250913T192602Z
LAST-MODIFIED:20250913T192605Z
UID:10002175-1758067200-1758110400@sc4.edu
SUMMARY:Naturalization Ceremony
DESCRIPTION:We’re proud to announce that SC4 will once again host a Naturalization Ceremony—this year welcoming 150 new U.S. citizens on Constitution Day\, September 17th. What better way to celebrate the principles our founders established than by honoring the dedication\, perseverance\, and spirit of those who have chosen to become American citizens? \n\n\n\nOver the past three years\, SC4 has hosted three Naturalization Ceremonies\, during which 350 individuals from 66 different countries took the Oath of Citizenship. With 193 countries in the world\, that means we’ve welcomed citizens from 34% of them—right here on our campus! \n\n\n\nWhile the ceremony is an official Federal Court proceeding\, it is open to the public and offers a truly inspiring experience. Whether you are there to support a friend or family member\, or simply want to witness this powerful moment\, we invite you to join us in celebrating this meaningful milestone.
URL:https://sc4.edu/event/naturalization-ceremony-2/
LOCATION:SC4 Fieldhouse\, 400 Erie Street\, Port Huron\, MI\, 48060\, United States
CATEGORIES:Academics,Community
END:VEVENT
BEGIN:VEVENT
DTSTART;TZID=America/Detroit:20250922T183000
DTEND;TZID=America/Detroit:20250922T193000
DTSTAMP:20260420T032904
CREATED:20250822T015059Z
LAST-MODIFIED:20250822T015102Z
UID:10002171-1758565800-1758569400@sc4.edu
SUMMARY:Respiratory Therapy Program Virtual Information Session
DESCRIPTION:Explore a high-demand healthcare career at SC4’s Respiratory Therapy Program Virtual Information Session here. This session is designed for prospective students interested in learning how to become a vital part of the medical team\, helping patients with acute and chronic lung and cardiovascular conditions. \n\n\n\nDuring the session\, you’ll discover: \n\n\n\n\nProgram structure\, course schedule\, and prerequisites\n\n\n\nHands-on clinical training in hospitals\, outpatient testing facilities\, and physician offices\n\n\n\nCareer opportunities in emergency rooms\, ICUs\, pediatric units\, pulmonary rehab clinics\, and home care settings\n\n\n\nCertification and licensure pathways\, including eligibility for the National Board for Respiratory Care (NBRC) exams\n\n\n\nSC4’s integration of classroom learning with real-world practicum experiences\n\n\n\n\nRespiratory therapists play a critical role in diagnosing and treating conditions like asthma\, pneumonia\, and COPD\, and often provide life-saving care. This session is your opportunity to ask questions\, meet faculty\, and learn how SC4 prepares students to succeed in this growing field. \n\n\n\nApply today at https://sc4.edu/health-sciences-application/
URL:https://sc4.edu/event/respiratory-therapy-program-virtual-information-session-7/
CATEGORIES:Academics,Admissions,Health Science Programs
END:VEVENT
END:VCALENDAR