BEGIN:VCALENDAR
VERSION:2.0
PRODID:-//St. Clair County Community College - ECPv6.15.20//NONSGML v1.0//EN
CALSCALE:GREGORIAN
METHOD:PUBLISH
X-ORIGINAL-URL:https://sc4.edu
X-WR-CALDESC:Events for St. Clair County Community College
REFRESH-INTERVAL;VALUE=DURATION:PT1H
X-Robots-Tag:noindex
X-PUBLISHED-TTL:PT1H
BEGIN:VTIMEZONE
TZID:America/Detroit
BEGIN:DAYLIGHT
TZOFFSETFROM:-0500
TZOFFSETTO:-0400
TZNAME:EDT
DTSTART:20240310T070000
END:DAYLIGHT
BEGIN:STANDARD
TZOFFSETFROM:-0400
TZOFFSETTO:-0500
TZNAME:EST
DTSTART:20241103T060000
END:STANDARD
BEGIN:DAYLIGHT
TZOFFSETFROM:-0500
TZOFFSETTO:-0400
TZNAME:EDT
DTSTART:20250309T070000
END:DAYLIGHT
BEGIN:STANDARD
TZOFFSETFROM:-0400
TZOFFSETTO:-0500
TZNAME:EST
DTSTART:20251102T060000
END:STANDARD
BEGIN:DAYLIGHT
TZOFFSETFROM:-0500
TZOFFSETTO:-0400
TZNAME:EDT
DTSTART:20260308T070000
END:DAYLIGHT
BEGIN:STANDARD
TZOFFSETFROM:-0400
TZOFFSETTO:-0500
TZNAME:EST
DTSTART:20261101T060000
END:STANDARD
END:VTIMEZONE
BEGIN:VEVENT
DTSTART;TZID=America/Detroit:20251006T100000
DTEND;TZID=America/Detroit:20251006T110000
DTSTAMP:20260420T015546
CREATED:20250811T215028Z
LAST-MODIFIED:20250822T010658Z
UID:10002162-1759744800-1759748400@sc4.edu
SUMMARY:Radiologic Technology Program Virtual Information Session
DESCRIPTION:Interested in a career in medical imaging? Join SC4’s Radiologic Technology Program Virtual Information Session here to explore how you can become a certified radiologic technologist. This session is your first step toward a rewarding healthcare career\, offering insights into: \n\n\n\n\nProgram structure and course schedule\n\n\n\nAdmission requirements and prerequisites\n\n\n\nHands-on clinical experiences in hospitals\, orthopedic practices\, and doctor’s offices\n\n\n\nCareer opportunities in hospitals\, urgent care clinics\, imaging centers\, and more\n\n\n\nSC4’s outstanding 100% job placement and certification exam pass rates 1\n\n\n\n\nAttending an information session is mandatory for anyone applying to the program. You’ll have the opportunity to ask questions\, meet faculty\, and learn how SC4 prepares students with the skills and confidence to succeed in the field. \n\n\n\nApply today at https://sc4.edu/health-sciences-application/
URL:https://sc4.edu/event/radiologic-technology-program-information-session-46/
CATEGORIES:Academics,Admissions,Health Science Programs
END:VEVENT
BEGIN:VEVENT
DTSTART;TZID=America/Detroit:20251020T183000
DTEND;TZID=America/Detroit:20251020T193000
DTSTAMP:20260420T015546
CREATED:20250822T012049Z
LAST-MODIFIED:20250822T012052Z
UID:10002165-1760985000-1760988600@sc4.edu
SUMMARY:Respiratory Therapy Program Virtual Information Session
DESCRIPTION:Explore a high-demand healthcare career at SC4’s Respiratory Therapy Program Virtual Information Session here. This session is designed for prospective students interested in learning how to become a vital part of the medical team\, helping patients with acute and chronic lung and cardiovascular conditions. \n\n\n\nDuring the session\, you’ll discover: \n\n\n\n\nProgram structure\, course schedule\, and prerequisites\n\n\n\nHands-on clinical training in hospitals\, outpatient testing facilities\, and physician offices\n\n\n\nCareer opportunities in emergency rooms\, ICUs\, pediatric units\, pulmonary rehab clinics\, and home care settings\n\n\n\nCertification and licensure pathways\, including eligibility for the National Board for Respiratory Care (NBRC) exams\n\n\n\nSC4’s integration of classroom learning with real-world practicum experiences\n\n\n\n\nRespiratory therapists play a critical role in diagnosing and treating conditions like asthma\, pneumonia\, and COPD\, and often provide life-saving care. This session is your opportunity to ask questions\, meet faculty\, and learn how SC4 prepares students to succeed in this growing field. \n\n\n\nApply today at https://sc4.edu/health-sciences-application/
URL:https://sc4.edu/event/respiratory-therapy-program-virtual-information-session/
CATEGORIES:Academics,Admissions,Health Science Programs
END:VEVENT
BEGIN:VEVENT
DTSTART;TZID=America/Detroit:20251028T150000
DTEND;TZID=America/Detroit:20251028T160000
DTSTAMP:20260420T015546
CREATED:20241202T202000Z
LAST-MODIFIED:20241202T202006Z
UID:10001917-1761663600-1761667200@sc4.edu
SUMMARY:Associate Degree Nursing Information Session
DESCRIPTION:Attend this virtual information session to ask questions and learn about the program\, course schedule\, any prerequisites\, and more. Join the meeting on Teams.
URL:https://sc4.edu/event/associate-degree-nursing-information-session-17/
CATEGORIES:Academics,Admissions
END:VEVENT
END:VCALENDAR