BEGIN:VCALENDAR
VERSION:2.0
PRODID:-//St. Clair County Community College - ECPv6.15.20//NONSGML v1.0//EN
CALSCALE:GREGORIAN
METHOD:PUBLISH
X-ORIGINAL-URL:https://sc4.edu
X-WR-CALDESC:Events for St. Clair County Community College
REFRESH-INTERVAL;VALUE=DURATION:PT1H
X-Robots-Tag:noindex
X-PUBLISHED-TTL:PT1H
BEGIN:VTIMEZONE
TZID:America/Detroit
BEGIN:DAYLIGHT
TZOFFSETFROM:-0500
TZOFFSETTO:-0400
TZNAME:EDT
DTSTART:20230312T070000
END:DAYLIGHT
BEGIN:STANDARD
TZOFFSETFROM:-0400
TZOFFSETTO:-0500
TZNAME:EST
DTSTART:20231105T060000
END:STANDARD
BEGIN:DAYLIGHT
TZOFFSETFROM:-0500
TZOFFSETTO:-0400
TZNAME:EDT
DTSTART:20240310T070000
END:DAYLIGHT
BEGIN:STANDARD
TZOFFSETFROM:-0400
TZOFFSETTO:-0500
TZNAME:EST
DTSTART:20241103T060000
END:STANDARD
BEGIN:DAYLIGHT
TZOFFSETFROM:-0500
TZOFFSETTO:-0400
TZNAME:EDT
DTSTART:20250309T070000
END:DAYLIGHT
BEGIN:STANDARD
TZOFFSETFROM:-0400
TZOFFSETTO:-0500
TZNAME:EST
DTSTART:20251102T060000
END:STANDARD
END:VTIMEZONE
BEGIN:VEVENT
DTSTART;TZID=America/Detroit:20240131T183000
DTEND;TZID=America/Detroit:20240131T203000
DTSTAMP:20260423T201452
CREATED:20240124T145933Z
LAST-MODIFIED:20240124T145935Z
UID:10001257-1706725800-1706733000@sc4.edu
SUMMARY:SC4 Financial Aid Night
DESCRIPTION:All college students\, parents and high school seniors who want to learn about the process should attend SC4’s Financial Aid Night in the Fine Arts Theatre. \n\n\n\nInformation will be shared for students looking for money to attend college\, no matter what school they are considering. Get details on all types of financial aid\, including loans\, grants and scholarships. SC4 representatives will explain how to apply for financial aid and will give tips for obtaining maximum financial aid. A question-and-answer period will be offered. \n\n\n\nQuestions\, call (810) 989-5530 or email financialaid@sc4.edu.
URL:https://sc4.edu/event/sc4-financial-aid-night-5/
CATEGORIES:Academics,Admissions,Community
END:VEVENT
END:VCALENDAR