BEGIN:VCALENDAR
VERSION:2.0
PRODID:-//St. Clair County Community College - ECPv6.15.20//NONSGML v1.0//EN
CALSCALE:GREGORIAN
METHOD:PUBLISH
X-ORIGINAL-URL:https://sc4.edu
X-WR-CALDESC:Events for St. Clair County Community College
REFRESH-INTERVAL;VALUE=DURATION:PT1H
X-Robots-Tag:noindex
X-PUBLISHED-TTL:PT1H
BEGIN:VTIMEZONE
TZID:America/Detroit
BEGIN:DAYLIGHT
TZOFFSETFROM:-0500
TZOFFSETTO:-0400
TZNAME:EDT
DTSTART:20230312T070000
END:DAYLIGHT
BEGIN:STANDARD
TZOFFSETFROM:-0400
TZOFFSETTO:-0500
TZNAME:EST
DTSTART:20231105T060000
END:STANDARD
BEGIN:DAYLIGHT
TZOFFSETFROM:-0500
TZOFFSETTO:-0400
TZNAME:EDT
DTSTART:20240310T070000
END:DAYLIGHT
BEGIN:STANDARD
TZOFFSETFROM:-0400
TZOFFSETTO:-0500
TZNAME:EST
DTSTART:20241103T060000
END:STANDARD
BEGIN:DAYLIGHT
TZOFFSETFROM:-0500
TZOFFSETTO:-0400
TZNAME:EDT
DTSTART:20250309T070000
END:DAYLIGHT
BEGIN:STANDARD
TZOFFSETFROM:-0400
TZOFFSETTO:-0500
TZNAME:EST
DTSTART:20251102T060000
END:STANDARD
END:VTIMEZONE
BEGIN:VEVENT
DTSTART;TZID=America/Detroit:20240305T100000
DTEND;TZID=America/Detroit:20240305T110000
DTSTAMP:20260423T201445
CREATED:20240222T213754Z
LAST-MODIFIED:20240222T213755Z
UID:10001283-1709632800-1709636400@sc4.edu
SUMMARY:Associate Degree Nursing Information Session
DESCRIPTION:Attend this virtual information session to ask questions and learn about the program\, course schedule\, any prerequisites\, and more. Join the meeting on Teams.
URL:https://sc4.edu/event/associate-degree-nursing-information-session-4/
CATEGORIES:Academics,Admissions
END:VEVENT
BEGIN:VEVENT
DTSTART;TZID=America/Detroit:20240306T170000
DTEND;TZID=America/Detroit:20240306T180000
DTSTAMP:20260423T201445
CREATED:20240222T213057Z
LAST-MODIFIED:20240222T213059Z
UID:10001278-1709744400-1709748000@sc4.edu
SUMMARY:Associate Degree Nursing Transition Program
DESCRIPTION:Attend this virtual information session to ask questions and learn about the program\, course schedule\, any prerequisites\, and more. Join the meeting on Teams.
URL:https://sc4.edu/event/associate-degree-nursing-transition-program/
CATEGORIES:Academics,Admissions
END:VEVENT
BEGIN:VEVENT
DTSTART;TZID=America/Detroit:20240307T150000
DTEND;TZID=America/Detroit:20240307T160000
DTSTAMP:20260423T201445
CREATED:20240222T212413Z
LAST-MODIFIED:20240222T214444Z
UID:10001273-1709823600-1709827200@sc4.edu
SUMMARY:Practical Nursing Information Session
DESCRIPTION:Attend this virtual information session to ask questions and learn about the program\, course schedule\, any prerequisites\, and more. Join the meeting on Teams.
URL:https://sc4.edu/event/practical-nursing-information-session-3/
CATEGORIES:Academics,Admissions
END:VEVENT
END:VCALENDAR