BEGIN:VCALENDAR
VERSION:2.0
PRODID:-//St. Clair County Community College - ECPv6.15.20//NONSGML v1.0//EN
CALSCALE:GREGORIAN
METHOD:PUBLISH
X-ORIGINAL-URL:https://sc4.edu
X-WR-CALDESC:Events for St. Clair County Community College
REFRESH-INTERVAL;VALUE=DURATION:PT1H
X-Robots-Tag:noindex
X-PUBLISHED-TTL:PT1H
BEGIN:VTIMEZONE
TZID:America/Detroit
BEGIN:DAYLIGHT
TZOFFSETFROM:-0500
TZOFFSETTO:-0400
TZNAME:EDT
DTSTART:20230312T070000
END:DAYLIGHT
BEGIN:STANDARD
TZOFFSETFROM:-0400
TZOFFSETTO:-0500
TZNAME:EST
DTSTART:20231105T060000
END:STANDARD
BEGIN:DAYLIGHT
TZOFFSETFROM:-0500
TZOFFSETTO:-0400
TZNAME:EDT
DTSTART:20240310T070000
END:DAYLIGHT
BEGIN:STANDARD
TZOFFSETFROM:-0400
TZOFFSETTO:-0500
TZNAME:EST
DTSTART:20241103T060000
END:STANDARD
BEGIN:DAYLIGHT
TZOFFSETFROM:-0500
TZOFFSETTO:-0400
TZNAME:EDT
DTSTART:20250309T070000
END:DAYLIGHT
BEGIN:STANDARD
TZOFFSETFROM:-0400
TZOFFSETTO:-0500
TZNAME:EST
DTSTART:20251102T060000
END:STANDARD
END:VTIMEZONE
BEGIN:VEVENT
DTSTART;TZID=America/Detroit:20240418T153000
DTEND;TZID=America/Detroit:20240418T163000
DTSTAMP:20260423T184217
CREATED:20240402T172430Z
LAST-MODIFIED:20240410T210742Z
UID:10001701-1713454200-1713457800@sc4.edu
SUMMARY:Student Recognition Ceremony
DESCRIPTION:Faculty and staff are encouraged to attend the Student Recognition Ceremony. This annual event honors students nominated by faculty and staff for their hard work and dedication over the academic year. \n\n\n\nStudents will be recognized for their exceptional performance in one of the following areas: \n\n\n\n\nAcademic Achievement\n\n\n\nLeadership Qualities\n\n\n\nService to the College and/or Community\n\n\n\nPersonal Goal Achievement\n\n\n\n\nLocation: SC4 Fieldhouse.
URL:https://sc4.edu/event/student-recognition-ceremony-2/
CATEGORIES:Academics
END:VEVENT
END:VCALENDAR