BEGIN:VCALENDAR
VERSION:2.0
PRODID:-//St. Clair County Community College - ECPv6.15.20//NONSGML v1.0//EN
CALSCALE:GREGORIAN
METHOD:PUBLISH
X-ORIGINAL-URL:https://sc4.edu
X-WR-CALDESC:Events for St. Clair County Community College
REFRESH-INTERVAL;VALUE=DURATION:PT1H
X-Robots-Tag:noindex
X-PUBLISHED-TTL:PT1H
BEGIN:VTIMEZONE
TZID:America/Detroit
BEGIN:DAYLIGHT
TZOFFSETFROM:-0500
TZOFFSETTO:-0400
TZNAME:EDT
DTSTART:20240310T070000
END:DAYLIGHT
BEGIN:STANDARD
TZOFFSETFROM:-0400
TZOFFSETTO:-0500
TZNAME:EST
DTSTART:20241103T060000
END:STANDARD
BEGIN:DAYLIGHT
TZOFFSETFROM:-0500
TZOFFSETTO:-0400
TZNAME:EDT
DTSTART:20250309T070000
END:DAYLIGHT
BEGIN:STANDARD
TZOFFSETFROM:-0400
TZOFFSETTO:-0500
TZNAME:EST
DTSTART:20251102T060000
END:STANDARD
BEGIN:DAYLIGHT
TZOFFSETFROM:-0500
TZOFFSETTO:-0400
TZNAME:EDT
DTSTART:20260308T070000
END:DAYLIGHT
BEGIN:STANDARD
TZOFFSETFROM:-0400
TZOFFSETTO:-0500
TZNAME:EST
DTSTART:20261101T060000
END:STANDARD
END:VTIMEZONE
BEGIN:VEVENT
DTSTART;TZID=America/Detroit:20250127T170000
DTEND;TZID=America/Detroit:20250127T180000
DTSTAMP:20260422T181538
CREATED:20240910T173522Z
LAST-MODIFIED:20240910T173539Z
UID:10001825-1737997200-1738000800@sc4.edu
SUMMARY:Respiratory Therapy Information Sessions
DESCRIPTION:Attend this virtual information session to ask questions and learn about the program\, course schedule\, any prerequisites\, and more. Join on Teams via this link.
URL:https://sc4.edu/event/respiratory-therapy-information-sessions-4/
CATEGORIES:Academics
END:VEVENT
BEGIN:VEVENT
DTSTART;TZID=America/Detroit:20250127T170000
DTEND;TZID=America/Detroit:20250127T180000
DTSTAMP:20260422T181538
CREATED:20241203T150846Z
LAST-MODIFIED:20241203T150849Z
UID:10001932-1737997200-1738000800@sc4.edu
SUMMARY:Radiologic Technology Program Information Session
DESCRIPTION:Attend this virtual information session to ask questions and learn about the program\, course schedule\, any prerequisites\, and more. Join the meeting on Teams. \n\n\n\nApplication deadline for Radiologic Technology program is February 1 for a summer semester start. \n\n\n\nApply today at https://sc4.edu/health-sciences-application/
URL:https://sc4.edu/event/radiologic-technology-program-information-session-41/
CATEGORIES:Academics
END:VEVENT
BEGIN:VEVENT
DTSTART;TZID=America/Detroit:20250127T180000
DTEND;TZID=America/Detroit:20250127T193000
DTSTAMP:20260422T181538
CREATED:20250116T162027Z
LAST-MODIFIED:20250117T142456Z
UID:10001999-1738000800-1738006200@sc4.edu
SUMMARY:SC4 Financial Aid Workshop
DESCRIPTION:SC4 Financial Aid Workshops are offered to students and parents seeking information about financial aid. Some items discussed include FAFSA\, scholarships\, and types of financial aid. \n\n\n\nAdditional information about financial aid support at SC4 visit SC4.edu/financialaid
URL:https://sc4.edu/event/sc4-financial-aid-workshop/
LOCATION:SC4 Fine Arts Theatre\, 601 Erie Street\, Port Huron\, MI\, 48060\, United States
CATEGORIES:Academics,Admissions
END:VEVENT
BEGIN:VEVENT
DTSTART;TZID=America/Detroit:20250130T150000
DTEND;TZID=America/Detroit:20250130T160000
DTSTAMP:20260422T181538
CREATED:20241202T201318Z
LAST-MODIFIED:20241202T201321Z
UID:10001911-1738249200-1738252800@sc4.edu
SUMMARY:Associate Degree Nursing Information Session
DESCRIPTION:Attend this virtual information session to ask questions and learn about the program\, course schedule\, any prerequisites\, and more. Join the meeting on Teams.
URL:https://sc4.edu/event/associate-degree-nursing-information-session-11/
CATEGORIES:Academics,Admissions
END:VEVENT
END:VCALENDAR