BEGIN:VCALENDAR
VERSION:2.0
PRODID:-//St. Clair County Community College - ECPv6.15.20//NONSGML v1.0//EN
CALSCALE:GREGORIAN
METHOD:PUBLISH
X-ORIGINAL-URL:https://sc4.edu
X-WR-CALDESC:Events for St. Clair County Community College
REFRESH-INTERVAL;VALUE=DURATION:PT1H
X-Robots-Tag:noindex
X-PUBLISHED-TTL:PT1H
BEGIN:VTIMEZONE
TZID:America/Detroit
BEGIN:DAYLIGHT
TZOFFSETFROM:-0500
TZOFFSETTO:-0400
TZNAME:EDT
DTSTART:20240310T070000
END:DAYLIGHT
BEGIN:STANDARD
TZOFFSETFROM:-0400
TZOFFSETTO:-0500
TZNAME:EST
DTSTART:20241103T060000
END:STANDARD
BEGIN:DAYLIGHT
TZOFFSETFROM:-0500
TZOFFSETTO:-0400
TZNAME:EDT
DTSTART:20250309T070000
END:DAYLIGHT
BEGIN:STANDARD
TZOFFSETFROM:-0400
TZOFFSETTO:-0500
TZNAME:EST
DTSTART:20251102T060000
END:STANDARD
BEGIN:DAYLIGHT
TZOFFSETFROM:-0500
TZOFFSETTO:-0400
TZNAME:EDT
DTSTART:20260308T070000
END:DAYLIGHT
BEGIN:STANDARD
TZOFFSETFROM:-0400
TZOFFSETTO:-0500
TZNAME:EST
DTSTART:20261101T060000
END:STANDARD
END:VTIMEZONE
BEGIN:VEVENT
DTSTART;TZID=America/Detroit:20250224T130000
DTEND;TZID=America/Detroit:20250224T140000
DTSTAMP:20260422T181552
CREATED:20241203T151120Z
LAST-MODIFIED:20241203T151125Z
UID:10001933-1740402000-1740405600@sc4.edu
SUMMARY:Radiologic Technology Program Information Session
DESCRIPTION:Attend this virtual information session to ask questions and learn about the program\, course schedule\, any prerequisites\, and more. Join the meeting on Teams. \n\n\n\nApplication deadline for Radiologic Technology program is February 1 for a summer semester start. \n\n\n\nApply today at https://sc4.edu/health-sciences-application/
URL:https://sc4.edu/event/radiologic-technology-program-information-session-42/
CATEGORIES:Academics
END:VEVENT
BEGIN:VEVENT
DTSTART;TZID=America/Detroit:20250224T170000
DTEND;TZID=America/Detroit:20250224T180000
DTSTAMP:20260422T181552
CREATED:20240910T173616Z
LAST-MODIFIED:20240910T173702Z
UID:10001826-1740416400-1740420000@sc4.edu
SUMMARY:Respiratory Therapy Information Sessions
DESCRIPTION:Attend this virtual information session to ask questions and learn about the program\, course schedule\, any prerequisites\, and more. Join on Teams via this link.
URL:https://sc4.edu/event/respiratory-therapy-information-sessions-5/
CATEGORIES:Academics
END:VEVENT
BEGIN:VEVENT
DTSTART;TZID=America/Detroit:20250228T083000
DTEND;TZID=America/Detroit:20250228T100000
DTSTAMP:20260422T181552
CREATED:20250214T152936Z
LAST-MODIFIED:20250214T152940Z
UID:10002019-1740731400-1740736800@sc4.edu
SUMMARY:Stress Less Event: Stress Management Workshop
DESCRIPTION:Take a break and invest in your well-being! Join SC4 Wellness for a presentation and workshop focused on stress management and relaxation techniques\, designed to help you relax\, refocus and recharge. \n\n\n\nWhat’s included?• Relaxation Workshop by Dr. Suzanne O’Brien• Free book giveaway: The Stress Less Guide for Busy People by Peter Foxwell\, Ph.D.• Yoga demonstration by Port Huron Yoga (bring your own yoga mat!) \n\n\n\nAll are welcome to attend!
URL:https://sc4.edu/event/stress-less-event-stress-management-workshop/
LOCATION:SC4 College Center Café\, 500 River Street\, Port Huron\, MI\, 48060\, United States
CATEGORIES:Academics,Campus life,Wellness
END:VEVENT
END:VCALENDAR