BEGIN:VCALENDAR
VERSION:2.0
PRODID:-//St. Clair County Community College - ECPv6.15.20//NONSGML v1.0//EN
CALSCALE:GREGORIAN
METHOD:PUBLISH
X-WR-CALNAME:St. Clair County Community College
X-ORIGINAL-URL:https://sc4.edu
X-WR-CALDESC:Events for St. Clair County Community College
REFRESH-INTERVAL;VALUE=DURATION:PT1H
X-Robots-Tag:noindex
X-PUBLISHED-TTL:PT1H
BEGIN:VTIMEZONE
TZID:America/Detroit
BEGIN:DAYLIGHT
TZOFFSETFROM:-0500
TZOFFSETTO:-0400
TZNAME:EDT
DTSTART:20250309T070000
END:DAYLIGHT
BEGIN:STANDARD
TZOFFSETFROM:-0400
TZOFFSETTO:-0500
TZNAME:EST
DTSTART:20251102T060000
END:STANDARD
BEGIN:DAYLIGHT
TZOFFSETFROM:-0500
TZOFFSETTO:-0400
TZNAME:EDT
DTSTART:20260308T070000
END:DAYLIGHT
BEGIN:STANDARD
TZOFFSETFROM:-0400
TZOFFSETTO:-0500
TZNAME:EST
DTSTART:20261101T060000
END:STANDARD
BEGIN:DAYLIGHT
TZOFFSETFROM:-0500
TZOFFSETTO:-0400
TZNAME:EDT
DTSTART:20270314T070000
END:DAYLIGHT
BEGIN:STANDARD
TZOFFSETFROM:-0400
TZOFFSETTO:-0500
TZNAME:EST
DTSTART:20271107T060000
END:STANDARD
END:VTIMEZONE
BEGIN:VEVENT
DTSTART;TZID=America/Detroit:20260105T000000
DTEND;TZID=America/Detroit:20260105T235959
DTSTAMP:20260419T192221
CREATED:20251216T183432Z
LAST-MODIFIED:20251216T183435Z
UID:10002325-1767571200-1767657599@sc4.edu
SUMMARY:2026 Winter Semester - Final Payment Due
DESCRIPTION:All tuition and fees for the Winter 2026 semester must be paid in full by this date to avoid course removal. Payments can be made online through Service Center Student Finance by logging into the SC4 Portal\, or by phone at (810) 989-5513. \n\n\n\nPayment Options: \n\n\n\n\nOnline: Log in to the SC4 Portal and access Service Center Student Finance.\n\n\n\nPhone: Call (810) 989-5513.\n\n\n\nBudget Plans: Available for fall\, winter\, and summer semesters through NELNET.\n\n\n\n\nImportant Information: \n\n\n\n\nStudents who do not comply with the tuition payment schedule may be removed from courses.\n\n\n\nFailure to meet financial aid or Nelnet payment plan requirements will result in a registration restriction\, preventing future enrollment until balances are satisfied.\n\n\n\nStudents dropped for non-payment twice in the same semester will also receive a registration restriction.\n\n\n\n\nFor more details\, visit: SC4 Tuition and Fees \n\n\n\nAudience: SC4 Students
URL:https://sc4.edu/event/2026-winter-semester-final-payment-due/
CATEGORIES:Academics
END:VEVENT
END:VCALENDAR