BEGIN:VCALENDAR
VERSION:2.0
PRODID:-//St. Clair County Community College - ECPv6.15.20//NONSGML v1.0//EN
CALSCALE:GREGORIAN
METHOD:PUBLISH
X-WR-CALNAME:St. Clair County Community College
X-ORIGINAL-URL:https://sc4.edu
X-WR-CALDESC:Events for St. Clair County Community College
REFRESH-INTERVAL;VALUE=DURATION:PT1H
X-Robots-Tag:noindex
X-PUBLISHED-TTL:PT1H
BEGIN:VTIMEZONE
TZID:America/Detroit
BEGIN:DAYLIGHT
TZOFFSETFROM:-0500
TZOFFSETTO:-0400
TZNAME:EDT
DTSTART:20210314T070000
END:DAYLIGHT
BEGIN:STANDARD
TZOFFSETFROM:-0400
TZOFFSETTO:-0500
TZNAME:EST
DTSTART:20211107T060000
END:STANDARD
BEGIN:DAYLIGHT
TZOFFSETFROM:-0500
TZOFFSETTO:-0400
TZNAME:EDT
DTSTART:20220313T070000
END:DAYLIGHT
BEGIN:STANDARD
TZOFFSETFROM:-0400
TZOFFSETTO:-0500
TZNAME:EST
DTSTART:20221106T060000
END:STANDARD
BEGIN:DAYLIGHT
TZOFFSETFROM:-0500
TZOFFSETTO:-0400
TZNAME:EDT
DTSTART:20230312T070000
END:DAYLIGHT
BEGIN:STANDARD
TZOFFSETFROM:-0400
TZOFFSETTO:-0500
TZNAME:EST
DTSTART:20231105T060000
END:STANDARD
END:VTIMEZONE
BEGIN:VEVENT
DTSTART;TZID=America/Detroit:20220113T120000
DTEND;TZID=America/Detroit:20220113T130000
DTSTAMP:20260424T131539
CREATED:20211216T154404Z
LAST-MODIFIED:20211216T204132Z
UID:10000924-1642075200-1642078800@sc4.edu
SUMMARY:Free concert: 'What's a Viola?' with Jessica King
DESCRIPTION:SC4 adjunct music instructor Jessica King takes to the stage for two performances at noon and 7 p.m. as part of the Thursday Concert Series. The event also will be livestreamed at the link below. \n\n\n\nAll concerts are free admission. Seating is limited and tickets are required to reserve seats. Seats are reserved until 15 minutes prior to showtime at which all individuals are admitted until the theatre is at capacity. Reserve tickets online or call (810) 989-5709. \n\n\n\nMasks required inside campus buildings. \n\n\n\nLOCATION: SC4 Fine Arts BuildingLIVESTREAM LINK: sc4.edu/arts
URL:https://sc4.edu/event/free-concert-whats-a-viola-with-jessica-king/
LOCATION:MI
CATEGORIES:Arts,Community,Thursday concert series
END:VEVENT
BEGIN:VEVENT
DTSTART;TZID=America/Detroit:20220113T190000
DTEND;TZID=America/Detroit:20220113T200000
DTSTAMP:20260424T131539
CREATED:20211216T154834Z
LAST-MODIFIED:20211216T204659Z
UID:10000926-1642100400-1642104000@sc4.edu
SUMMARY:Free concert: 'What's a Viola?' with Jessica King
DESCRIPTION:SC4 adjunct music instructor Jessica King takes to the stage for two performances at noon and 7 p.m. as part of the Thursday Concert Series. The event also will be livestreamed at the link below. \n\n\n\nAll concerts are free admission. Seating is limited and tickets are required to reserve seats. Seats are reserved until 15 minutes prior to showtime at which all individuals are admitted until the theatre is at capacity. Reserve tickets online or call (810) 989-5709. \n\n\n\nMasks required inside campus buildings. \n\n\n\nLOCATION: SC4 Fine Arts BuildingLIVESTREAM LINK: sc4.edu/arts
URL:https://sc4.edu/event/free-concert-whats-a-viola-with-jessica-king-2/
LOCATION:MI
CATEGORIES:Arts,Community,Thursday concert series
END:VEVENT
BEGIN:VEVENT
DTSTART;TZID=America/Detroit:20220124T090000
DTEND;TZID=America/Detroit:20220204T190000
DTSTAMP:20260424T131539
CREATED:20211216T205406Z
LAST-MODIFIED:20211216T210416Z
UID:10001061-1643014800-1644001200@sc4.edu
SUMMARY:Beatrice Thornton Student Art Exhibition: Elementary Students' Show
DESCRIPTION:Art teachers from all St. Clair County K-12 schools have been invited to choose student work for the exhibition. The 54th annual elementary show runs from Jan. 24 to Feb. 3. An opening ceremony is 6 to 6:30 p.m. Monday\, Jan. 24\, in the SC4 Fine Arts Theatre. \n\n\n\nLOCATION: SC4 Fine Arts Building GalleryGalleries closed Saturday and Sunday.
URL:https://sc4.edu/event/beatrice-thornton-student-art-exhibition-elementary-students-show/
LOCATION:MI
CATEGORIES:Arts,Community
END:VEVENT
BEGIN:VEVENT
DTSTART;TZID=America/Detroit:20220124T180000
DTEND;TZID=America/Detroit:20220124T183000
DTSTAMP:20260424T131539
CREATED:20211216T205724Z
LAST-MODIFIED:20211216T205726Z
UID:10001062-1643047200-1643049000@sc4.edu
SUMMARY:Beatrice Thornton opening ceremony for elementary school show
DESCRIPTION:Join us for an opening ceremony for the Beatrice Thornton Student Art Exhibition for St. Clair County elementary students. The ceremony will acknowledge the hard work of the art teachers and discuss more about Beatrice Thornton and the creation of the exhibition. The galleries will open after the ceremony to view student work. \n\n\n\nLOCATION: SC4 Fine Arts Theatre
URL:https://sc4.edu/event/beatrice-thornton-opening-ceremony-for-elementary-school-show/
LOCATION:MI
CATEGORIES:Arts,Community
END:VEVENT
END:VCALENDAR