BEGIN:VCALENDAR
VERSION:2.0
PRODID:-//St. Clair County Community College - ECPv6.15.20//NONSGML v1.0//EN
CALSCALE:GREGORIAN
METHOD:PUBLISH
X-WR-CALNAME:St. Clair County Community College
X-ORIGINAL-URL:https://sc4.edu
X-WR-CALDESC:Events for St. Clair County Community College
REFRESH-INTERVAL;VALUE=DURATION:PT1H
X-Robots-Tag:noindex
X-PUBLISHED-TTL:PT1H
BEGIN:VTIMEZONE
TZID:America/Detroit
BEGIN:DAYLIGHT
TZOFFSETFROM:-0500
TZOFFSETTO:-0400
TZNAME:EDT
DTSTART:20210314T070000
END:DAYLIGHT
BEGIN:STANDARD
TZOFFSETFROM:-0400
TZOFFSETTO:-0500
TZNAME:EST
DTSTART:20211107T060000
END:STANDARD
BEGIN:DAYLIGHT
TZOFFSETFROM:-0500
TZOFFSETTO:-0400
TZNAME:EDT
DTSTART:20220313T070000
END:DAYLIGHT
BEGIN:STANDARD
TZOFFSETFROM:-0400
TZOFFSETTO:-0500
TZNAME:EST
DTSTART:20221106T060000
END:STANDARD
BEGIN:DAYLIGHT
TZOFFSETFROM:-0500
TZOFFSETTO:-0400
TZNAME:EDT
DTSTART:20230312T070000
END:DAYLIGHT
BEGIN:STANDARD
TZOFFSETFROM:-0400
TZOFFSETTO:-0500
TZNAME:EST
DTSTART:20231105T060000
END:STANDARD
END:VTIMEZONE
BEGIN:VEVENT
DTSTART;TZID=America/Detroit:20220228T090000
DTEND;TZID=America/Detroit:20220324T163000
DTSTAMP:20260424T095259
CREATED:20211217T151136Z
LAST-MODIFIED:20220228T153205Z
UID:10001071-1646038800-1648139400@sc4.edu
SUMMARY:Gallery show: KUNST: In memory of Alfred Gay
DESCRIPTION:Stop by the SC4 Fine Arts Gallery to view the memorial exhibition of works created by SC4 adjunct visual and performing arts instructor\, Aflred Gay\, who passed away in May 2020. \n\n\n\nLOCATION: SC4 Fine Arts Gallery \n\n\n\nHours: 9 a.m. to 4:30 p.m. Monday through FridaySpecial Saturday hours: 9 a.m. to 4 p.m. March 5 and 19Gallery closed: March 11 and 12
URL:https://sc4.edu/event/gallery-show-kunst-in-memory-of-alfred-gay/
LOCATION:MI
CATEGORIES:Arts,Community
END:VEVENT
BEGIN:VEVENT
DTSTART;TZID=America/Detroit:20220317T120000
DTEND;TZID=America/Detroit:20220317T130000
DTSTAMP:20260424T095259
CREATED:20211217T135449Z
LAST-MODIFIED:20211217T135450Z
UID:10001068-1647518400-1647522000@sc4.edu
SUMMARY:Free concert: Thornetta Davis
DESCRIPTION:Crowned “Detroit’s Queen of the Blues” in 2015\, Thornetta Davis is a multi-talented International Singer and Songwriter from Detroit. Thornetta has been exciting and wowing audiences all over the world. She will perform at noon and 7 p.m. \n\n\n\nAll concerts are free admission. Seating is limited and tickets are required to reserve seats. Seats are reserved by ticket until 15 minutes prior to showtime at which all individuals are admitted until the theatre is at capacity. Reserve tickets online or call (810) 989-5709. \n\n\n\nLOCATION: SC4 Fine Arts Theatre
URL:https://sc4.edu/event/free-concert-thornetta-davis-3/
LOCATION:MI
CATEGORIES:Arts,Community,Thursday concert series
END:VEVENT
BEGIN:VEVENT
DTSTART;TZID=America/Detroit:20220317T190000
DTEND;TZID=America/Detroit:20220317T200000
DTSTAMP:20260424T095259
CREATED:20211217T135628Z
LAST-MODIFIED:20211217T135629Z
UID:10001069-1647543600-1647547200@sc4.edu
SUMMARY:Free concert: Thornetta Davis
DESCRIPTION:Crowned “Detroit’s Queen of the Blues” in 2015\, Thornetta Davis is a multi-talented International Singer and Songwriter from Detroit. Thornetta has been exciting and wowing audiences all over the world. She will perform at noon and 7 p.m. \n\n\n\nAll concerts are free admission. Seating is limited and tickets are required to reserve seats. Seats are reserved by ticket until 15 minutes prior to showtime at which all individuals are admitted until the theatre is at capacity. Reserve tickets online or call (810) 989-5709. \n\n\n\nLOCATION: SC4 Fine Arts Theatre
URL:https://sc4.edu/event/free-concert-thornetta-davis-4/
LOCATION:MI
CATEGORIES:Arts,Community,Thursday concert series
END:VEVENT
END:VCALENDAR