BEGIN:VCALENDAR
VERSION:2.0
PRODID:-//St. Clair County Community College - ECPv6.15.20//NONSGML v1.0//EN
CALSCALE:GREGORIAN
METHOD:PUBLISH
X-WR-CALNAME:St. Clair County Community College
X-ORIGINAL-URL:https://sc4.edu
X-WR-CALDESC:Events for St. Clair County Community College
REFRESH-INTERVAL;VALUE=DURATION:PT1H
X-Robots-Tag:noindex
X-PUBLISHED-TTL:PT1H
BEGIN:VTIMEZONE
TZID:America/Detroit
BEGIN:DAYLIGHT
TZOFFSETFROM:-0500
TZOFFSETTO:-0400
TZNAME:EDT
DTSTART:20210314T070000
END:DAYLIGHT
BEGIN:STANDARD
TZOFFSETFROM:-0400
TZOFFSETTO:-0500
TZNAME:EST
DTSTART:20211107T060000
END:STANDARD
BEGIN:DAYLIGHT
TZOFFSETFROM:-0500
TZOFFSETTO:-0400
TZNAME:EDT
DTSTART:20220313T070000
END:DAYLIGHT
BEGIN:STANDARD
TZOFFSETFROM:-0400
TZOFFSETTO:-0500
TZNAME:EST
DTSTART:20221106T060000
END:STANDARD
BEGIN:DAYLIGHT
TZOFFSETFROM:-0500
TZOFFSETTO:-0400
TZNAME:EDT
DTSTART:20230312T070000
END:DAYLIGHT
BEGIN:STANDARD
TZOFFSETFROM:-0400
TZOFFSETTO:-0500
TZNAME:EST
DTSTART:20231105T060000
END:STANDARD
END:VTIMEZONE
BEGIN:VEVENT
DTSTART;TZID=America/Detroit:20220404T090000
DTEND;TZID=America/Detroit:20220429T163000
DTSTAMP:20260424T113536
CREATED:20211217T151456Z
LAST-MODIFIED:20220318T202406Z
UID:10001070-1649062800-1651249800@sc4.edu
SUMMARY:Gallery show: Patterns Exhibition & Design 2022: Student Portfolio Exhibition
DESCRIPTION:The SC4 Fine Arts Gallery will be filled with original work from our SC4 students.   \n\n\n\nLOCATION: SC4 Fine Arts Gallery
URL:https://sc4.edu/event/gallery-show-patterns-exhibition-design-2022-student-portfolio-exhibition/
LOCATION:MI
CATEGORIES:Arts,Community
END:VEVENT
BEGIN:VEVENT
DTSTART;TZID=America/Detroit:20220407T193000
DTEND;TZID=America/Detroit:20220407T213000
DTSTAMP:20260424T113536
CREATED:20220131T135309Z
LAST-MODIFIED:20220314T183624Z
UID:10001080-1649359800-1649367000@sc4.edu
SUMMARY:Theatre: 'Somebody/Nobody' by Jane Martin
DESCRIPTION:Join us on campus for three nights of a theatrical show performed by the SC4 Players. \n\n\n\nSomebody/Nobodyby Jane MartinDirected by Yasmine Jaffri \n\n\n\nSo you think you want to be famous? So did teen idol “shark-movie” stars Sheena Keener\, the darling of the press\, the obsession of the paparazzi\, and the Goddess of the ‘E! Channel’. But now she can’t stand to be looked at anymore and her Godzilla of an agent is on the warpath. When Sheena ends up on the doorstep of naïve newcomer Loli\, a recent arrival from Flatt\, Kansas\, it’s a wild ride on the road to fame. Sheena is somebody who wants to be a nobody. Loli is a nobody desperate to be a somebody. In this hilarious comedy about Hollywood\, fame and the TMZ\, renowned playwright Jane Martin takes dead aim at our culture of celebrity.” \n\n\n\nPerformances are scheduled for 7:30 p.m. Thursday\, April 7\, Friday\, April 8 and Saturday\, April 9\, in the SC4 Fine Arts Theatre. Seating is limited and tickets are required. Tickets are $10 each and can be purchased in advance online or at the door the night of the performance.  \n\n\n\nLOCATION: SC4 Fine Arts Theatre \n\n\n\nWatch via livestream on Broadway on Demand. Purchase ticket at this link.  \n\n\n\n“Somebody/Nobody” is presented by arrangement with Concord Theatricals on behalf of Samuel French\, Inc. www.concordtheatricals.com.
URL:https://sc4.edu/event/theatre-somebody-nobody/
LOCATION:MI
CATEGORIES:Arts,Community,Theatre
END:VEVENT
BEGIN:VEVENT
DTSTART;TZID=America/Detroit:20220408T193000
DTEND;TZID=America/Detroit:20220408T213000
DTSTAMP:20260424T113536
CREATED:20220131T135507Z
LAST-MODIFIED:20220314T183703Z
UID:10001081-1649446200-1649453400@sc4.edu
SUMMARY:Theatre: 'Somebody/Nobody' by Jane Martin
DESCRIPTION:Join us on campus for three nights of a theatrical show performed by the SC4 Players. \n\n\n\nSomebody/Nobody by Jane MartinDirected by Yasmine Jaffri \n\n\n\nSo you think you want to be famous? So did teen idol “shark-movie” stars Sheena Keener\, the darling of the press\, the obsession of the paparazzi\, and the Goddess of the ‘E! Channel’. But now she can’t stand to be looked at anymore and her Godzilla of an agent is on the warpath. When Sheena ends up on the doorstep of naïve newcomer Loli\, a recent arrival from Flatt\, Kansas\, it’s a wild ride on the road to fame. Sheena is somebody who wants to be a nobody. Loli is a nobody desperate to be a somebody. In this hilarious comedy about Hollywood\, fame and the TMZ\, renowned playwright Jane Martin takes dead aim at our culture of celebrity.” \n\n\n\nPerformances are scheduled for 7:30 p.m. Thursday\, April 7\, Friday\, April 8 and Saturday\, April 9\, in the SC4 Fine Arts Theatre. Seating is limited and tickets are required. Tickets are $10 each and can be purchased in advance online or at the door the night of the performance.  \n\n\n\nLOCATION: SC4 Fine Arts Theatre \n\n\n\nWatch via livestream on Broadway on Demand. Purchase ticket at this link.  \n\n\n\n“Somebody/Nobody” is presented by arrangement with Concord Theatricals on behalf of Samuel French\, Inc. www.concordtheatricals.com.
URL:https://sc4.edu/event/theatre-somebody-nobody-by-jane-martin/
LOCATION:MI
CATEGORIES:Arts,Community,Theatre
END:VEVENT
BEGIN:VEVENT
DTSTART;TZID=America/Detroit:20220409T193000
DTEND;TZID=America/Detroit:20220409T213000
DTSTAMP:20260424T113536
CREATED:20220131T135736Z
LAST-MODIFIED:20220314T183733Z
UID:10001082-1649532600-1649539800@sc4.edu
SUMMARY:Theatre: 'Somebody/Nobody' by Jane Martin
DESCRIPTION:Join us on campus for three nights of a theatrical show performed by the SC4 Players. \n\n\n\nSomebody/Nobody by Jane MartinDirected by Yasmine Jaffri \n\n\n\n“So you think you want to be famous? So did teen idol “shark-movie” stars Sheena Keener\, the darling of the press\, the obsession of the paparazzi\, and the Goddess of the ‘E! Channel’. But now she can’t stand to be looked at anymore and her Godzilla of an agent is on the warpath. When Sheena ends up on the doorstep of naïve newcomer Loli\, a recent arrival from Flatt\, Kansas\, it’s a wild ride on the road to fame. Sheena is somebody who wants to be a nobody. Loli is a nobody desperate to be a somebody. In this hilarious comedy about Hollywood\, fame and the TMZ\, renowned playwright Jane Martin takes dead aim at our culture of celebrity.” \n\n\n\nPerformances are scheduled for 7:30 p.m. Thursday\, April 7\, Friday\, April 8 and Saturday\, April 9\, in the SC4 Fine Arts Theatre. Seating is limited and tickets are required. Tickets are $10 each and can be purchased in advance online or at the door the night of the performance.  \n\n\n\nLOCATION: SC4 Fine Arts Theatre \n\n\n\nWatch via livestream on Broadway on Demand. Purchase ticket at this link. \n\n\n\n“Somebody/Nobody” is presented by arrangement with Concord Theatricals on behalf of Samuel French\, Inc. www.concordtheatricals.com.
URL:https://sc4.edu/event/theatre-somebody-nobody-by-jane-martin-2/
LOCATION:MI
CATEGORIES:Arts,Community,Theatre
END:VEVENT
BEGIN:VEVENT
DTSTART;TZID=America/Detroit:20220414T120000
DTEND;TZID=America/Detroit:20220414T130000
DTSTAMP:20260424T113536
CREATED:20211217T144347Z
LAST-MODIFIED:20211217T144349Z
UID:10001072-1649937600-1649941200@sc4.edu
SUMMARY:Free concert: Devin Scillian and Arizona Son
DESCRIPTION:Winner of the prestigious Detroit Music Award for Best Country Performer\, Devin Scillian and his band Arizona Son have been entertaining audiences for a decade. Their music runs the gamut from traditional country to bluegrass to southern rock. Devin’s original songs have led to four albums and a string of singles that have become fan favorites. His music has been a hit on the country charts in Europe\, even hitting number one in Denmark. Performances are scheduled for noon and 7 p.m. in the SC4 Fine Arts Theatre.  \n\n\n\nAll concerts are free admission. Seating is limited and tickets are required to reserve seats. Seats are reserved by ticket until 15 minutes prior to showtime at which all individuals are admitted until the theatre is at capacity. Reserve tickets online or call (810) 989-5709. \n\n\n\nLOCATION: SC4 Fine Arts Theatre
URL:https://sc4.edu/event/free-concert-devin-scillian-and-arizona-son/
LOCATION:MI
CATEGORIES:Arts,Community,Thursday concert series
END:VEVENT
BEGIN:VEVENT
DTSTART;TZID=America/Detroit:20220414T190000
DTEND;TZID=America/Detroit:20220414T200000
DTSTAMP:20260424T113536
CREATED:20211217T144518Z
LAST-MODIFIED:20211217T144520Z
UID:10001073-1649962800-1649966400@sc4.edu
SUMMARY:Free concert: Devin Scillian & Arizona Son
DESCRIPTION:Winner of the prestigious Detroit Music Award for Best Country Performer\, Devin Scillian and his band Arizona Son have been entertaining audiences for a decade. Their music runs the gamut from traditional country to bluegrass to southern rock. Devin’s original songs have led to four albums and a string of singles that have become fan favorites. His music has been a hit on the country charts in Europe\, even hitting number one in Denmark. Performances are scheduled for noon and 7 p.m. in the SC4 Fine Arts Theatre. \n\n\n\nAll concerts are free admission. Seating is limited and tickets are required to reserve seats. Seats are reserved by ticket until 15 minutes prior to showtime at which all individuals are admitted until the theatre is at capacity. Reserve tickets online or call (810) 989-5709.
URL:https://sc4.edu/event/free-concert-devin-scillian-arizona-son/
LOCATION:MI
CATEGORIES:Arts,Community,Thursday concert series
END:VEVENT
BEGIN:VEVENT
DTSTART;TZID=America/Detroit:20220423T190000
DTEND;TZID=America/Detroit:20220423T210000
DTSTAMP:20260424T113536
CREATED:20211216T212007Z
LAST-MODIFIED:20220414T183611Z
UID:10001066-1650740400-1650747600@sc4.edu
SUMMARY:SC4 Symphonic Band Concert 'It's a Big World'
DESCRIPTION:The college’s symphonic band is comprised of a diverse group of musicians playing a variety of music guaranteed to please. Join us as conductor Erick J. Senkmajer leads the bands in concert. \n\n\n\nAdmission: $10 adults; free admission as available at the door for SC4 students with Skippers OneCard. Tickets can be purchased in advance online or at the door. \n\n\n\nLOCATION: SC4 Fine Arts Theatre
URL:https://sc4.edu/event/sc4-symphonic-band-concert-2/
LOCATION:MI
CATEGORIES:Arts,Community
END:VEVENT
END:VCALENDAR