BEGIN:VCALENDAR
VERSION:2.0
PRODID:-//St. Clair County Community College - ECPv6.15.20//NONSGML v1.0//EN
CALSCALE:GREGORIAN
METHOD:PUBLISH
X-ORIGINAL-URL:https://sc4.edu
X-WR-CALDESC:Events for St. Clair County Community College
REFRESH-INTERVAL;VALUE=DURATION:PT1H
X-Robots-Tag:noindex
X-PUBLISHED-TTL:PT1H
BEGIN:VTIMEZONE
TZID:America/Detroit
BEGIN:DAYLIGHT
TZOFFSETFROM:-0500
TZOFFSETTO:-0400
TZNAME:EDT
DTSTART:20210314T070000
END:DAYLIGHT
BEGIN:STANDARD
TZOFFSETFROM:-0400
TZOFFSETTO:-0500
TZNAME:EST
DTSTART:20211107T060000
END:STANDARD
BEGIN:DAYLIGHT
TZOFFSETFROM:-0500
TZOFFSETTO:-0400
TZNAME:EDT
DTSTART:20220313T070000
END:DAYLIGHT
BEGIN:STANDARD
TZOFFSETFROM:-0400
TZOFFSETTO:-0500
TZNAME:EST
DTSTART:20221106T060000
END:STANDARD
BEGIN:DAYLIGHT
TZOFFSETFROM:-0500
TZOFFSETTO:-0400
TZNAME:EDT
DTSTART:20230312T070000
END:DAYLIGHT
BEGIN:STANDARD
TZOFFSETFROM:-0400
TZOFFSETTO:-0500
TZNAME:EST
DTSTART:20231105T060000
END:STANDARD
END:VTIMEZONE
BEGIN:VEVENT
DTSTART;TZID=America/Detroit:20221003T090000
DTEND;TZID=America/Detroit:20221007T163000
DTSTAMP:20260423T211602
CREATED:20220818T211910Z
LAST-MODIFIED:20220818T211911Z
UID:10001107-1664787600-1665160200@sc4.edu
SUMMARY:Gallery show: Collectively Independent VIII by SC4 Arts Faculty
DESCRIPTION:This showcase features a wide variety of mediums and subject matter. Each piece is an original work of art from the arts faculty at SC4. \n\n\n\nLocation: Fine Arts Building GalleryHours: 9 a.m. to 4:30 p.m. Monday to Friday
URL:https://sc4.edu/event/gallery-show-collectively-independent-viii-by-sc4-arts-faculty-2/
LOCATION:MI
CATEGORIES:Arts,Community
END:VEVENT
BEGIN:VEVENT
DTSTART;TZID=America/Detroit:20221006T120000
DTEND;TZID=America/Detroit:20221006T130000
DTSTAMP:20260423T211602
CREATED:20220818T205411Z
LAST-MODIFIED:20220929T185359Z
UID:10001099-1665057600-1665061200@sc4.edu
SUMMARY:Concert: Kanola Band
DESCRIPTION:Kanola Band brings together some of the most experienced and diverse musicians in the midwest US jazz scene to pay tribute to the great music and heritage of New Orleans. Dipping into the city’s diverse musical history including swinging dixieland\, groovin’ zydeco\, soulful funk to blasting brass band second lines\, audiences of all ages will leave feeling just a bit happier than when they came. Bring your dancing shoes\, leave your worries behind and be ready for some fun\, because Kanola Band is always a good time! \n\n\n\nAll concerts are free admission. Seating is limited and tickets are required to reserve seats. Seats are reserved by ticket until 15 minutes prior to showtime at which all individuals are admitted until the theatre is at capacity.  \n\n\n\nReserve your free ticket online or call (810) 989-5709. \n\n\n\nLocation: SC4 Fine Arts Theatre
URL:https://sc4.edu/event/concert-benje-daneman-kanola-band/
LOCATION:MI
CATEGORIES:Arts,Community,Thursday concert series
END:VEVENT
BEGIN:VEVENT
DTSTART;TZID=America/Detroit:20221006T190000
DTEND;TZID=America/Detroit:20221006T200000
DTSTAMP:20260423T211602
CREATED:20220818T205543Z
LAST-MODIFIED:20220929T185259Z
UID:10001100-1665082800-1665086400@sc4.edu
SUMMARY:Concert: Kanola Band
DESCRIPTION:Kanola Band brings together some of the most experienced and diverse musicians in the midwest US jazz scene to pay tribute to the great music and heritage of New Orleans. Dipping into the city’s diverse musical history including swinging dixieland\, groovin’ zydeco\, soulful funk to blasting brass band second lines\, audiences of all ages will leave feeling just a bit happier than when they came. Bring your dancing shoes\, leave your worries behind and be ready for some fun\, because Kanola Band is always a good time! \n\n\n\nAll concerts are free admission. Seating is limited and tickets are required to reserve seats. Seats are reserved by ticket until 15 minutes prior to showtime at which all individuals are admitted until the theatre is at capacity.  \n\n\n\nReserve your free ticket online or call (810) 989-5709. \n\n\n\nLocation: SC4 Fine Arts Theatre
URL:https://sc4.edu/event/concert-benje-daneman-kanola-band-2/
LOCATION:MI
CATEGORIES:Arts,Community,Thursday concert series
END:VEVENT
BEGIN:VEVENT
DTSTART;TZID=America/Detroit:20221010T090000
DTEND;TZID=America/Detroit:20221014T163000
DTSTAMP:20260423T211602
CREATED:20220818T212024Z
LAST-MODIFIED:20220818T212026Z
UID:10001108-1665392400-1665765000@sc4.edu
SUMMARY:Gallery show: Collectively Independent VIII by SC4 Arts Faculty
DESCRIPTION:This showcase features a wide variety of mediums and subject matter. Each piece is an original work of art from the arts faculty at SC4. \n\n\n\nLocation: Fine Arts Building GalleryHours: 9 a.m. to 4:30 p.m. Monday to Friday
URL:https://sc4.edu/event/gallery-show-collectively-independent-viii-by-sc4-arts-faculty-3/
LOCATION:MI
CATEGORIES:Arts,Community
END:VEVENT
BEGIN:VEVENT
DTSTART;TZID=America/Detroit:20221017T090000
DTEND;TZID=America/Detroit:20221021T163000
DTSTAMP:20260423T211602
CREATED:20220818T213448Z
LAST-MODIFIED:20220818T213449Z
UID:10001109-1665997200-1666369800@sc4.edu
SUMMARY:Gallery show: Collectively Independent VIII by SC4 Arts Faculty
DESCRIPTION:This showcase features a wide variety of mediums and subject matter. Each piece is an original work of art from the arts faculty at SC4. \n\n\n\nLocation: Fine Arts Building GalleryHours: 9 a.m. to 4:30 p.m. Monday to Friday
URL:https://sc4.edu/event/gallery-show-collectively-independent-viii-by-sc4-arts-faculty-4/
LOCATION:MI
CATEGORIES:Arts,Community
END:VEVENT
BEGIN:VEVENT
DTSTART;TZID=America/Detroit:20221022T190000
DTEND;TZID=America/Detroit:20221022T210000
DTSTAMP:20260423T211602
CREATED:20220818T213726Z
LAST-MODIFIED:20221006T150241Z
UID:10001110-1666465200-1666472400@sc4.edu
SUMMARY:SC4 Bands Concert: Patriotic
DESCRIPTION:The college’s symphonic band is comprised of a diverse group of musicians playing a variety of music guaranteed to please. Join us as conductor Erick J. Senkmajer leads the bands in concert. \n\n\n\nAdmission: $10 adults; free admission as available at the door for SC4 students with Skippers OneCard. Tickets can be purchased at the door or online. \n\n\n\nLOCATION: SC4 Fine Arts Theatre
URL:https://sc4.edu/event/sc4-bands-concert-patriotic/
LOCATION:MI
CATEGORIES:Arts,Community
END:VEVENT
END:VCALENDAR