BEGIN:VCALENDAR
VERSION:2.0
PRODID:-//St. Clair County Community College - ECPv6.15.20//NONSGML v1.0//EN
CALSCALE:GREGORIAN
METHOD:PUBLISH
X-WR-CALNAME:St. Clair County Community College
X-ORIGINAL-URL:https://sc4.edu
X-WR-CALDESC:Events for St. Clair County Community College
REFRESH-INTERVAL;VALUE=DURATION:PT1H
X-Robots-Tag:noindex
X-PUBLISHED-TTL:PT1H
BEGIN:VTIMEZONE
TZID:America/Detroit
BEGIN:DAYLIGHT
TZOFFSETFROM:-0500
TZOFFSETTO:-0400
TZNAME:EDT
DTSTART:20220313T070000
END:DAYLIGHT
BEGIN:STANDARD
TZOFFSETFROM:-0400
TZOFFSETTO:-0500
TZNAME:EST
DTSTART:20221106T060000
END:STANDARD
BEGIN:DAYLIGHT
TZOFFSETFROM:-0500
TZOFFSETTO:-0400
TZNAME:EDT
DTSTART:20230312T070000
END:DAYLIGHT
BEGIN:STANDARD
TZOFFSETFROM:-0400
TZOFFSETTO:-0500
TZNAME:EST
DTSTART:20231105T060000
END:STANDARD
BEGIN:DAYLIGHT
TZOFFSETFROM:-0500
TZOFFSETTO:-0400
TZNAME:EDT
DTSTART:20240310T070000
END:DAYLIGHT
BEGIN:STANDARD
TZOFFSETFROM:-0400
TZOFFSETTO:-0500
TZNAME:EST
DTSTART:20241103T060000
END:STANDARD
END:VTIMEZONE
BEGIN:VEVENT
DTSTART;TZID=America/Detroit:20230123T090000
DTEND;TZID=America/Detroit:20230201T190000
DTSTAMP:20260423T150048
CREATED:20221228T180500Z
LAST-MODIFIED:20221228T180501Z
UID:10001021-1674464400-1675278000@sc4.edu
SUMMARY:Beatrice Thornton Student Art Exhibition: Elementary Students’ Show
DESCRIPTION:Art teachers from all St. Clair County K-12 schools have been invited to choose student work for the exhibition. The 55th annual elementary show runs from Jan. 23 to Feb. 1. An opening ceremony is 6 to 6:30 p.m. Monday\, Jan. 23\, in the SC4 Fine Arts Theatre. \n\n\n\nLOCATION: SC4 Fine Arts Building GalleryGalleries closed Saturday and Sunday.
URL:https://sc4.edu/event/beatrice-thornton-student-art-exhibition-elementary-students-show-2/
LOCATION:MI
CATEGORIES:Arts,Community
END:VEVENT
BEGIN:VEVENT
DTSTART;TZID=America/Detroit:20230209T120000
DTEND;TZID=America/Detroit:20230209T130000
DTSTAMP:20260423T150048
CREATED:20221202T190608Z
LAST-MODIFIED:20221202T190609Z
UID:10001153-1675944000-1675947600@sc4.edu
SUMMARY:Concert: Dave Bennett
DESCRIPTION:Dave Bennett doesn’t fit the mold. \n\n\n\nFor starters\, you don’t find many jazz clarinet players who name Alice Cooper\, Stevie Ray Vaughan\, and Chris Isaak among their influences. You won’t find many musicians who are equally conversant with the music of Benny Goodman (the “King of Swing”) and Roy Orbison (“The Soul of Rock and Roll”). In fact\, you may not find even one other clarinet virtuoso who breaks from his Swing Era repertoire to sing rockabilly hits while accompanying himself at the piano or electric guitar.  \n\n\n\nIn the early days of jazz\, the clarinet joined with trumpet and trombone to create the music’s signature sound\, and it ruled the roost in the Swing Era\, when jazz was America’s popular music and dance- party soundtrack. If anyone can return the clarinet to its heyday\, it’s Dave Bennett\, who fuses serious jazz improvisation with a host of modern pop influences. \n\n\n\nAll concerts are free admission. Seating is limited and tickets are required to reserve seats. Seats are reserved by ticket until 15 minutes prior to showtime at which all individuals are admitted until the theatre is at capacity. \n\n\n\nReserve your free ticket online or call (810) 989-5709. \n\n\n\nLocation: SC4 Fine Arts Theatre
URL:https://sc4.edu/event/concert-dave-bennett/
LOCATION:MI
CATEGORIES:Arts,Community,Thursday concert series
END:VEVENT
BEGIN:VEVENT
DTSTART;TZID=America/Detroit:20230209T190000
DTEND;TZID=America/Detroit:20230209T200000
DTSTAMP:20260423T150048
CREATED:20221202T190726Z
LAST-MODIFIED:20221202T190727Z
UID:10001154-1675969200-1675972800@sc4.edu
SUMMARY:Concert: Dave Bennett
DESCRIPTION:Dave Bennett doesn’t fit the mold. \n\n\n\nFor starters\, you don’t find many jazz clarinet players who name Alice Cooper\, Stevie Ray Vaughan\, and Chris Isaak among their influences. You won’t find many musicians who are equally conversant with the music of Benny Goodman (the “King of Swing”) and Roy Orbison (“The Soul of Rock and Roll”). In fact\, you may not find even one other clarinet virtuoso who breaks from his Swing Era repertoire to sing rockabilly hits while accompanying himself at the piano or electric guitar.  \n\n\n\nIn the early days of jazz\, the clarinet joined with trumpet and trombone to create the music’s signature sound\, and it ruled the roost in the Swing Era\, when jazz was America’s popular music and dance- party soundtrack. If anyone can return the clarinet to its heyday\, it’s Dave Bennett\, who fuses serious jazz improvisation with a host of modern pop influences. \n\n\n\nAll concerts are free admission. Seating is limited and tickets are required to reserve seats. Seats are reserved by ticket until 15 minutes prior to showtime at which all individuals are admitted until the theatre is at capacity. \n\n\n\nReserve your free ticket online or call (810) 989-5709. \n\n\n\nLocation: SC4 Fine Arts Theatre
URL:https://sc4.edu/event/concert-dave-bennett-2/
LOCATION:MI
CATEGORIES:Arts,Community,Thursday concert series
END:VEVENT
BEGIN:VEVENT
DTSTART;TZID=America/Detroit:20230213T090000
DTEND;TZID=America/Detroit:20230222T190000
DTSTAMP:20260423T150048
CREATED:20221228T180701Z
LAST-MODIFIED:20221228T180704Z
UID:10001022-1676278800-1677092400@sc4.edu
SUMMARY:Beatrice Thornton Art Exhibition: Middle and High School Show
DESCRIPTION:Art teachers from all St. Clair County K-12 schools have been invited to choose student work for the exhibition. The 55th annual middle and high school show runs from Feb. 13 to 22. An opening ceremony is 6 to 6:30 p.m. Monday\, Feb. 13\, in the SC4 Fine Arts Theatre. \n\n\n\nLOCATION: SC4 Fine Arts Building GalleryFine Arts Building will be closed Friday\, Feb. 18.Galleries are closed Saturday and Sunday.
URL:https://sc4.edu/event/beatrice-thornton-art-exhibition-middle-and-high-school-show/
LOCATION:MI
CATEGORIES:Arts,Community
END:VEVENT
BEGIN:VEVENT
DTSTART;TZID=America/Detroit:20230225T190000
DTEND;TZID=America/Detroit:20230225T203000
DTSTAMP:20260423T150048
CREATED:20221202T194234Z
LAST-MODIFIED:20230201T141452Z
UID:10001158-1677351600-1677357000@sc4.edu
SUMMARY:SC4 Bands Winter Concert
DESCRIPTION:The college’s symphonic band is comprised of a diverse group of musicians playing a variety of music guaranteed to please. Join us as conductor Erick J. Senkmajer leads the bands in concert. \n\n\n\nAdmission: $10 adults; free admission as available at the door for SC4 students\, faculty and staff with Skippers OneCard. Tickets can be purchased at the door or online. \n\n\n\nLOCATION: SC4 Fine Arts Theatre
URL:https://sc4.edu/event/sc4-bands-concert-fire-wind-and-earth/
LOCATION:MI
CATEGORIES:Arts,Community
END:VEVENT
END:VCALENDAR