BEGIN:VCALENDAR
VERSION:2.0
PRODID:-//St. Clair County Community College - ECPv6.15.20//NONSGML v1.0//EN
CALSCALE:GREGORIAN
METHOD:PUBLISH
X-WR-CALNAME:St. Clair County Community College
X-ORIGINAL-URL:https://sc4.edu
X-WR-CALDESC:Events for St. Clair County Community College
REFRESH-INTERVAL;VALUE=DURATION:PT1H
X-Robots-Tag:noindex
X-PUBLISHED-TTL:PT1H
BEGIN:VTIMEZONE
TZID:America/Detroit
BEGIN:DAYLIGHT
TZOFFSETFROM:-0500
TZOFFSETTO:-0400
TZNAME:EDT
DTSTART:20220313T070000
END:DAYLIGHT
BEGIN:STANDARD
TZOFFSETFROM:-0400
TZOFFSETTO:-0500
TZNAME:EST
DTSTART:20221106T060000
END:STANDARD
BEGIN:DAYLIGHT
TZOFFSETFROM:-0500
TZOFFSETTO:-0400
TZNAME:EDT
DTSTART:20230312T070000
END:DAYLIGHT
BEGIN:STANDARD
TZOFFSETFROM:-0400
TZOFFSETTO:-0500
TZNAME:EST
DTSTART:20231105T060000
END:STANDARD
BEGIN:DAYLIGHT
TZOFFSETFROM:-0500
TZOFFSETTO:-0400
TZNAME:EDT
DTSTART:20240310T070000
END:DAYLIGHT
BEGIN:STANDARD
TZOFFSETFROM:-0400
TZOFFSETTO:-0500
TZNAME:EST
DTSTART:20241103T060000
END:STANDARD
END:VTIMEZONE
BEGIN:VEVENT
DTSTART;TZID=America/Detroit:20230316T190000
DTEND;TZID=America/Detroit:20230316T200000
DTSTAMP:20260423T133949
CREATED:20221202T191646Z
LAST-MODIFIED:20230215T190459Z
UID:10001155-1678993200-1678996800@sc4.edu
SUMMARY:Concert: Detroit Youth Choir
DESCRIPTION:THIS EVENT IS SOLD OUT. Watch a livestream at https://sc4.edu/campus-life/arts/arts-live \n\n\n\nDon’t miss the DYC as they light up the SC4 stage for one performance only! They were the American’s Got Talent Season 14 runner-up and current All-Star golden buzzer-winning group. \n\n\n\nThe mission of the Detroit Youth Choir is to offer youth in the Metropolitan Detroit area a world-class performing arts experience that develops their creative skills and talents through music education\, dance and theatrical arts. \n\n\n\nJoin us for a world-class performing arts experience. \n\n\n\nAll concerts are free admission. Seating is limited and tickets are required to reserve seats. Seats are reserved by ticket until 15 minutes prior to showtime at which all individuals are admitted until the theatre is at capacity. \n\n\n\nReserve your free ticket online or call (810) 989-5709. \n\n\n\nLocation: SC4 Fine Arts Theatre \n\n\n\nNote: 7 p.m. performance only
URL:https://sc4.edu/event/concert-detroit-youth-choir/
LOCATION:MI
CATEGORIES:Arts,Community,Thursday concert series
END:VEVENT
END:VCALENDAR