BEGIN:VCALENDAR
VERSION:2.0
PRODID:-//St. Clair County Community College - ECPv6.15.20//NONSGML v1.0//EN
CALSCALE:GREGORIAN
METHOD:PUBLISH
X-ORIGINAL-URL:https://sc4.edu
X-WR-CALDESC:Events for St. Clair County Community College
REFRESH-INTERVAL;VALUE=DURATION:PT1H
X-Robots-Tag:noindex
X-PUBLISHED-TTL:PT1H
BEGIN:VTIMEZONE
TZID:America/Detroit
BEGIN:DAYLIGHT
TZOFFSETFROM:-0500
TZOFFSETTO:-0400
TZNAME:EDT
DTSTART:20230312T070000
END:DAYLIGHT
BEGIN:STANDARD
TZOFFSETFROM:-0400
TZOFFSETTO:-0500
TZNAME:EST
DTSTART:20231105T060000
END:STANDARD
BEGIN:DAYLIGHT
TZOFFSETFROM:-0500
TZOFFSETTO:-0400
TZNAME:EDT
DTSTART:20240310T070000
END:DAYLIGHT
BEGIN:STANDARD
TZOFFSETFROM:-0400
TZOFFSETTO:-0500
TZNAME:EST
DTSTART:20241103T060000
END:STANDARD
BEGIN:DAYLIGHT
TZOFFSETFROM:-0500
TZOFFSETTO:-0400
TZNAME:EDT
DTSTART:20250309T070000
END:DAYLIGHT
BEGIN:STANDARD
TZOFFSETFROM:-0400
TZOFFSETTO:-0500
TZNAME:EST
DTSTART:20251102T060000
END:STANDARD
END:VTIMEZONE
BEGIN:VEVENT
DTSTART;TZID=America/Detroit:20240118T120000
DTEND;TZID=America/Detroit:20240118T130000
DTSTAMP:20260420T034502
CREATED:20231206T170222Z
LAST-MODIFIED:20240104T195906Z
UID:10001232-1705579200-1705582800@sc4.edu
SUMMARY:Free Concert: Motown group Sound Proof
DESCRIPTION:Join us for performances by Motown group Sound Proof. \n\n\n\nPerformances are scheduled from noon to 1 p.m. and 5 to 6:30 p.m. in the SC4 Fine Arts Theatre. \n\n\n\nSeats are general admission and no reservations are needed. Doors open 15 minutes prior to showtime.
URL:https://sc4.edu/event/free-concert-jazz-motown-group-sound-proof/
LOCATION:MI
CATEGORIES:Arts,Thursday concert series
END:VEVENT
BEGIN:VEVENT
DTSTART;TZID=America/Detroit:20240118T170000
DTEND;TZID=America/Detroit:20240118T183000
DTSTAMP:20260420T034502
CREATED:20231206T170352Z
LAST-MODIFIED:20240104T195836Z
UID:10001233-1705597200-1705602600@sc4.edu
SUMMARY:Free Concert: Motown group Sound Proof
DESCRIPTION:Join us for performances by Motown group Sound Proof. \n\n\n\nPerformances are scheduled from noon to 1 p.m. and 5 to 6:30 p.m. in the SC4 Fine Arts Theatre. \n\n\n\nSeats are general admission and no reservations are needed. Doors open 15 minutes prior to showtime.
URL:https://sc4.edu/event/free-concert-jazz-motown-group-sound-proof-2/
LOCATION:MI
CATEGORIES:Arts,Campus life,Community,Thursday concert series
END:VEVENT
BEGIN:VEVENT
DTSTART;TZID=America/Detroit:20240122T090000
DTEND;TZID=America/Detroit:20240202T190000
DTSTAMP:20260420T034502
CREATED:20240110T020731Z
LAST-MODIFIED:20240122T225034Z
UID:10001243-1705914000-1706900400@sc4.edu
SUMMARY:Beatrice Thornton Student Art Exhibition: Elementary Students’ Show
DESCRIPTION:Art teachers from all St. Clair County K-12 schools have been invited to choose student work for the exhibition. The 56th annual elementary show runs from Jan. 22 to Feb. 2. \n\n\n\n\nGallery Hours: \n\nMonday thru Thursday – 9 a.m. to 7 p.m.\n\n\n\nFriday – 9 a.m. to 4 p.m.\n\n\n\n\n\n\nLOCATION: SC4 Fine Arts Building GalleryGalleries closed Saturday and Sunday.
URL:https://sc4.edu/event/beatrice-thornton-student-art-exhibition-elementary-students-show-3/
LOCATION:MI
CATEGORIES:Arts,Community
END:VEVENT
END:VCALENDAR