BEGIN:VCALENDAR
VERSION:2.0
PRODID:-//St. Clair County Community College - ECPv6.15.20//NONSGML v1.0//EN
CALSCALE:GREGORIAN
METHOD:PUBLISH
X-WR-CALNAME:St. Clair County Community College
X-ORIGINAL-URL:https://sc4.edu
X-WR-CALDESC:Events for St. Clair County Community College
REFRESH-INTERVAL;VALUE=DURATION:PT1H
X-Robots-Tag:noindex
X-PUBLISHED-TTL:PT1H
BEGIN:VTIMEZONE
TZID:America/Detroit
BEGIN:DAYLIGHT
TZOFFSETFROM:-0500
TZOFFSETTO:-0400
TZNAME:EDT
DTSTART:20230312T070000
END:DAYLIGHT
BEGIN:STANDARD
TZOFFSETFROM:-0400
TZOFFSETTO:-0500
TZNAME:EST
DTSTART:20231105T060000
END:STANDARD
BEGIN:DAYLIGHT
TZOFFSETFROM:-0500
TZOFFSETTO:-0400
TZNAME:EDT
DTSTART:20240310T070000
END:DAYLIGHT
BEGIN:STANDARD
TZOFFSETFROM:-0400
TZOFFSETTO:-0500
TZNAME:EST
DTSTART:20241103T060000
END:STANDARD
BEGIN:DAYLIGHT
TZOFFSETFROM:-0500
TZOFFSETTO:-0400
TZNAME:EDT
DTSTART:20250309T070000
END:DAYLIGHT
BEGIN:STANDARD
TZOFFSETFROM:-0400
TZOFFSETTO:-0500
TZNAME:EST
DTSTART:20251102T060000
END:STANDARD
END:VTIMEZONE
BEGIN:VEVENT
DTSTART;TZID=America/Detroit:20240912T120000
DTEND;TZID=America/Detroit:20240912T130000
DTSTAMP:20260419T141159
CREATED:20240813T012109Z
LAST-MODIFIED:20240813T012122Z
UID:10001769-1726142400-1726146000@sc4.edu
SUMMARY:Free Concert: Lexington Bach Quartet - Classical
DESCRIPTION:SC4 is happy to feature standout performers from the Lexington Bach Festival\, a weeklong event bringing the music of Johann Sebastian Bach and other composers influenced by Bach to our community. The quartet will kick off our Free Noon and Night Concert Series by performing classic compositions. \n\n\n\nPerformances are scheduled from noon to 1 p.m. and 7 p.m. to 8:30 p.m. in the SC4 Fine Arts Theatre. \n\n\n\nSeats are general admission\, and no reservations are needed. Doors open 15 minutes prior to showtime.
URL:https://sc4.edu/event/free-concert-lexington-bach-quartet-classical/
LOCATION:MI
CATEGORIES:Arts,Thursday concert series
END:VEVENT
BEGIN:VEVENT
DTSTART;TZID=America/Detroit:20240912T190000
DTEND;TZID=America/Detroit:20240912T203000
DTSTAMP:20260419T141159
CREATED:20240813T012403Z
LAST-MODIFIED:20240813T012416Z
UID:10001770-1726167600-1726173000@sc4.edu
SUMMARY:Free Concert: Lexington Bach Quartet - Classical
DESCRIPTION:SC4 is happy to feature standout performers from the Lexington Bach Festival\, a weeklong event bringing the music of Johann Sebastian Bach and other composers influenced by Bach to our community. The quartet will kick off our Free Noon and Night Concert Series by performing classic compositions. \n\n\n\nPerformances are scheduled from noon to 1 p.m. and 7 p.m. to 8:30 p.m. in the SC4 Fine Arts Theatre. \n\n\n\nSeats are general admission\, and no reservations are needed. Doors open 15 minutes prior to showtime.
URL:https://sc4.edu/event/free-concert-lexington-bach-quartet-classical-2/
LOCATION:MI
CATEGORIES:Arts,Thursday concert series
END:VEVENT
BEGIN:VEVENT
DTSTART;TZID=America/Detroit:20240918T170000
DTEND;TZID=America/Detroit:20240918T190000
DTSTAMP:20260419T141159
CREATED:20240916T155400Z
LAST-MODIFIED:20240916T155402Z
UID:10001833-1726678800-1726686000@sc4.edu
SUMMARY:MLK Casting Call
DESCRIPTION:Auditions for the 2025 Martin Luther King Jr. Production will occur in the Fine Arts Theater.
URL:https://sc4.edu/event/mlk-casting-call/
LOCATION:SC4 Fine Arts Theatre\, 601 Erie Street\, Port Huron\, MI\, 48060\, United States
CATEGORIES:Arts,Community,Diversity Equity Inclusion,Theatre
END:VEVENT
BEGIN:VEVENT
DTSTART;TZID=America/Detroit:20240920T170000
DTEND;TZID=America/Detroit:20240920T190000
DTSTAMP:20260419T141159
CREATED:20240916T155459Z
LAST-MODIFIED:20240916T155502Z
UID:10001834-1726851600-1726858800@sc4.edu
SUMMARY:MLK Casting Call
DESCRIPTION:Auditions for the 2025 Martin Luther King Jr. Production will occur in the Fine Arts Theater.
URL:https://sc4.edu/event/mlk-casting-call-2/
LOCATION:SC4 Fine Arts Theatre\, 601 Erie Street\, Port Huron\, MI\, 48060\, United States
CATEGORIES:Arts,Community,Diversity Equity Inclusion,Theatre
END:VEVENT
BEGIN:VEVENT
DTSTART;TZID=America/Detroit:20240923T090000
DTEND;TZID=America/Detroit:20241025T190000
DTSTAMP:20260419T141159
CREATED:20240919T231802Z
LAST-MODIFIED:20240919T231804Z
UID:10001836-1727082000-1729882800@sc4.edu
SUMMARY:Collectively Independent by SC4 Art Faculty
DESCRIPTION:View original works created by SC4 art faculty. \n\n\n\nParticipating faculty: Jen Barker\, Sarah Flatter\, Jacqueline Mahannah\, Mark Rummel\, Elizabeth Sevick\, Jason Palmer\, Danny VanZandt and Jacob Vinson \n\n\n\nGallery hours: M-F 9am-7pm
URL:https://sc4.edu/event/collectively-independent-by-sc4-art-faculty/
LOCATION:SC4 Fine Arts Gallery\, 601 Erie Street\, Port Huron\, Michigan\, 48060\, United States
CATEGORIES:Arts
END:VEVENT
END:VCALENDAR