BEGIN:VCALENDAR
VERSION:2.0
PRODID:-//St. Clair County Community College - ECPv6.15.20//NONSGML v1.0//EN
CALSCALE:GREGORIAN
METHOD:PUBLISH
X-WR-CALNAME:St. Clair County Community College
X-ORIGINAL-URL:https://sc4.edu
X-WR-CALDESC:Events for St. Clair County Community College
REFRESH-INTERVAL;VALUE=DURATION:PT1H
X-Robots-Tag:noindex
X-PUBLISHED-TTL:PT1H
BEGIN:VTIMEZONE
TZID:America/Detroit
BEGIN:DAYLIGHT
TZOFFSETFROM:-0500
TZOFFSETTO:-0400
TZNAME:EDT
DTSTART:20200308T070000
END:DAYLIGHT
BEGIN:STANDARD
TZOFFSETFROM:-0400
TZOFFSETTO:-0500
TZNAME:EST
DTSTART:20201101T060000
END:STANDARD
BEGIN:DAYLIGHT
TZOFFSETFROM:-0500
TZOFFSETTO:-0400
TZNAME:EDT
DTSTART:20210314T070000
END:DAYLIGHT
BEGIN:STANDARD
TZOFFSETFROM:-0400
TZOFFSETTO:-0500
TZNAME:EST
DTSTART:20211107T060000
END:STANDARD
BEGIN:DAYLIGHT
TZOFFSETFROM:-0500
TZOFFSETTO:-0400
TZNAME:EDT
DTSTART:20220313T070000
END:DAYLIGHT
BEGIN:STANDARD
TZOFFSETFROM:-0400
TZOFFSETTO:-0500
TZNAME:EST
DTSTART:20221106T060000
END:STANDARD
END:VTIMEZONE
BEGIN:VEVENT
DTSTART;TZID=America/Detroit:20210920T090000
DTEND;TZID=America/Detroit:20211015T163000
DTSTAMP:20260424T224710
CREATED:20210901T151219Z
LAST-MODIFIED:20211004T132015Z
UID:10001010-1632128400-1634315400@sc4.edu
SUMMARY:Gallery show: Collectively Independent VIII
DESCRIPTION:This showcase features a wide variety of mediums and subject matter. Each piece is an original work of art from the arts faculty at SC4.Location: Fine Arts Building Gallery Hours: 9 a.m. to 4:30 p.m. Monday to Friday \n\n\n\nMasks required inside campus buildings.
URL:https://sc4.edu/event/gallery-show-collectively-independent-viii/
LOCATION:MI
CATEGORIES:Arts,Community
END:VEVENT
BEGIN:VEVENT
DTSTART;TZID=America/Detroit:20211007T120000
DTEND;TZID=America/Detroit:20211007T130000
DTSTAMP:20260424T224710
CREATED:20210901T143846Z
LAST-MODIFIED:20211021T125817Z
UID:10001004-1633608000-1633611600@sc4.edu
SUMMARY:Free concert: David Fisher\, pianist
DESCRIPTION:Pianist and SC4 instructor David M. Fisher will perform at noon and 7 p.m. as part of the Thursday Concert Series. Follow along in a 200-year journey where David Fisher reveals the subtleties of Schubert’s first set of Four Impromptus and four other composers. \n\n\n\nAll concerts are free admission. Seating is limited and tickets are required to reserve seats. Seats are reserved by ticket until 15 minutes prior to showtime at which all individuals are admitted until the theatre is at capacity. To reserve tickets\, click here or call (810) 989-5709. \n\n\n\nMasks required inside campus buildings.
URL:https://sc4.edu/event/free-concert-david-fisher-pianist/
LOCATION:MI
CATEGORIES:Arts,Community,Thursday concert series
END:VEVENT
BEGIN:VEVENT
DTSTART;TZID=America/Detroit:20211007T190000
DTEND;TZID=America/Detroit:20211007T200000
DTSTAMP:20260424T224710
CREATED:20210901T144007Z
LAST-MODIFIED:20211021T125806Z
UID:10001005-1633633200-1633636800@sc4.edu
SUMMARY:Free concert: David Fisher\, pianist
DESCRIPTION:Pianist and SC4 instructor David M. Fisher will perform at noon and 7 p.m. as part of the Thursday Concert Series. Follow along in a 200-year journey where David Fisher reveals the subtleties of Schubert’s first set of Four Impromptus and four other composers. \n\n\n\nAll concerts are free admission. Seating is limited and tickets are required to reserve seats. Seats are reserved by ticket until 15 minutes prior to showtime at which all individuals are admitted until the theatre is at capacity. To reserve tickets\, click here or call (810) 989-5709. \n\n\n\nMasks required inside campus buildings.
URL:https://sc4.edu/event/free-concert-david-fisher-pianist-2/
LOCATION:MI
CATEGORIES:Arts,Community,Thursday concert series
END:VEVENT
END:VCALENDAR