BEGIN:VCALENDAR
VERSION:2.0
PRODID:-//St. Clair County Community College - ECPv6.15.20//NONSGML v1.0//EN
CALSCALE:GREGORIAN
METHOD:PUBLISH
X-ORIGINAL-URL:https://sc4.edu
X-WR-CALDESC:Events for St. Clair County Community College
REFRESH-INTERVAL;VALUE=DURATION:PT1H
X-Robots-Tag:noindex
X-PUBLISHED-TTL:PT1H
BEGIN:VTIMEZONE
TZID:America/Detroit
BEGIN:DAYLIGHT
TZOFFSETFROM:-0500
TZOFFSETTO:-0400
TZNAME:EDT
DTSTART:20200308T070000
END:DAYLIGHT
BEGIN:STANDARD
TZOFFSETFROM:-0400
TZOFFSETTO:-0500
TZNAME:EST
DTSTART:20201101T060000
END:STANDARD
BEGIN:DAYLIGHT
TZOFFSETFROM:-0500
TZOFFSETTO:-0400
TZNAME:EDT
DTSTART:20210314T070000
END:DAYLIGHT
BEGIN:STANDARD
TZOFFSETFROM:-0400
TZOFFSETTO:-0500
TZNAME:EST
DTSTART:20211107T060000
END:STANDARD
BEGIN:DAYLIGHT
TZOFFSETFROM:-0500
TZOFFSETTO:-0400
TZNAME:EDT
DTSTART:20220313T070000
END:DAYLIGHT
BEGIN:STANDARD
TZOFFSETFROM:-0400
TZOFFSETTO:-0500
TZNAME:EST
DTSTART:20221106T060000
END:STANDARD
END:VTIMEZONE
BEGIN:VEVENT
DTSTART;TZID=America/Detroit:20210920T090000
DTEND;TZID=America/Detroit:20211015T163000
DTSTAMP:20260425T084558
CREATED:20210901T151219Z
LAST-MODIFIED:20211004T132015Z
UID:10001010-1632128400-1634315400@sc4.edu
SUMMARY:Gallery show: Collectively Independent VIII
DESCRIPTION:This showcase features a wide variety of mediums and subject matter. Each piece is an original work of art from the arts faculty at SC4.Location: Fine Arts Building Gallery Hours: 9 a.m. to 4:30 p.m. Monday to Friday \n\n\n\nMasks required inside campus buildings.
URL:https://sc4.edu/event/gallery-show-collectively-independent-viii/
LOCATION:MI
CATEGORIES:Arts,Community
END:VEVENT
END:VCALENDAR