BEGIN:VCALENDAR
VERSION:2.0
PRODID:-//St. Clair County Community College - ECPv6.15.20//NONSGML v1.0//EN
CALSCALE:GREGORIAN
METHOD:PUBLISH
X-ORIGINAL-URL:https://sc4.edu
X-WR-CALDESC:Events for St. Clair County Community College
REFRESH-INTERVAL;VALUE=DURATION:PT1H
X-Robots-Tag:noindex
X-PUBLISHED-TTL:PT1H
BEGIN:VTIMEZONE
TZID:America/Detroit
BEGIN:DAYLIGHT
TZOFFSETFROM:-0500
TZOFFSETTO:-0400
TZNAME:EDT
DTSTART:20200308T070000
END:DAYLIGHT
BEGIN:STANDARD
TZOFFSETFROM:-0400
TZOFFSETTO:-0500
TZNAME:EST
DTSTART:20201101T060000
END:STANDARD
BEGIN:DAYLIGHT
TZOFFSETFROM:-0500
TZOFFSETTO:-0400
TZNAME:EDT
DTSTART:20210314T070000
END:DAYLIGHT
BEGIN:STANDARD
TZOFFSETFROM:-0400
TZOFFSETTO:-0500
TZNAME:EST
DTSTART:20211107T060000
END:STANDARD
BEGIN:DAYLIGHT
TZOFFSETFROM:-0500
TZOFFSETTO:-0400
TZNAME:EDT
DTSTART:20220313T070000
END:DAYLIGHT
BEGIN:STANDARD
TZOFFSETFROM:-0400
TZOFFSETTO:-0500
TZNAME:EST
DTSTART:20221106T060000
END:STANDARD
END:VTIMEZONE
BEGIN:VEVENT
DTSTART;TZID=America/Detroit:20211115T090000
DTEND;TZID=America/Detroit:20211217T163000
DTSTAMP:20260424T192833
CREATED:20211004T132419Z
LAST-MODIFIED:20211021T125908Z
UID:10001016-1636966800-1639758600@sc4.edu
SUMMARY:Gallery show: David Korff: Timelines-Progression of a Vision
DESCRIPTION:Stop by the SC4 Fine Arts Gallery to view the memorial exhibition of works created by SC4 professor of visual and performing arts\, David Korff\, who passed away in January 2021. \n\n\n\nDavid was a 30-year professor at the college before retiring in 2011. The galleries will feature 44 works including 10 watercolors\, 14 drawings and 20 collages.  \n\n\n\nLocation: SC4 Fine Arts Gallery \n\n\n\nHours: 9 a.m. to 4:30 p.m. Monday through FridaySpecial Saturday hours: 9 a.m. to 4 p.m. Nov. 20\, 27\, Dec. 4 and 11Gallery closed: Nov. 24 to 26. \n\n\n\nMasks required inside campus buildings.
URL:https://sc4.edu/event/gallery-show-david-korff-timelines-progression-of-a-vision/
LOCATION:MI
CATEGORIES:Arts,Community
END:VEVENT
END:VCALENDAR