BEGIN:VCALENDAR
VERSION:2.0
PRODID:-//St. Clair County Community College - ECPv6.15.20//NONSGML v1.0//EN
CALSCALE:GREGORIAN
METHOD:PUBLISH
X-WR-CALNAME:St. Clair County Community College
X-ORIGINAL-URL:https://sc4.edu
X-WR-CALDESC:Events for St. Clair County Community College
REFRESH-INTERVAL;VALUE=DURATION:PT1H
X-Robots-Tag:noindex
X-PUBLISHED-TTL:PT1H
BEGIN:VTIMEZONE
TZID:America/Detroit
BEGIN:DAYLIGHT
TZOFFSETFROM:-0500
TZOFFSETTO:-0400
TZNAME:EDT
DTSTART:20200308T070000
END:DAYLIGHT
BEGIN:STANDARD
TZOFFSETFROM:-0400
TZOFFSETTO:-0500
TZNAME:EST
DTSTART:20201101T060000
END:STANDARD
BEGIN:DAYLIGHT
TZOFFSETFROM:-0500
TZOFFSETTO:-0400
TZNAME:EDT
DTSTART:20210314T070000
END:DAYLIGHT
BEGIN:STANDARD
TZOFFSETFROM:-0400
TZOFFSETTO:-0500
TZNAME:EST
DTSTART:20211107T060000
END:STANDARD
BEGIN:DAYLIGHT
TZOFFSETFROM:-0500
TZOFFSETTO:-0400
TZNAME:EDT
DTSTART:20220313T070000
END:DAYLIGHT
BEGIN:STANDARD
TZOFFSETFROM:-0400
TZOFFSETTO:-0500
TZNAME:EST
DTSTART:20221106T060000
END:STANDARD
END:VTIMEZONE
BEGIN:VEVENT
DTSTART;TZID=America/Detroit:20211115T090000
DTEND;TZID=America/Detroit:20211217T163000
DTSTAMP:20260424T211509
CREATED:20211004T132419Z
LAST-MODIFIED:20211021T125908Z
UID:10001016-1636966800-1639758600@sc4.edu
SUMMARY:Gallery show: David Korff: Timelines-Progression of a Vision
DESCRIPTION:Stop by the SC4 Fine Arts Gallery to view the memorial exhibition of works created by SC4 professor of visual and performing arts\, David Korff\, who passed away in January 2021. \n\n\n\nDavid was a 30-year professor at the college before retiring in 2011. The galleries will feature 44 works including 10 watercolors\, 14 drawings and 20 collages.  \n\n\n\nLocation: SC4 Fine Arts Gallery \n\n\n\nHours: 9 a.m. to 4:30 p.m. Monday through FridaySpecial Saturday hours: 9 a.m. to 4 p.m. Nov. 20\, 27\, Dec. 4 and 11Gallery closed: Nov. 24 to 26. \n\n\n\nMasks required inside campus buildings.
URL:https://sc4.edu/event/gallery-show-david-korff-timelines-progression-of-a-vision/
LOCATION:MI
CATEGORIES:Arts,Community
END:VEVENT
BEGIN:VEVENT
DTSTART;TZID=America/Detroit:20211209T120000
DTEND;TZID=America/Detroit:20211209T130000
DTSTAMP:20260424T211509
CREATED:20210901T145416Z
LAST-MODIFIED:20211021T125632Z
UID:10001008-1639051200-1639054800@sc4.edu
SUMMARY:Free concert: Moxie Strings
DESCRIPTION:Moxie Strings return to the SC4 stage for two performances at noon and 7 p.m. as part of the Thursday Concert Series. Listeners will experience some of the world’s best-known instruments through an electric\, innovative lens. \n\n\n\nAll concerts are free admission. Seating is limited and tickets are required to reserve seats. Seats are reserved by ticket until 15 minutes prior to showtime at which all individuals are admitted until the theatre is at capacity. To reserve tickets\, click here or call (810) 989-5709. \n\n\n\nMasks required inside campus buildings.
URL:https://sc4.edu/event/free-concert-moxie-strings/
LOCATION:MI
CATEGORIES:Arts,Community,Thursday concert series
END:VEVENT
BEGIN:VEVENT
DTSTART;TZID=America/Detroit:20211209T190000
DTEND;TZID=America/Detroit:20211209T200000
DTSTAMP:20260424T211509
CREATED:20210901T145504Z
LAST-MODIFIED:20211021T125109Z
UID:10001009-1639076400-1639080000@sc4.edu
SUMMARY:Free concert: Moxie Strings
DESCRIPTION:Moxie Strings return to the SC4 stage for two performances at noon and 7 p.m. as part of the Thursday Concert Series. Listeners will experience some of the world’s best-known instruments through an electric\, innovative lens. \n\n\n\nAll concerts are free admission. Seating is limited and tickets are required to reserve seats. Seats are reserved by ticket until 15 minutes prior to showtime at which all individuals are admitted until the theatre is at capacity. To reserve tickets\, click here or call (810) 989-5709. \n\n\n\nMasks required inside campus buildings.
URL:https://sc4.edu/event/19722/
LOCATION:MI
CATEGORIES:Arts,Community,Thursday concert series
END:VEVENT
END:VCALENDAR