BEGIN:VCALENDAR
VERSION:2.0
PRODID:-//St. Clair County Community College - ECPv6.15.20//NONSGML v1.0//EN
CALSCALE:GREGORIAN
METHOD:PUBLISH
X-ORIGINAL-URL:https://sc4.edu
X-WR-CALDESC:Events for St. Clair County Community College
REFRESH-INTERVAL;VALUE=DURATION:PT1H
X-Robots-Tag:noindex
X-PUBLISHED-TTL:PT1H
BEGIN:VTIMEZONE
TZID:America/Detroit
BEGIN:DAYLIGHT
TZOFFSETFROM:-0500
TZOFFSETTO:-0400
TZNAME:EDT
DTSTART:20210314T070000
END:DAYLIGHT
BEGIN:STANDARD
TZOFFSETFROM:-0400
TZOFFSETTO:-0500
TZNAME:EST
DTSTART:20211107T060000
END:STANDARD
BEGIN:DAYLIGHT
TZOFFSETFROM:-0500
TZOFFSETTO:-0400
TZNAME:EDT
DTSTART:20220313T070000
END:DAYLIGHT
BEGIN:STANDARD
TZOFFSETFROM:-0400
TZOFFSETTO:-0500
TZNAME:EST
DTSTART:20221106T060000
END:STANDARD
BEGIN:DAYLIGHT
TZOFFSETFROM:-0500
TZOFFSETTO:-0400
TZNAME:EDT
DTSTART:20230312T070000
END:DAYLIGHT
BEGIN:STANDARD
TZOFFSETFROM:-0400
TZOFFSETTO:-0500
TZNAME:EST
DTSTART:20231105T060000
END:STANDARD
END:VTIMEZONE
BEGIN:VEVENT
DTSTART;TZID=America/Detroit:20220210T120000
DTEND;TZID=America/Detroit:20220210T130000
DTSTAMP:20260424T192309
CREATED:20211216T203805Z
LAST-MODIFIED:20211216T203807Z
UID:10000928-1644494400-1644498000@sc4.edu
SUMMARY:Free concert: Blackthorn
DESCRIPTION:SC4 welcomes Blackthorn to the SC4 stage for two performances at noon and 7 p.m. They are sure to wow audiences with their crowd-pleasing Celtic music.  \n\n\n\nAll concerts are free admission. Seating is limited and tickets are required to reserve seats. Seats are reserved by ticket until 15 minutes prior to showtime at which all individuals are admitted until the theatre is full. Reserve tickets online or call (810) 989-5709. \n\n\n\nLOCATION: SC4 Fine Arts Theatre
URL:https://sc4.edu/event/free-concert-blackthorn/
LOCATION:MI
CATEGORIES:Arts,Community,Thursday concert series
END:VEVENT
BEGIN:VEVENT
DTSTART;TZID=America/Detroit:20220210T190000
DTEND;TZID=America/Detroit:20220210T200000
DTSTAMP:20260424T192309
CREATED:20211216T203941Z
LAST-MODIFIED:20211216T203943Z
UID:10001060-1644519600-1644523200@sc4.edu
SUMMARY:Free concert: Blackthorn
DESCRIPTION:SC4 welcomes Blackthorn to the SC4 stage for two performances at noon and 7 p.m. They are sure to wow audiences with their crowd-pleasing Celtic music. \n\n\n\n\n\nAll concerts are free admission. Seating is limited and tickets are required to reserve seats. Seats are reserved by ticket until 15 minutes prior to showtime at which all individuals are admitted until the theatre is full. Reserve tickets online or call (810) 989-5709. \n\n\n\nLOCATION: SC4 Fine Arts Theatre
URL:https://sc4.edu/event/free-concert-blackthorn-2/
LOCATION:MI
CATEGORIES:Arts,Community,Thursday concert series
END:VEVENT
END:VCALENDAR