BEGIN:VCALENDAR
VERSION:2.0
PRODID:-//St. Clair County Community College - ECPv6.15.20//NONSGML v1.0//EN
CALSCALE:GREGORIAN
METHOD:PUBLISH
X-ORIGINAL-URL:https://sc4.edu
X-WR-CALDESC:Events for St. Clair County Community College
REFRESH-INTERVAL;VALUE=DURATION:PT1H
X-Robots-Tag:noindex
X-PUBLISHED-TTL:PT1H
BEGIN:VTIMEZONE
TZID:America/Detroit
BEGIN:DAYLIGHT
TZOFFSETFROM:-0500
TZOFFSETTO:-0400
TZNAME:EDT
DTSTART:20210314T070000
END:DAYLIGHT
BEGIN:STANDARD
TZOFFSETFROM:-0400
TZOFFSETTO:-0500
TZNAME:EST
DTSTART:20211107T060000
END:STANDARD
BEGIN:DAYLIGHT
TZOFFSETFROM:-0500
TZOFFSETTO:-0400
TZNAME:EDT
DTSTART:20220313T070000
END:DAYLIGHT
BEGIN:STANDARD
TZOFFSETFROM:-0400
TZOFFSETTO:-0500
TZNAME:EST
DTSTART:20221106T060000
END:STANDARD
BEGIN:DAYLIGHT
TZOFFSETFROM:-0500
TZOFFSETTO:-0400
TZNAME:EDT
DTSTART:20230312T070000
END:DAYLIGHT
BEGIN:STANDARD
TZOFFSETFROM:-0400
TZOFFSETTO:-0500
TZNAME:EST
DTSTART:20231105T060000
END:STANDARD
END:VTIMEZONE
BEGIN:VEVENT
DTSTART;TZID=America/Detroit:20220509T090000
DTEND;TZID=America/Detroit:20220605T163000
DTSTAMP:20260424T075606
CREATED:20211217T151811Z
LAST-MODIFIED:20220527T174816Z
UID:10001067-1652086800-1654446600@sc4.edu
SUMMARY:Gallery show: SC4 Photo Club Exhibition
DESCRIPTION:View original works taken by SC4’s Photo Club students. \n\n\n\nLOCATION: SC4 Fine Arts Gallery \n\n\n\nHOURS: 9 a.m. to 4:30 p.m. Monday to Friday \n\n\n\nGallery is closed Saturday and Sunday.
URL:https://sc4.edu/event/gallery-show-sc4-photo-club-exhibition/
LOCATION:MI
CATEGORIES:Arts,Community
END:VEVENT
BEGIN:VEVENT
DTSTART;TZID=America/Detroit:20220603T200000
DTEND;TZID=America/Detroit:20220603T220000
DTSTAMP:20260424T075606
CREATED:20220517T123713Z
LAST-MODIFIED:20220517T124506Z
UID:10001084-1654286400-1654293600@sc4.edu
SUMMARY:Theatre: Love Letters
DESCRIPTION:SC4 presents Love Letters by A.R. Gurney. \n\n\n\nThis SC4 production under the direction of Jay McCulloch and is part of the Port Huron Theatre District Festival. \n\n\n\nAndrew Makepeace Ladd III and Melissa Gardner\, both born to wealth and position\, are childhood friends whose lifelong correspondence begins with birthday party thank-you notes and summer camp postcards. Romantically attached\, they continue to exchange letters through the boarding school and college years – where Andy goes on to excel at Yale and law school\, while Melissa flunks out of a series of “good schools.” Eventually she and Andy do become involved in a brief affair\, but it is really too late for both of them. However\, Andy’s last letter\, written to her mother after Melissa’s untimely death\, makes it eloquently clear how much they really meant\, and gave to\, each other over the years – physically apart\, perhaps\, but spiritually as close as only true lovers can be. \n\n\n\nPerformances 8 p.m. June 3; 3 and 8 p.m. June 4\, and 3 p.m. June 5.LOCATION: SC4 Fine Arts Theatre \n\n\n\nAdvance tickets for this performance are available online or at the door.
URL:https://sc4.edu/event/theatre-love-letters/
LOCATION:MI
CATEGORIES:Arts,Community,Theatre
END:VEVENT
BEGIN:VEVENT
DTSTART;TZID=America/Detroit:20220604T150000
DTEND;TZID=America/Detroit:20220604T170000
DTSTAMP:20260424T075606
CREATED:20220517T123851Z
LAST-MODIFIED:20220517T124651Z
UID:10001089-1654354800-1654362000@sc4.edu
SUMMARY:Theater: Love Letters
DESCRIPTION:SC4 presents Love Letters by A.R. Gurney. \n\n\n\nThis SC4 production under the direction of Jay McCulloch and is part of the Port Huron Theatre District Festival. \n\n\n\nAndrew Makepeace Ladd III and Melissa Gardner\, both born to wealth and position\, are childhood friends whose lifelong correspondence begins with birthday party thank-you notes and summer camp postcards. Romantically attached\, they continue to exchange letters through the boarding school and college years – where Andy goes on to excel at Yale and law school\, while Melissa flunks out of a series of “good schools.” Eventually she and Andy do become involved in a brief affair\, but it is really too late for both of them. However\, Andy’s last letter\, written to her mother after Melissa’s untimely death\, makes it eloquently clear how much they really meant\, and gave to\, each other over the years – physically apart\, perhaps\, but spiritually as close as only true lovers can be. \n\n\n\nPerformances 8 p.m. June 3; 3 and 8 p.m. June 4\, and 3 p.m. June 5.LOCATION: SC4 Fine Arts Theatre \n\n\n\nAdvance tickets for this performance are available online or at the door.
URL:https://sc4.edu/event/theater-love-letters/
LOCATION:MI
CATEGORIES:Arts,Community,Theatre
END:VEVENT
BEGIN:VEVENT
DTSTART;TZID=America/Detroit:20220604T200000
DTEND;TZID=America/Detroit:20220604T220000
DTSTAMP:20260424T075606
CREATED:20220517T124021Z
LAST-MODIFIED:20220517T124718Z
UID:10000940-1654372800-1654380000@sc4.edu
SUMMARY:Theatre: Love Letters
DESCRIPTION:SC4 presents Love Letters by A.R. Gurney. \n\n\n\nThis SC4 production under the direction of Jay McCulloch and is part of the Port Huron Theatre District Festival. \n\n\n\nAndrew Makepeace Ladd III and Melissa Gardner\, both born to wealth and position\, are childhood friends whose lifelong correspondence begins with birthday party thank-you notes and summer camp postcards. Romantically attached\, they continue to exchange letters through the boarding school and college years – where Andy goes on to excel at Yale and law school\, while Melissa flunks out of a series of “good schools.” Eventually she and Andy do become involved in a brief affair\, but it is really too late for both of them. However\, Andy’s last letter\, written to her mother after Melissa’s untimely death\, makes it eloquently clear how much they really meant\, and gave to\, each other over the years – physically apart\, perhaps\, but spiritually as close as only true lovers can be. \n\n\n\nPerformances 8 p.m. June 3; 3 and 8 p.m. June 4\, and 3 p.m. June 5.LOCATION: SC4 Fine Arts Theatre \n\n\n\nAdvance tickets for this performance are available online or at the door.
URL:https://sc4.edu/event/theatre-love-letters-2/
LOCATION:MI
CATEGORIES:Arts,Community,Theatre
END:VEVENT
BEGIN:VEVENT
DTSTART;TZID=America/Detroit:20220605T150000
DTEND;TZID=America/Detroit:20220605T170000
DTSTAMP:20260424T075606
CREATED:20220517T124219Z
LAST-MODIFIED:20220517T124427Z
UID:10000941-1654441200-1654448400@sc4.edu
SUMMARY:Theatre: Love Letters
DESCRIPTION:SC4 presents Love Letters by A.R. Gurney. \n\n\n\nThis SC4 production under the direction of Jay McCulloch and is part of the Port Huron Theatre District Festival. \n\n\n\nAndrew Makepeace Ladd III and Melissa Gardner\, both born to wealth and position\, are childhood friends whose lifelong correspondence begins with birthday party thank-you notes and summer camp postcards. Romantically attached\, they continue to exchange letters through the boarding school and college years – where Andy goes on to excel at Yale and law school\, while Melissa flunks out of a series of “good schools.” Eventually she and Andy do become involved in a brief affair\, but it is really too late for both of them. However\, Andy’s last letter\, written to her mother after Melissa’s untimely death\, makes it eloquently clear how much they really meant\, and gave to\, each other over the years – physically apart\, perhaps\, but spiritually as close as only true lovers can be. \n\n\n\nPerformances 8 p.m. June 3; 3 and 8 p.m. June 4\, and 3 p.m. June 5.LOCATION: SC4 Fine Arts Theatre \n\n\n\nAdvance tickets for this performance are available online or at the door.
URL:https://sc4.edu/event/theatre-love-letters-3/
LOCATION:MI
CATEGORIES:Arts,Community,Theatre
END:VEVENT
END:VCALENDAR