BEGIN:VCALENDAR
VERSION:2.0
PRODID:-//St. Clair County Community College - ECPv6.15.20//NONSGML v1.0//EN
CALSCALE:GREGORIAN
METHOD:PUBLISH
X-WR-CALNAME:St. Clair County Community College
X-ORIGINAL-URL:https://sc4.edu
X-WR-CALDESC:Events for St. Clair County Community College
REFRESH-INTERVAL;VALUE=DURATION:PT1H
X-Robots-Tag:noindex
X-PUBLISHED-TTL:PT1H
BEGIN:VTIMEZONE
TZID:America/Detroit
BEGIN:DAYLIGHT
TZOFFSETFROM:-0500
TZOFFSETTO:-0400
TZNAME:EDT
DTSTART:20220313T070000
END:DAYLIGHT
BEGIN:STANDARD
TZOFFSETFROM:-0400
TZOFFSETTO:-0500
TZNAME:EST
DTSTART:20221106T060000
END:STANDARD
BEGIN:DAYLIGHT
TZOFFSETFROM:-0500
TZOFFSETTO:-0400
TZNAME:EDT
DTSTART:20230312T070000
END:DAYLIGHT
BEGIN:STANDARD
TZOFFSETFROM:-0400
TZOFFSETTO:-0500
TZNAME:EST
DTSTART:20231105T060000
END:STANDARD
BEGIN:DAYLIGHT
TZOFFSETFROM:-0500
TZOFFSETTO:-0400
TZNAME:EDT
DTSTART:20240310T070000
END:DAYLIGHT
BEGIN:STANDARD
TZOFFSETFROM:-0400
TZOFFSETTO:-0500
TZNAME:EST
DTSTART:20241103T060000
END:STANDARD
END:VTIMEZONE
BEGIN:VEVENT
DTSTART;TZID=America/Detroit:20230403T090000
DTEND;TZID=America/Detroit:20230428T190000
DTSTAMP:20260423T121708
CREATED:20221228T175621Z
LAST-MODIFIED:20221228T175623Z
UID:10001019-1680512400-1682708400@sc4.edu
SUMMARY:Gallery show: Patterns Exhibition & Student Portfolio Exhibition
DESCRIPTION:The SC4 Fine Arts Gallery will be filled with student artwork as featured in the 65th edition of Patterns Magazine. \n\n\n\nThe show also includes a showcase of artwork created by SC4 design students. \n\n\n\nLOCATION: SC4 Fine Arts Building
URL:https://sc4.edu/event/gallery-show-patterns-exhibition-student-portfolio-exhibition/
LOCATION:MI
CATEGORIES:Arts,Community
END:VEVENT
BEGIN:VEVENT
DTSTART;TZID=America/Detroit:20230424T090000
DTEND;TZID=America/Detroit:20230428T190000
DTSTAMP:20260423T121708
CREATED:20230302T181719Z
LAST-MODIFIED:20230302T181721Z
UID:10001178-1682326800-1682708400@sc4.edu
SUMMARY:Gallery show: Design 2023 Student Portfolio Exhibition
DESCRIPTION:Take a walk through the SC4 Fine Arts Galleries to view artwork from SC4 Design 2023 students. \n\n\n\nParticipating students include Tyler Bark\, Evan Crawford\, Hanna Teeple\, Leatha Smith\, Bryce Hurd\, Brandi Schmitz\, Ashley Cleland and Jasmine Skaggs.
URL:https://sc4.edu/event/gallery-show-design-2023-student-portfolio-exhibition-4/
LOCATION:MI
CATEGORIES:Arts,Community
END:VEVENT
BEGIN:VEVENT
DTSTART;TZID=America/Detroit:20230427T190000
DTEND;TZID=America/Detroit:20230427T210000
DTSTAMP:20260423T121708
CREATED:20221228T175014Z
LAST-MODIFIED:20221228T175101Z
UID:10001167-1682622000-1682629200@sc4.edu
SUMMARY:Patterns Awards Ceremony and Reception
DESCRIPTION:This event is the culmination of a year’s work as the 65th annual Patterns magazine is released with winning art and writing entries from SC4 students. Published SC4 students will be honored\, and their artwork will be displayed in the Fine Arts Gallery.Location: Fine Arts Theatre and Fine Arts Gallery.
URL:https://sc4.edu/event/patterns-awards-ceremony-and-reception/
LOCATION:MI
CATEGORIES:Arts,Community
END:VEVENT
END:VCALENDAR