BEGIN:VCALENDAR
VERSION:2.0
PRODID:-//St. Clair County Community College - ECPv6.15.20//NONSGML v1.0//EN
CALSCALE:GREGORIAN
METHOD:PUBLISH
X-ORIGINAL-URL:https://sc4.edu
X-WR-CALDESC:Events for St. Clair County Community College
REFRESH-INTERVAL;VALUE=DURATION:PT1H
X-Robots-Tag:noindex
X-PUBLISHED-TTL:PT1H
BEGIN:VTIMEZONE
TZID:America/Detroit
BEGIN:DAYLIGHT
TZOFFSETFROM:-0500
TZOFFSETTO:-0400
TZNAME:EDT
DTSTART:20230312T070000
END:DAYLIGHT
BEGIN:STANDARD
TZOFFSETFROM:-0400
TZOFFSETTO:-0500
TZNAME:EST
DTSTART:20231105T060000
END:STANDARD
BEGIN:DAYLIGHT
TZOFFSETFROM:-0500
TZOFFSETTO:-0400
TZNAME:EDT
DTSTART:20240310T070000
END:DAYLIGHT
BEGIN:STANDARD
TZOFFSETFROM:-0400
TZOFFSETTO:-0500
TZNAME:EST
DTSTART:20241103T060000
END:STANDARD
BEGIN:DAYLIGHT
TZOFFSETFROM:-0500
TZOFFSETTO:-0400
TZNAME:EDT
DTSTART:20250309T070000
END:DAYLIGHT
BEGIN:STANDARD
TZOFFSETFROM:-0400
TZOFFSETTO:-0500
TZNAME:EST
DTSTART:20251102T060000
END:STANDARD
END:VTIMEZONE
BEGIN:VEVENT
DTSTART;TZID=America/Detroit:20240401T090000
DTEND;TZID=America/Detroit:20240426T190000
DTSTAMP:20260420T015602
CREATED:20240110T023452Z
LAST-MODIFIED:20240110T023453Z
UID:10001248-1711962000-1714158000@sc4.edu
SUMMARY:Gallery show: Patterns Exhibition & Student Portfolio Exhibition
DESCRIPTION:The SC4 Fine Arts Gallery will be filled with student artwork as featured in the 66th edition of Patterns Magazine. \n\n\n\nThe show also includes a showcase of artwork created by SC4 design students. \n\n\n\nLOCATION: SC4 Fine Arts Building
URL:https://sc4.edu/event/gallery-show-patterns-exhibition-student-portfolio-exhibition-2/
LOCATION:MI
CATEGORIES:Arts,Community
END:VEVENT
BEGIN:VEVENT
DTSTART;TZID=America/Detroit:20240411T120000
DTEND;TZID=America/Detroit:20240411T130000
DTSTAMP:20260420T015602
CREATED:20231206T171113Z
LAST-MODIFIED:20231206T195916Z
UID:10001238-1712836800-1712840400@sc4.edu
SUMMARY:Free Concert: Folk-rock musician Jeremy Facknitz
DESCRIPTION:Join us for performances by Folk-rock musician Jeremy Facknitz. \n\n\n\nPerformances are scheduled from noon to 1 p.m. and 5 to 6:30 p.m. in the SC4 Fine Arts Theatre. \n\n\n\nSeats are general admission and no reservations are needed. Doors open 15 minutes prior to showtime.
URL:https://sc4.edu/event/free-concert-folk-rock-musician-jeremy-facknitz/
LOCATION:MI
CATEGORIES:Arts,Campus life,Community,Thursday concert series
END:VEVENT
BEGIN:VEVENT
DTSTART;TZID=America/Detroit:20240411T170000
DTEND;TZID=America/Detroit:20240411T183000
DTSTAMP:20260420T015602
CREATED:20231206T171200Z
LAST-MODIFIED:20231206T195922Z
UID:10001239-1712854800-1712860200@sc4.edu
SUMMARY:Free Concert: Folk-rock musician Jeremy Facknitz
DESCRIPTION:Join us for performances by Folk-rock musician Jeremy Facknitz. \n\n\n\nPerformances are scheduled from noon to 1 p.m. and 5 to 6:30 p.m. in the SC4 Fine Arts Theatre. \n\n\n\nSeats are general admission and no reservations are needed. Doors open 15 minutes prior to showtime.
URL:https://sc4.edu/event/free-concert-folk-rock-musician-jeremy-facknitz-2/
LOCATION:MI
CATEGORIES:Arts,Campus life,Community,Thursday concert series
END:VEVENT
END:VCALENDAR