BEGIN:VCALENDAR
VERSION:2.0
PRODID:-//St. Clair County Community College - ECPv6.15.20//NONSGML v1.0//EN
CALSCALE:GREGORIAN
METHOD:PUBLISH
X-ORIGINAL-URL:https://sc4.edu
X-WR-CALDESC:Events for St. Clair County Community College
REFRESH-INTERVAL;VALUE=DURATION:PT1H
X-Robots-Tag:noindex
X-PUBLISHED-TTL:PT1H
BEGIN:VTIMEZONE
TZID:America/Detroit
BEGIN:DAYLIGHT
TZOFFSETFROM:-0500
TZOFFSETTO:-0400
TZNAME:EDT
DTSTART:20230312T070000
END:DAYLIGHT
BEGIN:STANDARD
TZOFFSETFROM:-0400
TZOFFSETTO:-0500
TZNAME:EST
DTSTART:20231105T060000
END:STANDARD
BEGIN:DAYLIGHT
TZOFFSETFROM:-0500
TZOFFSETTO:-0400
TZNAME:EDT
DTSTART:20240310T070000
END:DAYLIGHT
BEGIN:STANDARD
TZOFFSETFROM:-0400
TZOFFSETTO:-0500
TZNAME:EST
DTSTART:20241103T060000
END:STANDARD
BEGIN:DAYLIGHT
TZOFFSETFROM:-0500
TZOFFSETTO:-0400
TZNAME:EDT
DTSTART:20250309T070000
END:DAYLIGHT
BEGIN:STANDARD
TZOFFSETFROM:-0400
TZOFFSETTO:-0500
TZNAME:EST
DTSTART:20251102T060000
END:STANDARD
END:VTIMEZONE
BEGIN:VEVENT
DTSTART;TZID=America/Detroit:20240923T090000
DTEND;TZID=America/Detroit:20241025T190000
DTSTAMP:20260419T160255
CREATED:20240919T231802Z
LAST-MODIFIED:20240919T231804Z
UID:10001836-1727082000-1729882800@sc4.edu
SUMMARY:Collectively Independent by SC4 Art Faculty
DESCRIPTION:View original works created by SC4 art faculty. \n\n\n\nParticipating faculty: Jen Barker\, Sarah Flatter\, Jacqueline Mahannah\, Mark Rummel\, Elizabeth Sevick\, Jason Palmer\, Danny VanZandt and Jacob Vinson \n\n\n\nGallery hours: M-F 9am-7pm
URL:https://sc4.edu/event/collectively-independent-by-sc4-art-faculty/
LOCATION:SC4 Fine Arts Gallery\, 601 Erie Street\, Port Huron\, Michigan\, 48060\, United States
CATEGORIES:Arts
END:VEVENT
BEGIN:VEVENT
DTSTART;TZID=America/Detroit:20241007T183000
DTEND;TZID=America/Detroit:20241007T213000
DTSTAMP:20260419T160255
CREATED:20241002T173355Z
LAST-MODIFIED:20241002T173358Z
UID:10001844-1728325800-1728336600@sc4.edu
SUMMARY:Roald Dahl's THE FANTASTIC MR. FOX. Casting Call
DESCRIPTION:The SC4 Players are excited to announce auditions for the fall production of Roald Dahl’s THE FANTASTIC MR. FOX. \n\n\n\nAll current students\, including middle college and dual enrolled students\, faculty\, staff and alumni are welcome to audition. \n\n\n\nPlease fill out the entire audition form at https://forms.office.com/r/eyW2u10zz2. \n\n\n\nPerformances are scheduled for 7 p.m. Friday\, Nov. 1\, and 1 and 7 p.m. Saturday\, Nov. 2. \n\n\n\nFor questions\, please contact Director James McCulloch jmmcculloch@sc4.edu
URL:https://sc4.edu/event/roald-dahls-the-fantastic-mr-fox-casting-call-3/
LOCATION:SC4 Fine Arts Theatre\, 601 Erie Street\, Port Huron\, MI\, 48060\, United States
CATEGORIES:Arts,Theatre
END:VEVENT
BEGIN:VEVENT
DTSTART;TZID=America/Detroit:20241008T163000
DTEND;TZID=America/Detroit:20241008T180000
DTSTAMP:20260419T160255
CREATED:20241002T150245Z
LAST-MODIFIED:20241002T173243Z
UID:10001843-1728405000-1728410400@sc4.edu
SUMMARY:Roald Dahl's THE FANTASTIC MR. FOX. Casting Call
DESCRIPTION:The SC4 Players are excited to announce auditions for the fall production of Roald Dahl’s THE FANTASTIC MR. FOX. \n\n\n\nAll current students\, including middle college and dual enrolled students\, faculty\, staff and alumni are welcome to audition. \n\n\n\nPlease fill out the entire audition form at https://forms.office.com/r/eyW2u10zz2. \n\n\n\nPerformances are scheduled for 7 p.m. Friday\, Nov. 1\, and 1 and 7 p.m. Saturday\, Nov. 2. \n\n\n\nFor questions\, please contact Director James McCulloch jmmcculloch@sc4.edu
URL:https://sc4.edu/event/roald-dahls-the-fantastic-mr-fox-casting-call-2/
LOCATION:SC4 Fine Arts Theatre\, 601 Erie Street\, Port Huron\, MI\, 48060\, United States
CATEGORIES:Arts,Theatre
END:VEVENT
BEGIN:VEVENT
DTSTART;TZID=America/Detroit:20241010T120000
DTEND;TZID=America/Detroit:20241010T130000
DTSTAMP:20260419T160255
CREATED:20240813T012935Z
LAST-MODIFIED:20240813T012948Z
UID:10001771-1728561600-1728565200@sc4.edu
SUMMARY:Free Concert: Maria Rose - Folk/Acoustic Guitar
DESCRIPTION:Join us for two performances featuring folk/acoustic guitarist Maria Rose. \n\n\n\nMaria Rose’s musical journey started before she was even born — she was named after the main character in The Sound of Music because her mom was pregnant with her while playing a nun in the play. Yep\, a pregnant nun! From that point on\, Maria was surrounded by music and the arts\, soaking up every bit of theater and live performance her parents could share. \n\n\n\nShe taught herself guitar from the University of YouTube and learned to sing by belting out Aretha Franklin\, Celine Dion\, Mariah Carey\, and Etta James songs in her bedroom after school (she’s is still so sorry to her neighbors)  She also attended Berklee College of Music for a short time before dropping out due to her busy performance schedule.  \n\n\n\nOver the past 20 years\, she’s taken her soulful voice and powerful lyrics across the country\, mixing Motown\, pop\, and blues covers with original songs that dive into mental health\, surviving abusive relationships\, and the “joys” of having an ADHD brain. Get ready for a performance that’s as fun as it is inspiring! \n\n\n\nPerformances are scheduled from noon to 1 p.m. and 7 p.m. to 8:30 p.m. in the SC4 Fine Arts Theatre. \n\n\n\nSeats are general admission\, and no reservations are needed. Doors open 15 minutes prior to showtime.
URL:https://sc4.edu/event/free-concert-maria-rose-folk-acoustic-guitar/
LOCATION:MI
CATEGORIES:Arts,Thursday concert series
END:VEVENT
BEGIN:VEVENT
DTSTART;TZID=America/Detroit:20241010T190000
DTEND;TZID=America/Detroit:20241010T203000
DTSTAMP:20260419T160255
CREATED:20240813T013437Z
LAST-MODIFIED:20240813T013451Z
UID:10001772-1728586800-1728592200@sc4.edu
SUMMARY:Free Concert: Maria Rose - Folk/Acoustic Guitar
DESCRIPTION:Join us for two performances featuring folk/acoustic guitarist Maria Rose. \n\n\n\nMaria Rose’s musical journey started before she was even born — she was named after the main character in The Sound of Music because her mom was pregnant with her while playing a nun in the play. Yep\, a pregnant nun! From that point on\, Maria was surrounded by music and the arts\, soaking up every bit of theater and live performance her parents could share. \n\n\n\nShe taught herself guitar from the University of YouTube and learned to sing by belting out Aretha Franklin\, Celine Dion\, Mariah Carey\, and Etta James songs in her bedroom after school (she’s is still so sorry to her neighbors)  She also attended Berklee College of Music for a short time before dropping out due to her busy performance schedule.  \n\n\n\nOver the past 20 years\, she’s taken her soulful voice and powerful lyrics across the country\, mixing Motown\, pop\, and blues covers with original songs that dive into mental health\, surviving abusive relationships\, and the “joys” of having an ADHD brain. Get ready for a performance that’s as fun as it is inspiring! \n\n\n\nPerformances are scheduled from noon to 1 p.m. and 7 p.m. to 8:30 p.m. in the SC4 Fine Arts Theatre. \n\n\n\nSeats are general admission\, and no reservations are needed. Doors open 15 minutes prior to showtime.
URL:https://sc4.edu/event/free-concert-maria-rose-folk-acoustic-guitar-2/
LOCATION:MI
CATEGORIES:Arts,Thursday concert series
END:VEVENT
END:VCALENDAR