BEGIN:VCALENDAR
VERSION:2.0
PRODID:-//St. Clair County Community College - ECPv6.15.20//NONSGML v1.0//EN
CALSCALE:GREGORIAN
METHOD:PUBLISH
X-ORIGINAL-URL:https://sc4.edu
X-WR-CALDESC:Events for St. Clair County Community College
REFRESH-INTERVAL;VALUE=DURATION:PT1H
X-Robots-Tag:noindex
X-PUBLISHED-TTL:PT1H
BEGIN:VTIMEZONE
TZID:America/Detroit
BEGIN:DAYLIGHT
TZOFFSETFROM:-0500
TZOFFSETTO:-0400
TZNAME:EDT
DTSTART:20230312T070000
END:DAYLIGHT
BEGIN:STANDARD
TZOFFSETFROM:-0400
TZOFFSETTO:-0500
TZNAME:EST
DTSTART:20231105T060000
END:STANDARD
BEGIN:DAYLIGHT
TZOFFSETFROM:-0500
TZOFFSETTO:-0400
TZNAME:EDT
DTSTART:20240310T070000
END:DAYLIGHT
BEGIN:STANDARD
TZOFFSETFROM:-0400
TZOFFSETTO:-0500
TZNAME:EST
DTSTART:20241103T060000
END:STANDARD
BEGIN:DAYLIGHT
TZOFFSETFROM:-0500
TZOFFSETTO:-0400
TZNAME:EDT
DTSTART:20250309T070000
END:DAYLIGHT
BEGIN:STANDARD
TZOFFSETFROM:-0400
TZOFFSETTO:-0500
TZNAME:EST
DTSTART:20251102T060000
END:STANDARD
END:VTIMEZONE
BEGIN:VEVENT
DTSTART;TZID=America/Detroit:20241101T190000
DTEND;TZID=America/Detroit:20241101T210000
DTSTAMP:20260419T123156
CREATED:20240919T232323Z
LAST-MODIFIED:20240919T232555Z
UID:10001838-1730487600-1730494800@sc4.edu
SUMMARY:Theatrical Production: Fantastic Mr. Fox
DESCRIPTION:Roald Dahl’s The Fantastic Mr. Fox \n\n\n\nA comedy for the family adapted by David Wood. \n\n\n\nA comedy for the whole family and ALL ages!! \n\n\n\nRoald Dahl’s much-loved story follows the vain efforts of three farmers\, Boggis\, Bunce and Bean who attempt to get rid of the fox who regularly steals food from their farms. “This is a FANTASTIC SHOW to be enjoyed by kids of ALL ages.” (CoventryTelegraph) “An EXCELLENT adaptation of a Roald Dahl’s children’s classic by David Wood… designed to capture imaginations… no wonder it is a HIT.” (The Stage)
URL:https://sc4.edu/event/theatrical-production-fantastic-mr-fox-3/
LOCATION:SC4 Fine Arts Theatre\, 601 Erie Street\, Port Huron\, MI\, 48060\, United States
CATEGORIES:Arts,Theatre
END:VEVENT
BEGIN:VEVENT
DTSTART;TZID=America/Detroit:20241102T130000
DTEND;TZID=America/Detroit:20241102T150000
DTSTAMP:20260419T123156
CREATED:20240827T210826Z
LAST-MODIFIED:20241001T211617Z
UID:10001797-1730552400-1730559600@sc4.edu
SUMMARY:Theatrical Production: Fantastic Mr. Fox
DESCRIPTION:Roald Dahl’s The Fantastic Mr. Fox \n\n\n\nA comedy for the family adapted by David Wood. \n\n\n\nA comedy for the whole family and ALL ages!! \n\n\n\nRoald Dahl’s much-loved story follows the vain efforts of three farmers\, Boggis\, Bunce and Bean who attempt to get rid of the fox who regularly steals food from their farms. “This is a FANTASTIC SHOW to be enjoyed by kids of ALL ages.” (CoventryTelegraph) “An EXCELLENT adaptation of a Roald Dahl’s children’s classic by David Wood… designed to capture imaginations… no wonder it is a HIT.” (The Stage)
URL:https://sc4.edu/event/theatrical-production-fantastic-mr-fox-2/
LOCATION:SC4 Fine Arts Theatre\, 601 Erie Street\, Port Huron\, MI\, 48060\, United States
CATEGORIES:Arts,Theatre
END:VEVENT
BEGIN:VEVENT
DTSTART;TZID=America/Detroit:20241102T190000
DTEND;TZID=America/Detroit:20241102T220000
DTSTAMP:20260419T123156
CREATED:20240919T232444Z
LAST-MODIFIED:20241001T211522Z
UID:10001839-1730574000-1730584800@sc4.edu
SUMMARY:Theatrical Production: Fantastic Mr. Fox
DESCRIPTION:Roald Dahl’s The Fantastic Mr. Fox \n\n\n\nA comedy for the family adapted by David Wood. \n\n\n\nA comedy for the whole family and ALL ages!! \n\n\n\nRoald Dahl’s much-loved story follows the vain efforts of three farmers\, Boggis\, Bunce and Bean who attempt to get rid of the fox who regularly steals food from their farms. “This is a FANTASTIC SHOW to be enjoyed by kids of ALL ages.” (CoventryTelegraph) “An EXCELLENT adaptation of a Roald Dahl’s children’s classic by David Wood… designed to capture imaginations… no wonder it is a HIT.” (The Stage)
URL:https://sc4.edu/event/theatrical-production-fantastic-mr-fox-4/
LOCATION:SC4 Fine Arts Theatre\, 601 Erie Street\, Port Huron\, MI\, 48060\, United States
CATEGORIES:Arts,Theatre
END:VEVENT
END:VCALENDAR