BEGIN:VCALENDAR
VERSION:2.0
PRODID:-//St. Clair County Community College - ECPv6.15.20//NONSGML v1.0//EN
CALSCALE:GREGORIAN
METHOD:PUBLISH
X-ORIGINAL-URL:https://sc4.edu
X-WR-CALDESC:Events for St. Clair County Community College
REFRESH-INTERVAL;VALUE=DURATION:PT1H
X-Robots-Tag:noindex
X-PUBLISHED-TTL:PT1H
BEGIN:VTIMEZONE
TZID:America/Detroit
BEGIN:DAYLIGHT
TZOFFSETFROM:-0500
TZOFFSETTO:-0400
TZNAME:EDT
DTSTART:20230312T070000
END:DAYLIGHT
BEGIN:STANDARD
TZOFFSETFROM:-0400
TZOFFSETTO:-0500
TZNAME:EST
DTSTART:20231105T060000
END:STANDARD
BEGIN:DAYLIGHT
TZOFFSETFROM:-0500
TZOFFSETTO:-0400
TZNAME:EDT
DTSTART:20240310T070000
END:DAYLIGHT
BEGIN:STANDARD
TZOFFSETFROM:-0400
TZOFFSETTO:-0500
TZNAME:EST
DTSTART:20241103T060000
END:STANDARD
BEGIN:DAYLIGHT
TZOFFSETFROM:-0500
TZOFFSETTO:-0400
TZNAME:EDT
DTSTART:20250309T070000
END:DAYLIGHT
BEGIN:STANDARD
TZOFFSETFROM:-0400
TZOFFSETTO:-0500
TZNAME:EST
DTSTART:20251102T060000
END:STANDARD
END:VTIMEZONE
BEGIN:VEVENT
DTSTART;TZID=America/Detroit:20241121T120000
DTEND;TZID=America/Detroit:20241121T130000
DTSTAMP:20260419T160256
CREATED:20240813T013806Z
LAST-MODIFIED:20240813T013821Z
UID:10001773-1732190400-1732194000@sc4.edu
SUMMARY:Free Concert: Taylor Tucky - Country
DESCRIPTION:Join us for two performances by Taylor Tucky. Taylor Tucky is an American five-member country music band formed in Taylor\, Michigan. The band consists of Perry Joe Zaremba (lead vocals)\, Chris Wietzke (vocals /acoustic and electric guitar/keys/mandolin/banjo)\, Lonnell Lewis (drums\, programming)\, David Connors (bass guitar\, vocals)\, and Marc Davis (Lead guitar). Their music is contemporary Country with rock instrumentation with melodic pop melodies and memorable hooks. \n\n\n\nRated as the #1 Country cover band in Michigan\, Taylor Tucky will wow their audience with incredible vocals\, unbelievable guitar riffs and accurate reproduction of your favorite Country radio hits both present and past. \n\n\n\nThe band released their first full-length album “Where There’s Smoke” which includes the hit songs “Where There’s Smoke”\, “I Bleed Country”\, “Old Bar Stool”\, “Local Tour Guide”\, “Gettin Warmed Up” and 5 others including a cover of Heart’s “Straight on to You.” At the point of this write up\, they have 75\,000 streams of their title track. \n\n\n\nTaylor Tucky has opened for many national acts including Kane Brown\, Brother’s Osborne\, Thompson’s Square\, Tyler Farr\, Old Dominion and more. \n\n\n\nPerformances are scheduled from noon to 1 p.m. and 7 p.m. to 8:30 p.m. in the SC4 Fine Arts Theatre. \n\n\n\nSeats are general admission\, and no reservations are needed. Doors open 15 minutes prior to showtime.
URL:https://sc4.edu/event/free-concert-taylor-tucky-country/
LOCATION:MI
CATEGORIES:Arts,Thursday concert series
END:VEVENT
BEGIN:VEVENT
DTSTART;TZID=America/Detroit:20241121T190000
DTEND;TZID=America/Detroit:20241121T203000
DTSTAMP:20260419T160256
CREATED:20240813T014053Z
LAST-MODIFIED:20240813T014106Z
UID:10001774-1732215600-1732221000@sc4.edu
SUMMARY:Free Concert: Taylor Tucky - Country
DESCRIPTION:Join us for two performances by Taylor Tucky. Taylor Tucky is an American five-member country music band formed in Taylor\, Michigan. The band consists of Perry Joe Zaremba (lead vocals)\, Chris Wietzke (vocals /acoustic and electric guitar/keys/mandolin/banjo)\, Lonnell Lewis (drums\, programming)\, David Connors (bass guitar\, vocals)\, and Marc Davis (Lead guitar). Their music is contemporary Country with rock instrumentation with melodic pop melodies and memorable hooks. \n\n\n\nRated as the #1 Country cover band in Michigan\, Taylor Tucky will wow their audience with incredible vocals\, unbelievable guitar riffs and accurate reproduction of your favorite Country radio hits both present and past. \n\n\n\nThe band released their first full-length album “Where There’s Smoke” which includes the hit songs “Where There’s Smoke”\, “I Bleed Country”\, “Old Bar Stool”\, “Local Tour Guide”\, “Gettin Warmed Up” and 5 others including a cover of Heart’s “Straight on to You.” At the point of this write up\, they have 75\,000 streams of their title track. \n\n\n\nTaylor Tucky has opened for many national acts including Kane Brown\, Brother’s Osborne\, Thompson’s Square\, Tyler Farr\, Old Dominion and more. \n\n\n\nPerformances are scheduled from noon to 1 p.m. and 7 p.m. to 8:30 p.m. in the SC4 Fine Arts Theatre. \n\n\n\nSeats are general admission\, and no reservations are needed. Doors open 15 minutes prior to showtime.
URL:https://sc4.edu/event/free-concert-taylor-tucky-country-2/
LOCATION:MI
CATEGORIES:Arts,Thursday concert series
END:VEVENT
END:VCALENDAR