BEGIN:VCALENDAR
VERSION:2.0
PRODID:-//St. Clair County Community College - ECPv6.15.20//NONSGML v1.0//EN
CALSCALE:GREGORIAN
METHOD:PUBLISH
X-ORIGINAL-URL:https://sc4.edu
X-WR-CALDESC:Events for St. Clair County Community College
REFRESH-INTERVAL;VALUE=DURATION:PT1H
X-Robots-Tag:noindex
X-PUBLISHED-TTL:PT1H
BEGIN:VTIMEZONE
TZID:America/Detroit
BEGIN:DAYLIGHT
TZOFFSETFROM:-0500
TZOFFSETTO:-0400
TZNAME:EDT
DTSTART:20230312T070000
END:DAYLIGHT
BEGIN:STANDARD
TZOFFSETFROM:-0400
TZOFFSETTO:-0500
TZNAME:EST
DTSTART:20231105T060000
END:STANDARD
BEGIN:DAYLIGHT
TZOFFSETFROM:-0500
TZOFFSETTO:-0400
TZNAME:EDT
DTSTART:20240310T070000
END:DAYLIGHT
BEGIN:STANDARD
TZOFFSETFROM:-0400
TZOFFSETTO:-0500
TZNAME:EST
DTSTART:20241103T060000
END:STANDARD
BEGIN:DAYLIGHT
TZOFFSETFROM:-0500
TZOFFSETTO:-0400
TZNAME:EDT
DTSTART:20250309T070000
END:DAYLIGHT
BEGIN:STANDARD
TZOFFSETFROM:-0400
TZOFFSETTO:-0500
TZNAME:EST
DTSTART:20251102T060000
END:STANDARD
END:VTIMEZONE
BEGIN:VEVENT
DTSTART;TZID=America/Detroit:20241205T120000
DTEND;TZID=America/Detroit:20241205T130000
DTSTAMP:20260419T123158
CREATED:20240813T014410Z
LAST-MODIFIED:20240813T014423Z
UID:10001775-1733400000-1733403600@sc4.edu
SUMMARY:Free Concert: Jimmy Deheno - Guitar
DESCRIPTION:Join us for two performances from the gifted finger-style guitarist Jimmy DeHeno. Jimmy placed 5th in the prestigious Winfield International Finger Style Competition in Kansas\, a competition that attracts guitarists from around the world. Jimmy specializes in bluegrass\, folk and classical guitar. \n\n\n\nPerformances are scheduled from noon to 1 p.m. and 7 p.m. to 8:30 p.m. in the SC4 Fine Arts Theatre. \n\n\n\nSeats are general admission\, and no reservations are needed. Doors open 15 minutes prior to showtime.
URL:https://sc4.edu/event/free-concert-jimmy-deheno-guitar/
LOCATION:MI
CATEGORIES:Arts,Thursday concert series
END:VEVENT
BEGIN:VEVENT
DTSTART;TZID=America/Detroit:20241205T190000
DTEND;TZID=America/Detroit:20241205T203000
DTSTAMP:20260419T123158
CREATED:20240813T014610Z
LAST-MODIFIED:20240813T014623Z
UID:10001776-1733425200-1733430600@sc4.edu
SUMMARY:Free Concert: Jimmy Deheno - Guitar
DESCRIPTION:Join us for two performances from the gifted finger-style guitarist Jimmy DeHeno. Jimmy placed 5th in the prestigious Winfield International Finger Style Competition in Kansas\, a competition that attracts guitarists from around the world. Jimmy specializes in bluegrass\, folk and classical guitar. \n\n\n\nPerformances are scheduled from noon to 1 p.m. and 7 p.m. to 8:30 p.m. in the SC4 Fine Arts Theatre. \n\n\n\nSeats are general admission\, and no reservations are needed. Doors open 15 minutes prior to showtime.
URL:https://sc4.edu/event/free-concert-jimmy-deheno-guitar-2/
LOCATION:MI
CATEGORIES:Arts,Thursday concert series
END:VEVENT
END:VCALENDAR