BEGIN:VCALENDAR
VERSION:2.0
PRODID:-//St. Clair County Community College - ECPv6.15.20//NONSGML v1.0//EN
CALSCALE:GREGORIAN
METHOD:PUBLISH
X-ORIGINAL-URL:https://sc4.edu
X-WR-CALDESC:Events for St. Clair County Community College
REFRESH-INTERVAL;VALUE=DURATION:PT1H
X-Robots-Tag:noindex
X-PUBLISHED-TTL:PT1H
BEGIN:VTIMEZONE
TZID:America/Detroit
BEGIN:DAYLIGHT
TZOFFSETFROM:-0500
TZOFFSETTO:-0400
TZNAME:EDT
DTSTART:20240310T070000
END:DAYLIGHT
BEGIN:STANDARD
TZOFFSETFROM:-0400
TZOFFSETTO:-0500
TZNAME:EST
DTSTART:20241103T060000
END:STANDARD
BEGIN:DAYLIGHT
TZOFFSETFROM:-0500
TZOFFSETTO:-0400
TZNAME:EDT
DTSTART:20250309T070000
END:DAYLIGHT
BEGIN:STANDARD
TZOFFSETFROM:-0400
TZOFFSETTO:-0500
TZNAME:EST
DTSTART:20251102T060000
END:STANDARD
BEGIN:DAYLIGHT
TZOFFSETFROM:-0500
TZOFFSETTO:-0400
TZNAME:EDT
DTSTART:20260308T070000
END:DAYLIGHT
BEGIN:STANDARD
TZOFFSETFROM:-0400
TZOFFSETTO:-0500
TZNAME:EST
DTSTART:20261101T060000
END:STANDARD
END:VTIMEZONE
BEGIN:VEVENT
DTSTART;TZID=America/Detroit:20250210T090000
DTEND;TZID=America/Detroit:20250221T190000
DTSTAMP:20260419T084920
CREATED:20240827T202609Z
LAST-MODIFIED:20240827T202623Z
UID:10001787-1739178000-1740164400@sc4.edu
SUMMARY:Beatrice Thornton Middle/High School Exhibition
DESCRIPTION:Location: SC4 Fine Arts Gallery
URL:https://sc4.edu/event/beatrice-thornton-middle-high-school-exhibition/
LOCATION:MI
CATEGORIES:Arts
END:VEVENT
BEGIN:VEVENT
DTSTART;TZID=America/Detroit:20250210T180000
DTEND;TZID=America/Detroit:20250210T190000
DTSTAMP:20260419T084920
CREATED:20240827T203401Z
LAST-MODIFIED:20241120T183637Z
UID:10001788-1739210400-1739214000@sc4.edu
SUMMARY:Beatrice Thornton Middle/High School Exhibition Reception
DESCRIPTION:
URL:https://sc4.edu/event/beatrice-thornton-middle-high-school-exhibition-reception/
LOCATION:MI
CATEGORIES:Arts
END:VEVENT
BEGIN:VEVENT
DTSTART;TZID=America/Detroit:20250213T190000
DTEND;TZID=America/Detroit:20250213T203000
DTSTAMP:20260419T084920
CREATED:20240813T015929Z
LAST-MODIFIED:20250212T200627Z
UID:10001780-1739473200-1739478600@sc4.edu
SUMMARY:CANCELLED - Free Concert: Rodney Page - Violin
DESCRIPTION:Join us for a performance by composer\, recording artist\, conductor\, and performer Rodney Lamar Page. Page has a unique\, energetic style ranging from classical to pop music. For more than 20 years\, he has touched countless audiences with his passion and artistic drive for music. \n\n\n\nSouthfield\, Michigan native Page began studying violin at age 10. Upon high school graduation\, he was awarded a music scholarship to Michigan State University\, where he subsequently earned both bachelor’s and master’s degrees in music education. Throughout his secondary school and collegiate career\, Rodney also studied piano\, developing into an accomplished pianist. \n\n\n\nAs a violinist\, Mr. Page has performed in the Midland Symphony Orchestra (7 years)\, Michigan State University Symphony Orchestra (4 years)\, Livingston Symphony Orchestra (1 year)\, and as a 2nd violinist in the South Shore Symphony Orchestra in China. \n\n\n\nA passionate teacher who inspires students to appreciate all forms of music\, Page has been involved in music education for over 20 years. In addition to the orchestras he directed in the St. Johns and East Lansing (Michigan) public school systems\, Rodney engaged teenage musicians at the Blue Lake Fine Arts Camp in Michigan as the Symphony Orchestra conductor and violin instructor over 4 summers. During his college career\, he founded and directed a summer string camp for middle and high school students in Southfield. Rodney cultivates talent in aspiring musicians and believes children’s musical experiences in school impact the future of music. As a national conductor and clinician\, Mr. Page has guest-conducted student orchestras throughout the United States. \n\n\n\nThe performance is scheduled from 7 p.m. to 8:30 p.m. in the SC4 Fine Arts Theatre. \n\n\n\nSeats are general admission\, and no reservations are needed. Doors open 15 minutes before showtime.
URL:https://sc4.edu/event/free-concert-rodney-page-violin-2/
LOCATION:MI
CATEGORIES:Arts,Thursday concert series
END:VEVENT
END:VCALENDAR