BEGIN:VCALENDAR
VERSION:2.0
PRODID:-//St. Clair County Community College - ECPv6.15.20//NONSGML v1.0//EN
CALSCALE:GREGORIAN
METHOD:PUBLISH
X-WR-CALNAME:St. Clair County Community College
X-ORIGINAL-URL:https://sc4.edu
X-WR-CALDESC:Events for St. Clair County Community College
REFRESH-INTERVAL;VALUE=DURATION:PT1H
X-Robots-Tag:noindex
X-PUBLISHED-TTL:PT1H
BEGIN:VTIMEZONE
TZID:America/Detroit
BEGIN:DAYLIGHT
TZOFFSETFROM:-0500
TZOFFSETTO:-0400
TZNAME:EDT
DTSTART:20250309T070000
END:DAYLIGHT
BEGIN:STANDARD
TZOFFSETFROM:-0400
TZOFFSETTO:-0500
TZNAME:EST
DTSTART:20251102T060000
END:STANDARD
BEGIN:DAYLIGHT
TZOFFSETFROM:-0500
TZOFFSETTO:-0400
TZNAME:EDT
DTSTART:20260308T070000
END:DAYLIGHT
BEGIN:STANDARD
TZOFFSETFROM:-0400
TZOFFSETTO:-0500
TZNAME:EST
DTSTART:20261101T060000
END:STANDARD
BEGIN:DAYLIGHT
TZOFFSETFROM:-0500
TZOFFSETTO:-0400
TZNAME:EDT
DTSTART:20270314T070000
END:DAYLIGHT
BEGIN:STANDARD
TZOFFSETFROM:-0400
TZOFFSETTO:-0500
TZNAME:EST
DTSTART:20271107T060000
END:STANDARD
END:VTIMEZONE
BEGIN:VEVENT
DTSTART;TZID=America/Detroit:20260409T190000
DTEND;TZID=America/Detroit:20260409T203000
DTSTAMP:20260422T134219
CREATED:20251204T202523Z
LAST-MODIFIED:20260407T193348Z
UID:10002296-1775761200-1775766600@sc4.edu
SUMMARY:Night Concert: SC4 Showcase
DESCRIPTION:The Night concert for this April is… You! SC4 Faculty\, Staff and Students will take the stage to show off their musical talent on April 9 at 7 PM. We hope to showcase a diverse range of musical styles and genres. Details of musical acts TBD. \n\n\n\nAuditions student musicians and bands will be March 2 and 3 from 5-9 PM in the Fine Arts Theatre. Come show us what you can do! Sign up for your audition date here: Sign-ups for Noon and Night Concert SC4 Showcase Auditions – Fill out form
URL:https://sc4.edu/event/noon-and-night-concert-sc4-showcase-2/
LOCATION:SC4 Fine Arts Theatre\, 601 Erie Street\, Port Huron\, MI\, 48060\, United States
CATEGORIES:Arts,Thursday concert series
END:VEVENT
END:VCALENDAR