BEGIN:VCALENDAR
VERSION:2.0
PRODID:-//St. Clair County Community College - ECPv6.15.20//NONSGML v1.0//EN
CALSCALE:GREGORIAN
METHOD:PUBLISH
X-ORIGINAL-URL:https://sc4.edu
X-WR-CALDESC:Events for St. Clair County Community College
REFRESH-INTERVAL;VALUE=DURATION:PT1H
X-Robots-Tag:noindex
X-PUBLISHED-TTL:PT1H
BEGIN:VTIMEZONE
TZID:America/Detroit
BEGIN:DAYLIGHT
TZOFFSETFROM:-0500
TZOFFSETTO:-0400
TZNAME:EDT
DTSTART:20250309T070000
END:DAYLIGHT
BEGIN:STANDARD
TZOFFSETFROM:-0400
TZOFFSETTO:-0500
TZNAME:EST
DTSTART:20251102T060000
END:STANDARD
BEGIN:DAYLIGHT
TZOFFSETFROM:-0500
TZOFFSETTO:-0400
TZNAME:EDT
DTSTART:20260308T070000
END:DAYLIGHT
BEGIN:STANDARD
TZOFFSETFROM:-0400
TZOFFSETTO:-0500
TZNAME:EST
DTSTART:20261101T060000
END:STANDARD
BEGIN:DAYLIGHT
TZOFFSETFROM:-0500
TZOFFSETTO:-0400
TZNAME:EDT
DTSTART:20270314T070000
END:DAYLIGHT
BEGIN:STANDARD
TZOFFSETFROM:-0400
TZOFFSETTO:-0500
TZNAME:EST
DTSTART:20271107T060000
END:STANDARD
END:VTIMEZONE
BEGIN:VEVENT
DTSTART;TZID=America/Detroit:20260430T180000
DTEND;TZID=America/Detroit:20260430T200000
DTSTAMP:20260422T105155
CREATED:20260413T154547Z
LAST-MODIFIED:20260413T154550Z
UID:10002379-1777572000-1777579200@sc4.edu
SUMMARY:Patterns Exhibition Awards Ceremony
DESCRIPTION:Please join us for the 68th Annual Patterns Closing Reception from 6-7PM and then the Awards Ceremony after the reception at 7 PM in the Fine Arts Theatre.  \n\n\n\nPatterns is a magazine of student literature and art that has been published annually for more than 60 years. Patterns is the longest continually published community college literary and arts magazine in Michigan featuring student work. 
URL:https://sc4.edu/event/patterns-exhibition-awards-ceremony/
LOCATION:SC4 Fine Arts Theatre\, 601 Erie Street\, Port Huron\, MI\, 48060\, United States
CATEGORIES:Arts
END:VEVENT
BEGIN:VEVENT
DTSTART;TZID=America/Detroit:20260501T170000
DTEND;TZID=America/Detroit:20260501T190000
DTSTAMP:20260422T105155
CREATED:20260309T124454Z
LAST-MODIFIED:20260415T143817Z
UID:10002378-1777654800-1777662000@sc4.edu
SUMMARY:Drama Club & Improv Showcase
DESCRIPTION:Join us for an exciting night of student theatre!The Drama Club will open the evening with selections from Too Much Light Makes the Baby Go Blind\, setting the tone for a vibrant night of creative performance. \n\n\n\nAfter a short intermission\, we’ll transition directly into the Improv Showcase\, featuring spontaneous\, student‑driven improvisational work from Joel Frazee’s Improv class. \n\n\n\nExpect a 1.5–2 hour event filled with creativity and engaging performances.
URL:https://sc4.edu/event/drama-club-improv-showcase-2/
LOCATION:SC4 Fine Arts Theatre\, 601 Erie Street\, Port Huron\, MI\, 48060\, United States
CATEGORIES:Arts
END:VEVENT
END:VCALENDAR