BEGIN:VCALENDAR
VERSION:2.0
PRODID:-//St. Clair County Community College - ECPv6.15.20//NONSGML v1.0//EN
CALSCALE:GREGORIAN
METHOD:PUBLISH
X-WR-CALNAME:St. Clair County Community College
X-ORIGINAL-URL:https://sc4.edu
X-WR-CALDESC:Events for St. Clair County Community College
REFRESH-INTERVAL;VALUE=DURATION:PT1H
X-Robots-Tag:noindex
X-PUBLISHED-TTL:PT1H
BEGIN:VTIMEZONE
TZID:America/Detroit
BEGIN:DAYLIGHT
TZOFFSETFROM:-0500
TZOFFSETTO:-0400
TZNAME:EDT
DTSTART:20230312T070000
END:DAYLIGHT
BEGIN:STANDARD
TZOFFSETFROM:-0400
TZOFFSETTO:-0500
TZNAME:EST
DTSTART:20231105T060000
END:STANDARD
BEGIN:DAYLIGHT
TZOFFSETFROM:-0500
TZOFFSETTO:-0400
TZNAME:EDT
DTSTART:20240310T070000
END:DAYLIGHT
BEGIN:STANDARD
TZOFFSETFROM:-0400
TZOFFSETTO:-0500
TZNAME:EST
DTSTART:20241103T060000
END:STANDARD
BEGIN:DAYLIGHT
TZOFFSETFROM:-0500
TZOFFSETTO:-0400
TZNAME:EDT
DTSTART:20250309T070000
END:DAYLIGHT
BEGIN:STANDARD
TZOFFSETFROM:-0400
TZOFFSETTO:-0500
TZNAME:EST
DTSTART:20251102T060000
END:STANDARD
END:VTIMEZONE
BEGIN:VEVENT
DTSTART;TZID=America/Detroit:20241105T173000
DTEND;TZID=America/Detroit:20241105T193000
DTSTAMP:20260420T031017
CREATED:20240916T133804Z
LAST-MODIFIED:20250106T151616Z
UID:10001820-1730827800-1730835000@sc4.edu
SUMMARY:Women's Basketball vs. Lambton College
DESCRIPTION:SC4 Skippers VS. Lambton College
URL:https://sc4.edu/event/womens-basketball-vs-lambton-college/
LOCATION:SC4 Fieldhouse\, 400 Erie Street\, Port Huron\, MI\, 48060\, United States
CATEGORIES:Athletics,Basketball
END:VEVENT
BEGIN:VEVENT
DTSTART;TZID=America/Detroit:20241105T173000
DTEND;TZID=America/Detroit:20241105T193000
DTSTAMP:20260420T031017
CREATED:20241014T140436Z
LAST-MODIFIED:20250106T151609Z
UID:10001867-1730827800-1730835000@sc4.edu
SUMMARY:Women's Basketball VS. Lambton College
DESCRIPTION:SC4 Skippers play at home VS. Lambton College.
URL:https://sc4.edu/event/womens-basketball-vs-lambton-college-2/
LOCATION:SC4 Fieldhouse\, 400 Erie Street\, Port Huron\, MI\, 48060\, United States
CATEGORIES:Athletics,Basketball
END:VEVENT
BEGIN:VEVENT
DTSTART;TZID=America/Detroit:20241105T193000
DTEND;TZID=America/Detroit:20241105T213000
DTSTAMP:20260420T031017
CREATED:20240916T133640Z
LAST-MODIFIED:20250106T151559Z
UID:10001821-1730835000-1730842200@sc4.edu
SUMMARY:Men's Basketball vs. Lambton College
DESCRIPTION:SC4 Skippers VS. Lambton College
URL:https://sc4.edu/event/mens-basketball-vs-lambton-college/
LOCATION:SC4 Fieldhouse\, 400 Erie Street\, Port Huron\, MI\, 48060\, United States
CATEGORIES:Athletics,Basketball
END:VEVENT
BEGIN:VEVENT
DTSTART;TZID=America/Detroit:20241105T193000
DTEND;TZID=America/Detroit:20241105T213000
DTSTAMP:20260420T031017
CREATED:20241014T140530Z
LAST-MODIFIED:20250106T151553Z
UID:10001868-1730835000-1730842200@sc4.edu
SUMMARY:Men's Basketball VS. Lambton College
DESCRIPTION:SC4 Skippers play at home VS. Lambton College
URL:https://sc4.edu/event/mens-basketball-vs-lambton-college-2/
LOCATION:SC4 Fieldhouse\, 400 Erie Street\, Port Huron\, MI\, 48060\, United States
CATEGORIES:Athletics,Basketball
END:VEVENT
BEGIN:VEVENT
DTSTART;TZID=America/Detroit:20241123T130000
DTEND;TZID=America/Detroit:20241123T150000
DTSTAMP:20260420T031017
CREATED:20241014T141134Z
LAST-MODIFIED:20250106T150738Z
UID:10001874-1732366800-1732374000@sc4.edu
SUMMARY:Women's Basketball VS. Lakeland Community College
DESCRIPTION:SC4 Skippers play at home
URL:https://sc4.edu/event/womens-basketball-vs-lakeland-community-college/
LOCATION:SC4 Fieldhouse\, 400 Erie Street\, Port Huron\, MI\, 48060\, United States
CATEGORIES:Athletics,Basketball
END:VEVENT
BEGIN:VEVENT
DTSTART;TZID=America/Detroit:20241123T150000
DTEND;TZID=America/Detroit:20241123T170000
DTSTAMP:20260420T031017
CREATED:20241014T141224Z
LAST-MODIFIED:20250106T150712Z
UID:10001875-1732374000-1732381200@sc4.edu
SUMMARY:Men's Basketball VS. Lakeland Community College
DESCRIPTION:SC4 Skippers at home
URL:https://sc4.edu/event/mens-basketball-vs-lakeland-community-college/
LOCATION:SC4 Fieldhouse\, 400 Erie Street\, Port Huron\, MI\, 48060\, United States
CATEGORIES:Athletics,Basketball
END:VEVENT
END:VCALENDAR