BEGIN:VCALENDAR
VERSION:2.0
PRODID:-//St. Clair County Community College - ECPv6.15.20//NONSGML v1.0//EN
CALSCALE:GREGORIAN
METHOD:PUBLISH
X-WR-CALNAME:St. Clair County Community College
X-ORIGINAL-URL:https://sc4.edu
X-WR-CALDESC:Events for St. Clair County Community College
REFRESH-INTERVAL;VALUE=DURATION:PT1H
X-Robots-Tag:noindex
X-PUBLISHED-TTL:PT1H
BEGIN:VTIMEZONE
TZID:America/Detroit
BEGIN:DAYLIGHT
TZOFFSETFROM:-0500
TZOFFSETTO:-0400
TZNAME:EDT
DTSTART:20240310T070000
END:DAYLIGHT
BEGIN:STANDARD
TZOFFSETFROM:-0400
TZOFFSETTO:-0500
TZNAME:EST
DTSTART:20241103T060000
END:STANDARD
BEGIN:DAYLIGHT
TZOFFSETFROM:-0500
TZOFFSETTO:-0400
TZNAME:EDT
DTSTART:20250309T070000
END:DAYLIGHT
BEGIN:STANDARD
TZOFFSETFROM:-0400
TZOFFSETTO:-0500
TZNAME:EST
DTSTART:20251102T060000
END:STANDARD
BEGIN:DAYLIGHT
TZOFFSETFROM:-0500
TZOFFSETTO:-0400
TZNAME:EDT
DTSTART:20260308T070000
END:DAYLIGHT
BEGIN:STANDARD
TZOFFSETFROM:-0400
TZOFFSETTO:-0500
TZNAME:EST
DTSTART:20261101T060000
END:STANDARD
END:VTIMEZONE
BEGIN:VEVENT
DTSTART;TZID=America/Detroit:20250208T130000
DTEND;TZID=America/Detroit:20250208T170000
DTSTAMP:20260420T000356
CREATED:20250102T154027Z
LAST-MODIFIED:20250106T150139Z
UID:10001969-1739019600-1739034000@sc4.edu
SUMMARY:SC4 Basketball Games vs. Oakland
DESCRIPTION:Women at 1 PM \nMen at 3 PM
URL:https://sc4.edu/event/sc4-basketball-games-vs-oakland/
LOCATION:SC4 Fieldhouse\, 400 Erie Street\, Port Huron\, MI\, 48060\, United States
CATEGORIES:Athletics,Basketball
END:VEVENT
END:VCALENDAR