BEGIN:VCALENDAR
VERSION:2.0
PRODID:-//St. Clair County Community College - ECPv6.15.20//NONSGML v1.0//EN
CALSCALE:GREGORIAN
METHOD:PUBLISH
X-ORIGINAL-URL:https://sc4.edu
X-WR-CALDESC:Events for St. Clair County Community College
REFRESH-INTERVAL;VALUE=DURATION:PT1H
X-Robots-Tag:noindex
X-PUBLISHED-TTL:PT1H
BEGIN:VTIMEZONE
TZID:America/Detroit
BEGIN:DAYLIGHT
TZOFFSETFROM:-0500
TZOFFSETTO:-0400
TZNAME:EDT
DTSTART:20200308T070000
END:DAYLIGHT
BEGIN:STANDARD
TZOFFSETFROM:-0400
TZOFFSETTO:-0500
TZNAME:EST
DTSTART:20201101T060000
END:STANDARD
BEGIN:DAYLIGHT
TZOFFSETFROM:-0500
TZOFFSETTO:-0400
TZNAME:EDT
DTSTART:20210314T070000
END:DAYLIGHT
BEGIN:STANDARD
TZOFFSETFROM:-0400
TZOFFSETTO:-0500
TZNAME:EST
DTSTART:20211107T060000
END:STANDARD
BEGIN:DAYLIGHT
TZOFFSETFROM:-0500
TZOFFSETTO:-0400
TZNAME:EDT
DTSTART:20220313T070000
END:DAYLIGHT
BEGIN:STANDARD
TZOFFSETFROM:-0400
TZOFFSETTO:-0500
TZNAME:EST
DTSTART:20221106T060000
END:STANDARD
END:VTIMEZONE
BEGIN:VEVENT
DTSTART;TZID=America/Detroit:20210911T110000
DTEND;TZID=America/Detroit:20210911T120000
DTSTAMP:20260425T090439
CREATED:20210827T142937Z
LAST-MODIFIED:20210831T134729Z
UID:10000998-1631358000-1631361600@sc4.edu
SUMMARY:Skippers home volleyball quad match
DESCRIPTION:The Skippers volleyball team hosts a quad match with matches at 11 a.m.\, 1 and 3 p.m. \n\n\n\nLocation: SC4 FieldhouseTicket information: https://sc4skippers.com/fanzone/tickets
URL:https://sc4.edu/event/skippers-home-volleyball-quad-match/
LOCATION:MI
CATEGORIES:Athletics
END:VEVENT
BEGIN:VEVENT
DTSTART;TZID=America/Detroit:20210914T190000
DTEND;TZID=America/Detroit:20210914T210000
DTSTAMP:20260425T090439
CREATED:20210827T143104Z
LAST-MODIFIED:20210827T143105Z
UID:10000999-1631646000-1631653200@sc4.edu
SUMMARY:Skippers home volleyball match
DESCRIPTION:The Skippers volleyball team takes on Henry Ford College. \n\n\n\nLocation: SC4 FieldhouseTicket information: https://sc4skippers.com/fanzone/tickets
URL:https://sc4.edu/event/skippers-home-volleyball-match-6/
LOCATION:MI
CATEGORIES:Athletics
END:VEVENT
BEGIN:VEVENT
DTSTART;TZID=America/Detroit:20210916T120000
DTEND;TZID=America/Detroit:20210916T130000
DTSTAMP:20260425T090439
CREATED:20210901T132122Z
LAST-MODIFIED:20211021T131331Z
UID:10001002-1631793600-1631797200@sc4.edu
SUMMARY:Free concert: Lexington Bach String Quartet
DESCRIPTION:SC4 is happy to feature standout performers from the Lexington Bach Festival\, a weeklong event bringing the music of Johann Sebastian Bach and other composers influenced by Bach to our community. The quartet will kick off our Free Thursday Concert Series by performing classic compositions. Performances are scheduled for noon and 7 p.m. in the SC4 Fine Arts Theatre. \n\n\n\nAll concerts are free admission. Seating is limited and tickets are required to reserve seats. Seats are reserved by ticket until 15 minutes prior to showtime at which all individuals are admitted until the theatre is at capacity. To reserve tickets\, click here or call (810) 989-5709. \n\n\n\nMasks required inside campus buildings.
URL:https://sc4.edu/event/free-concert-lexington-bach-string-quartet/
LOCATION:MI
CATEGORIES:Arts,Community,Thursday concert series
END:VEVENT
BEGIN:VEVENT
DTSTART;TZID=America/Detroit:20210916T170000
DTEND;TZID=America/Detroit:20210916T180000
DTSTAMP:20260425T090439
CREATED:20210106T160015Z
LAST-MODIFIED:20210106T160017Z
UID:10000977-1631811600-1631815200@sc4.edu
SUMMARY:Respiratory Therapy program information session
DESCRIPTION:Attend this virtual information session to ask questions and learn about the program\, course schedule\, any prerequisites\, and more. Join the meeting here:  https://sc4.edu/programs/health-human-services/respiratory-therapy/
URL:https://sc4.edu/event/respiratory-therapy-program-information-session-19/
LOCATION:MI
CATEGORIES:Academics,Admissions
END:VEVENT
BEGIN:VEVENT
DTSTART;TZID=America/Detroit:20210916T190000
DTEND;TZID=America/Detroit:20210916T203000
DTSTAMP:20260425T090439
CREATED:20210901T132252Z
LAST-MODIFIED:20211021T131319Z
UID:10001003-1631818800-1631824200@sc4.edu
SUMMARY:Free concert: Lexington Bach String Quartet
DESCRIPTION:SC4 is happy to feature standout performers from the Lexington Bach Festival\, a weeklong event bringing the music of Johann Sebastian Bach and other composers influenced by Bach to our community. The quartet will kick off our Free Thursday Concert Series by performing classic compositions. Performances are scheduled for noon and 7 p.m. in the SC4 Fine Arts Theatre. \n\n\n\nAll concerts are free admission. Seating is limited and tickets are required to reserve seats. Seats are reserved by ticket until 15 minutes prior to showtime at which all individuals are admitted until the theatre is at capacity. To reserve tickets\, click here or call (810) 989-5709. \n\n\n\n Masks required inside campus buildings.
URL:https://sc4.edu/event/free-concert-lexington-bach-string-quartet-2/
LOCATION:MI
CATEGORIES:Arts,Community,Thursday concert series
END:VEVENT
BEGIN:VEVENT
DTSTART;TZID=America/Detroit:20210917T100000
DTEND;TZID=America/Detroit:20210917T110000
DTSTAMP:20260425T090439
CREATED:20210106T143746Z
LAST-MODIFIED:20210106T143748Z
UID:10000962-1631872800-1631876400@sc4.edu
SUMMARY:ADN Transition program information session
DESCRIPTION:Attend this virtual information session to ask questions and learn about the program\, course schedule\, any prerequisites\, and more. Join the meeting here: https://sc4.edu/programs/health-human-services/nursing/adn-transition-program/
URL:https://sc4.edu/event/adn-transition-program-information-session-3/
LOCATION:MI
CATEGORIES:Academics,Admissions
END:VEVENT
BEGIN:VEVENT
DTSTART;TZID=America/Detroit:20210917T100000
DTEND;TZID=America/Detroit:20210917T150000
DTSTAMP:20260425T090439
CREATED:20210827T144259Z
LAST-MODIFIED:20210831T164320Z
UID:10000871-1631872800-1631890800@sc4.edu
SUMMARY:Skippers Golf - Sam Kromer Invitational
DESCRIPTION:The Skipper Golf Teams host the Sam Kromer Invitational at the Port Huron Elks Golf Club.
URL:https://sc4.edu/event/skippers-golf-sam-kromer-invitational-2/
LOCATION:MI
CATEGORIES:Athletics
END:VEVENT
BEGIN:VEVENT
DTSTART;TZID=America/Detroit:20210918T140000
DTEND;TZID=America/Detroit:20210918T160000
DTSTAMP:20260425T090439
CREATED:20210831T170001Z
LAST-MODIFIED:20210831T170148Z
UID:10000872-1631973600-1631980800@sc4.edu
SUMMARY:Skippers home soccer match
DESCRIPTION:The Skippers take on Ancilla College.Location: Skippers Soccer Field at Morton Park\, 500 Busha Hwy.\, Marysville
URL:https://sc4.edu/event/skippers-home-soccer-match/
LOCATION:MI
CATEGORIES:Athletics
END:VEVENT
BEGIN:VEVENT
DTSTART;TZID=America/Detroit:20210920T090000
DTEND;TZID=America/Detroit:20211015T163000
DTSTAMP:20260425T090439
CREATED:20210901T151219Z
LAST-MODIFIED:20211004T132015Z
UID:10001010-1632128400-1634315400@sc4.edu
SUMMARY:Gallery show: Collectively Independent VIII
DESCRIPTION:This showcase features a wide variety of mediums and subject matter. Each piece is an original work of art from the arts faculty at SC4.Location: Fine Arts Building Gallery Hours: 9 a.m. to 4:30 p.m. Monday to Friday \n\n\n\nMasks required inside campus buildings.
URL:https://sc4.edu/event/gallery-show-collectively-independent-viii/
LOCATION:MI
CATEGORIES:Arts,Community
END:VEVENT
BEGIN:VEVENT
DTSTART;TZID=America/Detroit:20210923T190000
DTEND;TZID=America/Detroit:20210923T210000
DTSTAMP:20260425T090439
CREATED:20210827T143312Z
LAST-MODIFIED:20210831T170124Z
UID:10000860-1632423600-1632430800@sc4.edu
SUMMARY:Skippers home volleyball match
DESCRIPTION:The Skippers volleyball team takes on Schoolcraft College. \n\n\n\nLocation: SC4 FieldhouseTicket information: https://sc4skippers.com/fanzone/tickets
URL:https://sc4.edu/event/skippers-home-volleyball-match-7/
LOCATION:MI
CATEGORIES:Athletics
END:VEVENT
BEGIN:VEVENT
DTSTART;TZID=America/Detroit:20211002T140000
DTEND;TZID=America/Detroit:20211002T160000
DTSTAMP:20260425T090439
CREATED:20210908T143922Z
LAST-MODIFIED:20210908T143923Z
UID:10001014-1633183200-1633190400@sc4.edu
SUMMARY:Skippers home soccer match
DESCRIPTION:The Skippers take on Kellogg Community College.Location: Skippers Soccer Field at Morton Park\, 500 Busha Hwy.\, Marysville
URL:https://sc4.edu/event/skippers-home-soccer-match-6/
LOCATION:MI
CATEGORIES:Athletics,Community
END:VEVENT
BEGIN:VEVENT
DTSTART;TZID=America/Detroit:20211005T190000
DTEND;TZID=America/Detroit:20211005T210000
DTSTAMP:20260425T090439
CREATED:20210827T143453Z
LAST-MODIFIED:20210827T143454Z
UID:10000863-1633460400-1633467600@sc4.edu
SUMMARY:Skippers home volleyball match
DESCRIPTION:The Skippers volleyball team takes on Macomb Community College. \n\n\n\nLocation: SC4 FieldhouseTicket information: https://sc4skippers.com/fanzone/tickets
URL:https://sc4.edu/event/skippers-home-volleyball-match-8/
LOCATION:MI
CATEGORIES:Athletics
END:VEVENT
BEGIN:VEVENT
DTSTART;TZID=America/Detroit:20211007T100000
DTEND;TZID=America/Detroit:20211007T110000
DTSTAMP:20260425T090439
CREATED:20210106T164446Z
LAST-MODIFIED:20210106T164447Z
UID:10000990-1633600800-1633604400@sc4.edu
SUMMARY:Radiologic Technology program information session
DESCRIPTION:Attend this virtual information session to ask questions and learn about the program\, course schedule\, any prerequisites\, and more. Join the meeting here:  https://sc4.edu/programs/health-human-services/radiologic-technology/
URL:https://sc4.edu/event/radiologic-technology-program-information-session-23/
LOCATION:MI
CATEGORIES:Academics,Admissions
END:VEVENT
BEGIN:VEVENT
DTSTART;TZID=America/Detroit:20211007T120000
DTEND;TZID=America/Detroit:20211007T130000
DTSTAMP:20260425T090439
CREATED:20210901T143846Z
LAST-MODIFIED:20211021T125817Z
UID:10001004-1633608000-1633611600@sc4.edu
SUMMARY:Free concert: David Fisher\, pianist
DESCRIPTION:Pianist and SC4 instructor David M. Fisher will perform at noon and 7 p.m. as part of the Thursday Concert Series. Follow along in a 200-year journey where David Fisher reveals the subtleties of Schubert’s first set of Four Impromptus and four other composers. \n\n\n\nAll concerts are free admission. Seating is limited and tickets are required to reserve seats. Seats are reserved by ticket until 15 minutes prior to showtime at which all individuals are admitted until the theatre is at capacity. To reserve tickets\, click here or call (810) 989-5709. \n\n\n\nMasks required inside campus buildings.
URL:https://sc4.edu/event/free-concert-david-fisher-pianist/
LOCATION:MI
CATEGORIES:Arts,Community,Thursday concert series
END:VEVENT
BEGIN:VEVENT
DTSTART;TZID=America/Detroit:20211007T160000
DTEND;TZID=America/Detroit:20211007T180000
DTSTAMP:20260425T090439
CREATED:20210831T170424Z
LAST-MODIFIED:20210831T170425Z
UID:10000875-1633622400-1633629600@sc4.edu
SUMMARY:Skippers home soccer match
DESCRIPTION:The Skippers take on Rochester University.Location: Skippers Soccer Field at Morton Park\, 500 Busha Hwy.\, Marysville
URL:https://sc4.edu/event/skippers-home-soccer-match-2/
LOCATION:MI
CATEGORIES:Athletics
END:VEVENT
BEGIN:VEVENT
DTSTART;TZID=America/Detroit:20211007T190000
DTEND;TZID=America/Detroit:20211007T200000
DTSTAMP:20260425T090439
CREATED:20210901T144007Z
LAST-MODIFIED:20211021T125806Z
UID:10001005-1633633200-1633636800@sc4.edu
SUMMARY:Free concert: David Fisher\, pianist
DESCRIPTION:Pianist and SC4 instructor David M. Fisher will perform at noon and 7 p.m. as part of the Thursday Concert Series. Follow along in a 200-year journey where David Fisher reveals the subtleties of Schubert’s first set of Four Impromptus and four other composers. \n\n\n\nAll concerts are free admission. Seating is limited and tickets are required to reserve seats. Seats are reserved by ticket until 15 minutes prior to showtime at which all individuals are admitted until the theatre is at capacity. To reserve tickets\, click here or call (810) 989-5709. \n\n\n\nMasks required inside campus buildings.
URL:https://sc4.edu/event/free-concert-david-fisher-pianist-2/
LOCATION:MI
CATEGORIES:Arts,Community,Thursday concert series
END:VEVENT
BEGIN:VEVENT
DTSTART;TZID=America/Detroit:20211010T130000
DTEND;TZID=America/Detroit:20211010T150000
DTSTAMP:20260425T090439
CREATED:20210831T170554Z
LAST-MODIFIED:20210831T170556Z
UID:10000876-1633870800-1633878000@sc4.edu
SUMMARY:Skippers home soccer match
DESCRIPTION:The Skippers take on Jackson College.Location: Skippers Soccer Field at Morton Park\, 500 Busha Hwy.\, Marysville
URL:https://sc4.edu/event/skippers-home-soccer-match-3/
LOCATION:MI
CATEGORIES:Athletics
END:VEVENT
BEGIN:VEVENT
DTSTART;TZID=America/Detroit:20211012T190000
DTEND;TZID=America/Detroit:20211012T203000
DTSTAMP:20260425T090439
CREATED:20211001T195214Z
LAST-MODIFIED:20211001T195216Z
UID:10001015-1634065200-1634070600@sc4.edu
SUMMARY:SC4 Financial Aid Night
DESCRIPTION:SC4 will host its annual Financial Aid Night at 7 p.m. Tuesday\, Oct. 12\, via a virtual Zoom meeting. \n\n\n\nOpen to students\, families and all area residents\, the event connects SC4’s financial aid experts with the community to share valuable information about financial aid processes\, opportunities and tips to maximize the money students can receive. \n\n\n\nWith the 2022-23 Federal Application for Free Student Aid (FAFSA) becoming available Oct. 1\, the event provides timely assistance for anyone who wants to learn more about paying for college. While Financial Aid Night is hosted by SC4\, students and families interested in any college are welcome to attend. \n\n\n\nThe presentation will provide information on all type of financial aid\, including loans\, grants\, and scholarships. SC4 representatives will explain how to apply for financial aid and give tips for obtaining maximum awards. A question-and-answer period will also be available. \n\n\n\nFor those interested in attending\, registration is required by emailing financialaid@sc4.edu.
URL:https://sc4.edu/event/sc4-financial-aid-night-3/
LOCATION:MI
CATEGORIES:Academics,Admissions,Community
END:VEVENT
BEGIN:VEVENT
DTSTART;TZID=America/Detroit:20211012T190000
DTEND;TZID=America/Detroit:20211012T210000
DTSTAMP:20260425T090439
CREATED:20210827T143611Z
LAST-MODIFIED:20210827T143612Z
UID:10000864-1634065200-1634072400@sc4.edu
SUMMARY:Skippers home volleyball match
DESCRIPTION:The Skippers volleyball team takes on Mott Community College. \n\n\n\nLocation: SC4 FieldhouseTicket information: https://sc4skippers.com/fanzone/tickets
URL:https://sc4.edu/event/skippers-home-volleyball-match-9/
LOCATION:MI
CATEGORIES:Athletics
END:VEVENT
BEGIN:VEVENT
DTSTART;TZID=America/Detroit:20211015T100000
DTEND;TZID=America/Detroit:20211015T113000
DTSTAMP:20260425T090439
CREATED:20211014T123545Z
LAST-MODIFIED:20211015T144454Z
UID:10001017-1634292000-1634297400@sc4.edu
SUMMARY:‘Blindspot’ book discussion
DESCRIPTION:The Office of Diversity\, Equity and Inclusion presents a virtual book discussion on Blindspot: Hidden Biases of Good People by Mahzarin R. Banaji and Anthony G. Greenwald. \n\n\n\nThe virtual Zoom discussion will be led by facilitators Dr. Leah Howell and Dr. Portia Watkins from 10 to 11:30 a.m. Friday\, Oct. 15. To reserve a spot and receive the link\, email dei@sc4.edu by Friday\, Oct. 8. \n\n\n\nThe reading explores hidden biases that we all carry from a lifetime of experiences with social groups — age\, gender\, race\, ethnicity\, religion\, social class\, sexuality\, disability status or nationality. \n\n\n\nThe discussion will provide a structured opportunity for individuals to reflect upon the reading\, including their own identities and biases\, and encourage shared dialogue in the reflection. An individualized overview will be developed and provided for the reading. \n\n\n\nReading the book is not a requirement to attend the session. For those wanting a hard copy of the book\, email dei@sc4.edu. An ebook version also is available\, off-campus users will be prompted to login using their SC4 Portal username and password. \n\n\n\nFor questions related to this event or DEI related topics\, email dei@sc4.edu.
URL:https://sc4.edu/event/blindspot-book-discussion/
LOCATION:MI
CATEGORIES:Diversity Equity Inclusion
END:VEVENT
BEGIN:VEVENT
DTSTART;TZID=America/Detroit:20211016T110000
DTEND;TZID=America/Detroit:20211016T170000
DTSTAMP:20260425T090439
CREATED:20210827T143743Z
LAST-MODIFIED:20210831T170922Z
UID:10000867-1634382000-1634403600@sc4.edu
SUMMARY:Skippers home volleyball quad match
DESCRIPTION:The Skippers volleyball team hosts a quad match with games at 11 a.m.\, 1 and 3 p.m. \n\n\n\nLocation: SC4 FieldhouseTicket information: https://sc4skippers.com/fanzone/tickets
URL:https://sc4.edu/event/skippers-home-volleyball-tri-match/
LOCATION:MI
CATEGORIES:Athletics
END:VEVENT
BEGIN:VEVENT
DTSTART;TZID=America/Detroit:20211021T170000
DTEND;TZID=America/Detroit:20211021T180000
DTSTAMP:20260425T090439
CREATED:20210106T160132Z
LAST-MODIFIED:20210106T160133Z
UID:10000980-1634835600-1634839200@sc4.edu
SUMMARY:Respiratory Therapy program information session
DESCRIPTION:Attend this virtual information session to ask questions and learn about the program\, course schedule\, any prerequisites\, and more. Join the meeting here:  https://sc4.edu/programs/health-human-services/respiratory-therapy/
URL:https://sc4.edu/event/respiratory-therapy-program-information-session-20/
LOCATION:MI
CATEGORIES:Academics,Admissions
END:VEVENT
BEGIN:VEVENT
DTSTART;TZID=America/Detroit:20211021T190000
DTEND;TZID=America/Detroit:20211021T210000
DTSTAMP:20260425T090439
CREATED:20210827T143853Z
LAST-MODIFIED:20210827T143854Z
UID:10000868-1634842800-1634850000@sc4.edu
SUMMARY:Skippers home volleyball match
DESCRIPTION:The Skippers volleyball team takes on Oakland Community College. \n\n\n\nLocation: SC4 FieldhouseTicket information: https://sc4skippers.com/fanzone/tickets
URL:https://sc4.edu/event/skippers-home-volleyball-match-10/
LOCATION:MI
CATEGORIES:Athletics
END:VEVENT
BEGIN:VEVENT
DTSTART;TZID=America/Detroit:20211022T160000
DTEND;TZID=America/Detroit:20211022T180000
DTSTAMP:20260425T090439
CREATED:20210831T171112Z
LAST-MODIFIED:20210831T171113Z
UID:10000879-1634918400-1634925600@sc4.edu
SUMMARY:Skippers home soccer match
DESCRIPTION:The Skippers take on Lake Michigan Community College.Location: Skippers Soccer Field at Morton Park\, 500 Busha Hwy.\, Marysville
URL:https://sc4.edu/event/skippers-home-soccer-match-4/
LOCATION:MI
CATEGORIES:Athletics
END:VEVENT
BEGIN:VEVENT
DTSTART;TZID=America/Detroit:20211024T130000
DTEND;TZID=America/Detroit:20211024T150000
DTSTAMP:20260425T090439
CREATED:20210831T171238Z
LAST-MODIFIED:20210831T171239Z
UID:10001000-1635080400-1635087600@sc4.edu
SUMMARY:Skippers home soccer game
DESCRIPTION:The Skippers take on Delta College.Location: Skippers Soccer Field at Morton Park\, 500 Busha Hwy.\, Marysville
URL:https://sc4.edu/event/skippers-home-soccer-game/
LOCATION:MI
CATEGORIES:Athletics
END:VEVENT
BEGIN:VEVENT
DTSTART;TZID=America/Detroit:20211030T140000
DTEND;TZID=America/Detroit:20211030T160000
DTSTAMP:20260425T090439
CREATED:20210831T175920Z
LAST-MODIFIED:20210831T175921Z
UID:10001001-1635602400-1635609600@sc4.edu
SUMMARY:Skippers home soccer match
DESCRIPTION:The Skippers take on Lakeland Community College.Location: Skippers Soccer Field at Morton Park\, 500 Busha Hwy.\, Marysville
URL:https://sc4.edu/event/skippers-home-soccer-match-5/
LOCATION:MI
CATEGORIES:Athletics
END:VEVENT
BEGIN:VEVENT
DTSTART;TZID=America/Detroit:20211104T120000
DTEND;TZID=America/Detroit:20211104T130000
DTSTAMP:20260425T090439
CREATED:20210901T144400Z
LAST-MODIFIED:20211021T125757Z
UID:10001006-1636027200-1636030800@sc4.edu
SUMMARY:Free concert: Steve Wood Quartet
DESCRIPTION:The Steve Wood Quartet plays the music of Count Basie and Duke Ellington for two performances at noon and 7 p.m. as part of the Thursday Concert Series.  \n\n\n\nAll concerts are free admission. Seating is limited and tickets are required to reserve seats. Seats are reserved by ticket until 15 minutes prior to showtime at which all individuals are admitted until the theatre is at capacity. To reserve tickets\, click here or call (810) 989-5709. \n\n\n\nMasks required inside campus buildings.
URL:https://sc4.edu/event/free-concert-steve-wood-quartet/
LOCATION:MI
CATEGORIES:Arts,Community,Thursday concert series
END:VEVENT
BEGIN:VEVENT
DTSTART;TZID=America/Detroit:20211104T190000
DTEND;TZID=America/Detroit:20211104T200000
DTSTAMP:20260425T090439
CREATED:20210901T144459Z
LAST-MODIFIED:20211021T125750Z
UID:10001007-1636052400-1636056000@sc4.edu
SUMMARY:Free concert: Steve Wood Quartet
DESCRIPTION:The Steve Wood Quartet plays the music of Count Basie and Duke Ellington for two performances at noon and 7 p.m. as part of the Thursday Concert Series.  \n\n\n\nAll concerts are free admission. Seating is limited and tickets are required to reserve seats. Seats are reserved by ticket until 15 minutes prior to showtime at which all individuals are admitted until the theatre is at capacity. To reserve tickets\, click here or call (810) 989-5709. \n\n\n\nMasks required inside campus buildings.
URL:https://sc4.edu/event/free-concert-steve-wood-quartet-2/
LOCATION:MI
CATEGORIES:Arts,Community,Thursday concert series
END:VEVENT
BEGIN:VEVENT
DTSTART;TZID=America/Detroit:20211105T100000
DTEND;TZID=America/Detroit:20211105T113000
DTSTAMP:20260425T090439
CREATED:20211019T134101Z
LAST-MODIFIED:20211104T204037Z
UID:10001020-1636106400-1636111800@sc4.edu
SUMMARY:'We Are Still Here' presentation for Native American History Month
DESCRIPTION:In recognition of Native American History Month\, the Office of Diversity\, Equity and Inclusion is sponsoring a presentation titled ‘We Are Still Here’ by Banashee (Joe) Cadreau and Giddigongookskwe (Jade) Green. \n\n\n\nThe event will be a discussion and presentation on Indigenous culture and history in Michigan\, the United States and Canada. The importance of identity and the real history of the three fires people of Michigan (Ojibwa\, Odawa and Botawatami) and how we are still here and why our history was never told due to colonization and assimilation. \n\n\n\n\n\n\n\nBanashee is an enrolled member of the federally recognized Sault St. Marie Tribe of Chippewa Indians. He was raised in both traditional and urban upbringings\, both on reservation and a major metropolitan area. In his adolescent years\, refusing to acknowledge his culture led to many difficult times as he struggled to find his place in the world. He later recognized his calling was to fight for social justice and equity. He is an active community advocate for Anishinaabe people and all Indigenous people throughout the country and globally. \n\n\n\nHe travels across the state delivering diversity presentations for schools\, universities\, museums and corporate clients. \n\n\n\nGiddigongookskwe\, a 14-year old from Howard City\, is co-founder of Bimose Ode. She has a passion for speaking about her journey with her Indigenous identity and issues that indigenous youth face today and in the future. \n\n\n\n\n\n\n\nThe oldest of four siblings she helps to instill traditions and a sense of Native pride for her family. She is particularly concerned with issues surrounding racism in the battle for clean water and access to healthy food. She spends her time volunteering and getting involved in social activism and community organizations. \n\n\n\nTo reserve a seat for this event\, email dei@sc4.edu. \n\n\n\nLOCATION: SC4 Fine Arts Theatre \n\n\n\nLIVESTREAM at 10 a.m. at this link.
URL:https://sc4.edu/event/we-are-still-here-presentation-for-native-american-history-month/
LOCATION:MI
CATEGORIES:Community,Diversity Equity Inclusion
END:VEVENT
BEGIN:VEVENT
DTSTART;TZID=America/Detroit:20211109T190000
DTEND;TZID=America/Detroit:20211109T203000
DTSTAMP:20260425T090439
CREATED:20211108T142733Z
LAST-MODIFIED:20211108T144133Z
UID:10001024-1636484400-1636489800@sc4.edu
SUMMARY:Skippers home men's basketball game
DESCRIPTION:The Skippers take on Adrian College.LOCATION: SC4 Fieldhouse \n\n\n\nBuy tickets online: https://sc4skippers.com/fanzone/ticketing
URL:https://sc4.edu/event/skippers-home-mens-basketball-game-14/
LOCATION:MI
CATEGORIES:Athletics,Campus life,Community
END:VEVENT
END:VCALENDAR