BEGIN:VCALENDAR
VERSION:2.0
PRODID:-//St. Clair County Community College - ECPv6.15.20//NONSGML v1.0//EN
CALSCALE:GREGORIAN
METHOD:PUBLISH
X-ORIGINAL-URL:https://sc4.edu
X-WR-CALDESC:Events for St. Clair County Community College
REFRESH-INTERVAL;VALUE=DURATION:PT1H
X-Robots-Tag:noindex
X-PUBLISHED-TTL:PT1H
BEGIN:VTIMEZONE
TZID:America/Detroit
BEGIN:DAYLIGHT
TZOFFSETFROM:-0500
TZOFFSETTO:-0400
TZNAME:EDT
DTSTART:20210314T070000
END:DAYLIGHT
BEGIN:STANDARD
TZOFFSETFROM:-0400
TZOFFSETTO:-0500
TZNAME:EST
DTSTART:20211107T060000
END:STANDARD
BEGIN:DAYLIGHT
TZOFFSETFROM:-0500
TZOFFSETTO:-0400
TZNAME:EDT
DTSTART:20220313T070000
END:DAYLIGHT
BEGIN:STANDARD
TZOFFSETFROM:-0400
TZOFFSETTO:-0500
TZNAME:EST
DTSTART:20221106T060000
END:STANDARD
BEGIN:DAYLIGHT
TZOFFSETFROM:-0500
TZOFFSETTO:-0400
TZNAME:EDT
DTSTART:20230312T070000
END:DAYLIGHT
BEGIN:STANDARD
TZOFFSETFROM:-0400
TZOFFSETTO:-0500
TZNAME:EST
DTSTART:20231105T060000
END:STANDARD
END:VTIMEZONE
BEGIN:VEVENT
DTSTART;TZID=America/Detroit:20220723T190000
DTEND;TZID=America/Detroit:20220723T203000
DTSTAMP:20260425T122557
CREATED:20220524T152759Z
LAST-MODIFIED:20220527T173727Z
UID:10000946-1658602800-1658608200@sc4.edu
SUMMARY:Free Summer Concert
DESCRIPTION:The SC4 Symphonic Band and Jazz band perform a series of summer concerts conducted by Erick Senkmajer. Bring your lawn chair and enjoy this musical performance. \n\n\n\nLOCATION: Harbor Pavilion\, Port Huron \n\n\n\nDetails: (810) 989-5709
URL:https://sc4.edu/event/free-summer-concert-2/
LOCATION:Michigan
CATEGORIES:Arts,Community
END:VEVENT
BEGIN:VEVENT
DTSTART;TZID=America/Detroit:20220727T180000
DTEND;TZID=America/Detroit:20220727T190000
DTSTAMP:20260425T122557
CREATED:20220708T194204Z
LAST-MODIFIED:20220708T194333Z
UID:10001091-1658944800-1658948400@sc4.edu
SUMMARY:Respiratory Therapy program information session
DESCRIPTION:The respiratory therapy program at St. Clair County Community College uses an integration of classroom and practicum experiences in hospitals\, outpatient testing facilities and physician offices. Students graduating from the program will obtain an Associate in Applied Arts and Science degree\, and become eligible to take the National Board of Respiratory Care (NBRC) credentialing examinations. \n\n\n\nAttend this virtual information session to ask questions and learn about the program\, course schedule\, any prerequisites\, and more. \n\n\n\nJoin the meeting here:  https://sc4.edu/programs/health-human-services/respiratory-therapy/.
URL:https://sc4.edu/event/respiratory-therapy-program-information-session-28/
LOCATION:Michigan
CATEGORIES:Academics,Admissions,Community
END:VEVENT
BEGIN:VEVENT
DTSTART;TZID=America/Detroit:20220730T100000
DTEND;TZID=America/Detroit:20220730T123000
DTSTAMP:20260425T122557
CREATED:20220629T201615Z
LAST-MODIFIED:20220629T201617Z
UID:10001090-1659175200-1659184200@sc4.edu
SUMMARY:Challenger Learning Center at SC4 Mission: Lunar Quest
DESCRIPTION:Challenger Learning Center at SC4 will launch visitors to the moon with Mission: Lunar Quest from 10 a.m. to 12:30 p.m. Saturday\, July 30\, and Saturday\, Aug. 27. \n\n\n\nThe open mission dates are limited to the first 35 registrants\, and seats on the mission are $25 per person. \n\n\n\nMission participants will launch to the moon in search of long-term human habitat\, and command and assist in Mission Control\, or board the Spacecraft as an astronaut\, serving on teams like biology\, geology\, weather\, robotics\, life support and more. They will deploy a Lunar Exploration Rover to investigate areas of the lunar surface and make critical decisions to turn a potential catastrophe into NASA’s finest hour. \n\n\n\nFull details available online. \n\n\n\nRegister and pay for a mission on July 30 or Aug. 27.
URL:https://sc4.edu/event/challenger-learning-center-at-sc4-mission-lunar-quest/
LOCATION:Michigan
CATEGORIES:Community,Experience Center
END:VEVENT
BEGIN:VEVENT
DTSTART;TZID=America/Detroit:20220806T190000
DTEND;TZID=America/Detroit:20220806T203000
DTSTAMP:20260425T122557
CREATED:20220524T153158Z
LAST-MODIFIED:20220527T173644Z
UID:10000947-1659812400-1659817800@sc4.edu
SUMMARY:Free Summer Concert
DESCRIPTION:The SC4 Symphonic Band and Jazz band perform a series of summer concerts conducted by Erick Senkmajer. Bring your lawn chair and enjoy this musical performance. \n\n\n\nLOCATION: Harbor Pavilion\, Port Huron \n\n\n\nDetails: (810) 989-5709
URL:https://sc4.edu/event/free-summer-concert-3/
LOCATION:Michigan
CATEGORIES:Arts,Community
END:VEVENT
BEGIN:VEVENT
DTSTART;TZID=America/Detroit:20220813T150000
DTEND;TZID=America/Detroit:20220813T170000
DTSTAMP:20260425T122557
CREATED:20220826T144135Z
LAST-MODIFIED:20220826T144136Z
UID:10001122-1660402800-1660410000@sc4.edu
SUMMARY:Soccer: Skippers home match
DESCRIPTION:The Skippers take on University of Michigan-Dearborn. \n\n\n\nLocation: Skippers Soccer Field at Morton Park\, 500 Busha Hwy.\, Marysville \n\n\n\nFall schedule for the Skippers Soccer team.
URL:https://sc4.edu/event/soccer-skippers-home-match/
LOCATION:Michigan
CATEGORIES:Athletics,Campus life,Community
END:VEVENT
BEGIN:VEVENT
DTSTART;TZID=America/Detroit:20220825T180000
DTEND;TZID=America/Detroit:20220825T190000
DTSTAMP:20260425T122557
CREATED:20211213T205402Z
LAST-MODIFIED:20211213T205405Z
UID:10000919-1661450400-1661454000@sc4.edu
SUMMARY:Radiologic Technology program information session
DESCRIPTION:Attend this virtual information session to ask questions and learn about the program\, course schedule\, any prerequisites\, and more. Join the meeting here:  https://sc4.edu/programs/health-human-services/radiologic-technology/
URL:https://sc4.edu/event/radiologic-technology-program-information-session-33/
LOCATION:Michigan
CATEGORIES:Academics,Admissions
END:VEVENT
BEGIN:VEVENT
DTSTART;TZID=America/Detroit:20220827T100000
DTEND;TZID=America/Detroit:20220827T123000
DTSTAMP:20260425T122557
CREATED:20220629T201940Z
LAST-MODIFIED:20220629T201942Z
UID:10001093-1661594400-1661603400@sc4.edu
SUMMARY:Challenger Learning Center at SC4 Mission: Lunar Quest
DESCRIPTION:Challenger Learning Center at SC4 will launch visitors to the moon with Mission: Lunar Quest from 10 a.m. to 12:30 p.m. Saturday\, Aug. 27. \n\n\n\nThe open mission date is limited to the first 35 registrants\, and seats on the mission are $25 per person. \n\n\n\nMission participants will launch to the moon in search of long-term human habitat\, and command and assist in Mission Control\, or board the Spacecraft as an astronaut\, serving on teams like biology\, geology\, weather\, robotics\, life support and more. They will deploy a Lunar Exploration Rover to investigate areas of the lunar surface and make critical decisions to turn a potential catastrophe into NASA’s finest hour. \n\n\n\nFull details available online. \n\n\n\nRegister and pay for a mission on Aug. 27.
URL:https://sc4.edu/event/challenger-learning-center-at-sc4-mission-lunar-quest-2/
LOCATION:Michigan
CATEGORIES:Community,Experience Center
END:VEVENT
BEGIN:VEVENT
DTSTART;TZID=America/Detroit:20220827T160000
DTEND;TZID=America/Detroit:20220827T180000
DTSTAMP:20260425T122557
CREATED:20220826T144340Z
LAST-MODIFIED:20220826T144342Z
UID:10001123-1661616000-1661623200@sc4.edu
SUMMARY:Soccer: Skippers home match
DESCRIPTION:The Skippers take on Muskegon CC. \n\n\n\nLocation: Skippers Soccer Field at Morton Park\, 500 Busha Hwy.\, Marysville \n\n\n\nFall schedule for the Skippers Soccer team.
URL:https://sc4.edu/event/soccer-skippers-home-match-2/
LOCATION:Michigan
CATEGORIES:Athletics,Campus life,Community
END:VEVENT
BEGIN:VEVENT
DTSTART;TZID=America/Detroit:20220831T180000
DTEND;TZID=America/Detroit:20220831T190000
DTSTAMP:20260425T122557
CREATED:20220708T194307Z
LAST-MODIFIED:20220708T194309Z
UID:10001092-1661968800-1661972400@sc4.edu
SUMMARY:Respiratory Therapy program information session
DESCRIPTION:The respiratory therapy program at St. Clair County Community College uses an integration of classroom and practicum experiences in hospitals\, outpatient testing facilities and physician offices. Students graduating from the program will obtain an Associate in Applied Arts and Science degree\, and become eligible to take the National Board of Respiratory Care (NBRC) credentialing examinations. \n\n\n\nAttend this virtual information session to ask questions and learn about the program\, course schedule\, any prerequisites\, and more. \n\n\n\nJoin the meeting here:  https://sc4.edu/programs/health-human-services/respiratory-therapy/.
URL:https://sc4.edu/event/respiratory-therapy-program-information-session-29/
LOCATION:Michigan
CATEGORIES:Academics,Admissions,Community
END:VEVENT
BEGIN:VEVENT
DTSTART;TZID=America/Detroit:20220831T190000
DTEND;TZID=America/Detroit:20220831T210000
DTSTAMP:20260425T122557
CREATED:20220826T151841Z
LAST-MODIFIED:20220826T152051Z
UID:10000986-1661972400-1661979600@sc4.edu
SUMMARY:Volleyball: Skippers home game
DESCRIPTION:The Skippers volleyball team takes on Jackson College. \n\n\n\nLocation: SC4 Fieldhouse \n\n\n\nFall schedule: https://sc4skippers.com/sports/wvball/2022-23/schedule \n\n\n\nTicket information: https://sc4skippers.com/fanzone/ticketing
URL:https://sc4.edu/event/volleyball-skippers-home-game/
LOCATION:Michigan
CATEGORIES:Athletics,Campus life,Community
END:VEVENT
BEGIN:VEVENT
DTSTART;TZID=America/Detroit:20220902T133000
DTEND;TZID=America/Detroit:20220902T163000
DTSTAMP:20260425T122557
CREATED:20220826T143837Z
LAST-MODIFIED:20220826T143840Z
UID:10001121-1662125400-1662136200@sc4.edu
SUMMARY:Cross Country: Skippers Invitational
DESCRIPTION:The Skippers Cross Country team is hosting an invitational at Marysville City Park. \n\n\n\nWomen start at 1:30 p.m. and the men at 2:15 p.m. \n\n\n\nComplete fall schedules available online for the Skippers women and Skippers men cross country teams.
URL:https://sc4.edu/event/cross-country-skippers-invitational/
LOCATION:Michigan
CATEGORIES:Athletics,Campus life,Community
END:VEVENT
BEGIN:VEVENT
DTSTART;TZID=America/Detroit:20220914T160000
DTEND;TZID=America/Detroit:20220914T180000
DTSTAMP:20260425T122557
CREATED:20220826T144517Z
LAST-MODIFIED:20220826T144520Z
UID:10001125-1663171200-1663178400@sc4.edu
SUMMARY:Soccer: Skippers home match
DESCRIPTION:The Skippers take on Ancilla College. \n\n\n\nLocation: Skippers Soccer Field at Morton Park\, 500 Busha Hwy.\, Marysville \n\n\n\nFall schedule for the Skippers Soccer team.
URL:https://sc4.edu/event/soccer-skippers-home-match-3/
LOCATION:Michigan
CATEGORIES:Athletics,Campus life,Community
END:VEVENT
BEGIN:VEVENT
DTSTART;TZID=America/Detroit:20220914T190000
DTEND;TZID=America/Detroit:20220914T210000
DTSTAMP:20260425T122557
CREATED:20220826T152059Z
LAST-MODIFIED:20220826T152100Z
UID:10000988-1663182000-1663189200@sc4.edu
SUMMARY:Volleyball: Skippers home game
DESCRIPTION:The Skippers volleyball team takes on Oakland CC. \n\n\n\nLocation: SC4 Fieldhouse \n\n\n\nFall schedule: https://sc4skippers.com/sports/wvball/2022-23/schedule \n\n\n\nTicket information: https://sc4skippers.com/fanzone/ticketing
URL:https://sc4.edu/event/volleyball-skippers-home-game-2/
LOCATION:Michigan
CATEGORIES:Athletics,Campus life,Community
END:VEVENT
BEGIN:VEVENT
DTSTART;TZID=America/Detroit:20220915T000000
DTEND;TZID=America/Detroit:20220915T130000
DTSTAMP:20260425T122557
CREATED:20220818T204642Z
LAST-MODIFIED:20220818T205652Z
UID:10001097-1663200000-1663246800@sc4.edu
SUMMARY:Concert: Lexington Bach Festival String Quartet
DESCRIPTION:SC4 is happy to feature standout performers from the Lexington Bach Festival\, a weeklong event bringing the music of Johann Sebastian Bach and other composers influenced by Bach to our community. The quartet will kick off our Free Thursday Concert Series by performing classic compositions. Performances are scheduled for noon and 7 p.m. in the SC4 Fine Arts Theatre. \n\n\n\nAll concerts are free admission. Seating is limited and tickets are required to reserve seats. Seats are reserved by ticket until 15 minutes prior to showtime at which all individuals are admitted until the theatre is at capacity.  \n\n\n\nReserve your free ticket online or call (810) 989-5709. \n\n\n\nLocation: SC4 Fine Arts Theatre
URL:https://sc4.edu/event/concert-lexington-bach-festival-string-quartet/
LOCATION:Michigan
CATEGORIES:Arts,Community,Thursday concert series
END:VEVENT
BEGIN:VEVENT
DTSTART;TZID=America/Detroit:20220915T190000
DTEND;TZID=America/Detroit:20220915T200000
DTSTAMP:20260425T122557
CREATED:20220818T204827Z
LAST-MODIFIED:20220818T205716Z
UID:10001098-1663268400-1663272000@sc4.edu
SUMMARY:Concert: Lexington Bach Festival String Quartet
DESCRIPTION:SC4 is happy to feature standout performers from the Lexington Bach Festival\, a weeklong event bringing the music of Johann Sebastian Bach and other composers influenced by Bach to our community. The quartet will kick off our Free Thursday Concert Series by performing classic compositions. Performances are scheduled for noon and 7 p.m. in the SC4 Fine Arts Theatre. \n\n\n\nAll concerts are free admission. Seating is limited and tickets are required to reserve seats. Seats are reserved by ticket until 15 minutes prior to showtime at which all individuals are admitted until the theatre is at capacity.  \n\n\n\nReserve your free ticket online or call (810) 989-5709. \n\n\n\nLocation: SC4 Fine Arts Theatre
URL:https://sc4.edu/event/concert-lexington-bach-festival-string-quartet-2/
LOCATION:Michigan
CATEGORIES:Arts,Community,Thursday concert series
END:VEVENT
BEGIN:VEVENT
DTSTART;TZID=America/Detroit:20220917T160000
DTEND;TZID=America/Detroit:20220917T180000
DTSTAMP:20260425T122557
CREATED:20220826T145327Z
LAST-MODIFIED:20220826T145328Z
UID:10000975-1663430400-1663437600@sc4.edu
SUMMARY:Soccer: Skippers home match
DESCRIPTION:The Skippers take on Lake Michigan College. \n\n\n\nLocation: Skippers Soccer Field at Morton Park\, 500 Busha Hwy.\, Marysville \n\n\n\nFall schedule for the Skippers Soccer team.
URL:https://sc4.edu/event/soccer-skippers-home-match-4/
LOCATION:Michigan
CATEGORIES:Athletics,Campus life,Community
END:VEVENT
BEGIN:VEVENT
DTSTART;TZID=America/Detroit:20220919T090000
DTEND;TZID=America/Detroit:20220923T163000
DTSTAMP:20260425T122557
CREATED:20220818T211633Z
LAST-MODIFIED:20220818T211634Z
UID:10001105-1663578000-1663950600@sc4.edu
SUMMARY:Gallery show: Collectively Independent VIII by SC4 Art Faculty
DESCRIPTION:This showcase features a wide variety of mediums and subject matter. Each piece is an original work of art from the arts faculty at SC4. \n\n\n\nLocation: Fine Arts Building GalleryHours: 9 a.m. to 4:30 p.m. Monday to Friday
URL:https://sc4.edu/event/gallery-show-collectively-independent-viii-by-sc4-art-faculty/
LOCATION:Michigan
CATEGORIES:Arts,Community
END:VEVENT
BEGIN:VEVENT
DTSTART;TZID=America/Detroit:20220920T183000
DTEND;TZID=America/Detroit:20220920T200000
DTSTAMP:20260425T122557
CREATED:20211015T143108Z
LAST-MODIFIED:20220824T134542Z
UID:10001018-1663698600-1663704000@sc4.edu
SUMMARY:‘Strong Inside’ book discussion
DESCRIPTION:SC4’s Office of Diversity\, Equity and Inclusion presents a guided book discussion on “Strong Inside” by New York Times-bestselling author Andrew Maraniss. “Strong Inside” is a story of a trailblazing athlete and also of civil rights and race in America during the tumultuous 1960s. \n\n\n\nA book signing will take place from 5 to 5:45 p.m. \n\n\n\nLOCATION: SC4 Fine Arts Theatre \n\n\n\nRSVP for this free event using this link or email dei@sc4.edu.
URL:https://sc4.edu/event/strong-inside-book-discussion/
LOCATION:Michigan
CATEGORIES:Community,Diversity Equity Inclusion
END:VEVENT
BEGIN:VEVENT
DTSTART;TZID=America/Detroit:20220926T023000
DTEND;TZID=America/Detroit:20220926T030000
DTSTAMP:20260425T122557
CREATED:20220826T143334Z
LAST-MODIFIED:20220826T143335Z
UID:10001120-1664159400-1664161200@sc4.edu
SUMMARY:Golf: Sam Kromer Invitational
DESCRIPTION:The Skippers host the Sam Kromer Golf Invitational at St. Clair Golf Club. \n\n\n\nCheck out the fall schedule at https://sc4skippers.com/sports/mgolf/2022-23/schedule
URL:https://sc4.edu/event/golf-sam-kromer-invitational/
LOCATION:Michigan
CATEGORIES:Athletics,Campus life,Community
END:VEVENT
BEGIN:VEVENT
DTSTART;TZID=America/Detroit:20220926T090000
DTEND;TZID=America/Detroit:20220930T163000
DTSTAMP:20260425T122557
CREATED:20220818T211756Z
LAST-MODIFIED:20220818T211758Z
UID:10001106-1664182800-1664555400@sc4.edu
SUMMARY:Gallery show: Collectively Independent VIII by SC4 Arts Faculty
DESCRIPTION:This showcase features a wide variety of mediums and subject matter. Each piece is an original work of art from the arts faculty at SC4. \n\n\n\nLocation: Fine Arts Building GalleryHours: 9 a.m. to 4:30 p.m. Monday to Friday
URL:https://sc4.edu/event/gallery-show-collectively-independent-viii-by-sc4-arts-faculty/
LOCATION:Michigan
CATEGORIES:Arts,Community
END:VEVENT
BEGIN:VEVENT
DTSTART;TZID=America/Detroit:20220928T180000
DTEND;TZID=America/Detroit:20220928T190000
DTSTAMP:20260425T122557
CREATED:20220708T194448Z
LAST-MODIFIED:20220708T194451Z
UID:10001094-1664388000-1664391600@sc4.edu
SUMMARY:Respiratory Therapy program information session
DESCRIPTION:The respiratory therapy program at St. Clair County Community College uses an integration of classroom and practicum experiences in hospitals\, outpatient testing facilities and physician offices. Students graduating from the program will obtain an Associate in Applied Arts and Science degree\, and become eligible to take the National Board of Respiratory Care (NBRC) credentialing examinations. \n\n\n\nAttend this virtual information session to ask questions and learn about the program\, course schedule\, any prerequisites\, and more. \n\n\n\nJoin the meeting here:  https://sc4.edu/programs/health-human-services/respiratory-therapy/.
URL:https://sc4.edu/event/respiratory-therapy-program-information-session-30/
LOCATION:Michigan
CATEGORIES:Academics,Admissions,Community
END:VEVENT
BEGIN:VEVENT
DTSTART;TZID=America/Detroit:20220928T190000
DTEND;TZID=America/Detroit:20220928T210000
DTSTAMP:20260425T122557
CREATED:20220826T152216Z
LAST-MODIFIED:20220826T152218Z
UID:10000989-1664391600-1664398800@sc4.edu
SUMMARY:Volleyball: Skippers home game
DESCRIPTION:The Skippers volleyball team takes on Macomb CC. \n\n\n\nLocation: SC4 Fieldhouse \n\n\n\nFall schedule: https://sc4skippers.com/sports/wvball/2022-23/schedule \n\n\n\nTicket information: https://sc4skippers.com/fanzone/ticketing
URL:https://sc4.edu/event/volleyball-skippers-home-game-3/
LOCATION:Michigan
CATEGORIES:Athletics,Campus life,Community
END:VEVENT
BEGIN:VEVENT
DTSTART;TZID=America/Detroit:20220930T130000
DTEND;TZID=America/Detroit:20220930T163000
DTSTAMP:20260425T122557
CREATED:20220920T214541Z
LAST-MODIFIED:20220927T202440Z
UID:10001129-1664542800-1664555400@sc4.edu
SUMMARY:Wheelchair Sports Clinics
DESCRIPTION:The University of Michigan Adaptive Sports and Fitness\, the Disability Network Eastern Michigan and SC4 are hosting a Wheelchair Sports Clinic at the SC4 Fieldhouse\, 400 Erie St.\, Port Huron. \n\n\n\nThe community is invited to participate in the adaptive sports event\, featuring wheelchair tennis\, rugby and basketball. Individuals can sign up for one sport or all three. Each sport includes demonstration\, formal instruction from professional wheelchair sports players and scrimmage time. Clinics available for ages six and up. Register online at https://tinyurl.com/DNEMsports \n\n\n\nWheelchair Tennis: 1 to 2 p.m.Wheelchair Rugby: 2:15 to 3:15 p.m.Wheelchair Basketball: 3:30 to 4:30 p.m.
URL:https://sc4.edu/event/wheelchair-sports-clinic/
LOCATION:Michigan
CATEGORIES:Athletics,Community,Diversity Equity Inclusion
END:VEVENT
BEGIN:VEVENT
DTSTART;TZID=America/Detroit:20220930T183000
DTEND;TZID=America/Detroit:20220930T200000
DTSTAMP:20260425T122557
CREATED:20220920T213553Z
LAST-MODIFIED:20220920T215603Z
UID:10001130-1664562600-1664568000@sc4.edu
SUMMARY:Wolverine Invitational: Wheelchair Basketball
DESCRIPTION:Talented wheelchair basketball teams from around the Midwest and Canada are converging at the SC4 Fieldhouse for an action-packed weekend of wheelchair basketball. All are invited to attend and cheer on amazing wheelchair basketball athletes at the second annual Wolverine Invitational. \n\n\n\nTipping off on Friday at 6:30 p.m. the Wolverines play the Brampton Crashers in their season opener. The tournament will follow a round-robin format through Sunday morning. Following the preliminary matches are semi-final matches for the top four teams\, a third-place game\, and a championship game Sunday afternoon at 1 p.m. \n\n\n\nAll events are free and open to the public. Location: SC4 Fieldhouse\, 400 Erie St.\, Port Huron. Streaming available online. \n\n\n\nRead more about the event online.
URL:https://sc4.edu/event/wolverine-invitational-wheelchair-basketball/
LOCATION:Michigan
CATEGORIES:Athletics,Community,Diversity Equity Inclusion
END:VEVENT
BEGIN:VEVENT
DTSTART;TZID=America/Detroit:20221001T160000
DTEND;TZID=America/Detroit:20221001T180000
DTSTAMP:20260425T122557
CREATED:20220826T145458Z
LAST-MODIFIED:20220826T145459Z
UID:10000978-1664640000-1664647200@sc4.edu
SUMMARY:Soccer: Skippers home match
DESCRIPTION:The Skippers take on Kellogg CC. \n\n\n\nLocation: Skippers Soccer Field at Morton Park\, 500 Busha Hwy.\, Marysville \n\n\n\nFall schedule for the Skippers Soccer team.
URL:https://sc4.edu/event/soccer-skippers-home-match-5/
LOCATION:Michigan
CATEGORIES:Athletics,Campus life,Community
END:VEVENT
BEGIN:VEVENT
DTSTART;TZID=America/Detroit:20221002T110000
DTEND;TZID=America/Detroit:20221002T150000
DTSTAMP:20260425T122557
CREATED:20220920T215242Z
LAST-MODIFIED:20220920T220334Z
UID:10001131-1664708400-1664722800@sc4.edu
SUMMARY:Wolverine Invitational: Wheelchair Basketball 3rd place\, Championship Game
DESCRIPTION:Talented wheelchair basketball teams from around the Midwest and Canada are converging at the SC4 Fieldhouse for an action-packed weekend of wheelchair basketball. All are invited to attend and cheer on amazing wheelchair basketball athletes at the second annual Wolverine Invitational. \n\n\n\nA third-place game starts at 11 a.m. with the championship game at 1 p.m. \n\n\n\nAll events are free and open to the public. Location: SC4 Fieldhouse\, 400 Erie St.\, Port Huron. Streaming available online. \n\n\n\nRead more about the event online.
URL:https://sc4.edu/event/wolverine-invitational-wheelchair-basketball-3rd-place-championship-game/
LOCATION:Michigan
CATEGORIES:Athletics,Community,Diversity Equity Inclusion
END:VEVENT
BEGIN:VEVENT
DTSTART;TZID=America/Detroit:20221003T090000
DTEND;TZID=America/Detroit:20221007T163000
DTSTAMP:20260425T122557
CREATED:20220818T211910Z
LAST-MODIFIED:20220818T211911Z
UID:10001107-1664787600-1665160200@sc4.edu
SUMMARY:Gallery show: Collectively Independent VIII by SC4 Arts Faculty
DESCRIPTION:This showcase features a wide variety of mediums and subject matter. Each piece is an original work of art from the arts faculty at SC4. \n\n\n\nLocation: Fine Arts Building GalleryHours: 9 a.m. to 4:30 p.m. Monday to Friday
URL:https://sc4.edu/event/gallery-show-collectively-independent-viii-by-sc4-arts-faculty-2/
LOCATION:Michigan
CATEGORIES:Arts,Community
END:VEVENT
BEGIN:VEVENT
DTSTART;TZID=America/Detroit:20221005T190000
DTEND;TZID=America/Detroit:20221005T210000
DTSTAMP:20260425T122557
CREATED:20220826T153321Z
LAST-MODIFIED:20220826T153324Z
UID:10000992-1664996400-1665003600@sc4.edu
SUMMARY:Volleyball: Skippers home game
DESCRIPTION:The Skippers volleyball team takes on Henry Ford College. \n\n\n\nLocation: SC4 Fieldhouse \n\n\n\nFall schedule: https://sc4skippers.com/sports/wvball/2022-23/schedule \n\n\n\nTicket information: https://sc4skippers.com/fanzone/ticketing
URL:https://sc4.edu/event/volleyball-skippers-home-game-4/
LOCATION:Michigan
CATEGORIES:Athletics,Campus life,Community
END:VEVENT
BEGIN:VEVENT
DTSTART;TZID=America/Detroit:20221006T100000
DTEND;TZID=America/Detroit:20221006T110000
DTSTAMP:20260425T122557
CREATED:20211213T205513Z
LAST-MODIFIED:20211213T205515Z
UID:10000921-1665050400-1665054000@sc4.edu
SUMMARY:Radiologic Technology program information session
DESCRIPTION:Attend this virtual information session to ask questions and learn about the program\, course schedule\, any prerequisites\, and more. Join the meeting here:  https://sc4.edu/programs/health-human-services/radiologic-technology/
URL:https://sc4.edu/event/radiologic-technology-program-information-session-34/
LOCATION:Michigan
CATEGORIES:Academics,Admissions
END:VEVENT
BEGIN:VEVENT
DTSTART;TZID=America/Detroit:20221006T120000
DTEND;TZID=America/Detroit:20221006T130000
DTSTAMP:20260425T122557
CREATED:20220818T205411Z
LAST-MODIFIED:20220929T185359Z
UID:10001099-1665057600-1665061200@sc4.edu
SUMMARY:Concert: Kanola Band
DESCRIPTION:Kanola Band brings together some of the most experienced and diverse musicians in the midwest US jazz scene to pay tribute to the great music and heritage of New Orleans. Dipping into the city’s diverse musical history including swinging dixieland\, groovin’ zydeco\, soulful funk to blasting brass band second lines\, audiences of all ages will leave feeling just a bit happier than when they came. Bring your dancing shoes\, leave your worries behind and be ready for some fun\, because Kanola Band is always a good time! \n\n\n\nAll concerts are free admission. Seating is limited and tickets are required to reserve seats. Seats are reserved by ticket until 15 minutes prior to showtime at which all individuals are admitted until the theatre is at capacity.  \n\n\n\nReserve your free ticket online or call (810) 989-5709. \n\n\n\nLocation: SC4 Fine Arts Theatre
URL:https://sc4.edu/event/concert-benje-daneman-kanola-band/
LOCATION:Michigan
CATEGORIES:Arts,Community,Thursday concert series
END:VEVENT
END:VCALENDAR