BEGIN:VCALENDAR
VERSION:2.0
PRODID:-//St. Clair County Community College - ECPv6.15.20//NONSGML v1.0//EN
CALSCALE:GREGORIAN
METHOD:PUBLISH
X-WR-CALNAME:St. Clair County Community College
X-ORIGINAL-URL:https://sc4.edu
X-WR-CALDESC:Events for St. Clair County Community College
REFRESH-INTERVAL;VALUE=DURATION:PT1H
X-Robots-Tag:noindex
X-PUBLISHED-TTL:PT1H
BEGIN:VTIMEZONE
TZID:America/Detroit
BEGIN:DAYLIGHT
TZOFFSETFROM:-0500
TZOFFSETTO:-0400
TZNAME:EDT
DTSTART:20210314T070000
END:DAYLIGHT
BEGIN:STANDARD
TZOFFSETFROM:-0400
TZOFFSETTO:-0500
TZNAME:EST
DTSTART:20211107T060000
END:STANDARD
BEGIN:DAYLIGHT
TZOFFSETFROM:-0500
TZOFFSETTO:-0400
TZNAME:EDT
DTSTART:20220313T070000
END:DAYLIGHT
BEGIN:STANDARD
TZOFFSETFROM:-0400
TZOFFSETTO:-0500
TZNAME:EST
DTSTART:20221106T060000
END:STANDARD
BEGIN:DAYLIGHT
TZOFFSETFROM:-0500
TZOFFSETTO:-0400
TZNAME:EDT
DTSTART:20230312T070000
END:DAYLIGHT
BEGIN:STANDARD
TZOFFSETFROM:-0400
TZOFFSETTO:-0500
TZNAME:EST
DTSTART:20231105T060000
END:STANDARD
END:VTIMEZONE
BEGIN:VEVENT
DTSTART;TZID=America/Detroit:20221128T090000
DTEND;TZID=America/Detroit:20221202T163000
DTSTAMP:20260419T163103
CREATED:20220818T215730Z
LAST-MODIFIED:20221110T193933Z
UID:10001118-1669626000-1669998600@sc4.edu
SUMMARY:Gallery show: Art Archived: The SC4 Collection
DESCRIPTION:This showcase features a wide variety of mediums and subject matter. Each piece is an original work from the SC4 art collection. \n\n\n\nLocation: Fine Arts Building GalleryHours: 9 a.m. to 4:30 p.m. Monday to Friday
URL:https://sc4.edu/event/gallery-show-sc4-arts-collection/
LOCATION:MI
CATEGORIES:Arts,Community
END:VEVENT
BEGIN:VEVENT
DTSTART;TZID=America/Detroit:20221202T180000
DTEND;TZID=America/Detroit:20221202T220000
DTSTAMP:20260419T163103
CREATED:20221110T201023Z
LAST-MODIFIED:20221110T201025Z
UID:10001139-1670004000-1670018400@sc4.edu
SUMMARY:Skippers Basketball home games
DESCRIPTION:The Skippers basketball teams take on Alpena Community College at the SC4 Fieldhouse. Women’s game tips off at 6 p.m. and the men’s at 8 p.m. \n\n\n\nBuy tickets in advance online at https://sc4skippers.com/fanzone/hometownTicketing
URL:https://sc4.edu/event/skippers-basketball-home-games-5/
LOCATION:MI
CATEGORIES:Athletics,Community
END:VEVENT
BEGIN:VEVENT
DTSTART;TZID=America/Detroit:20221203T150000
DTEND;TZID=America/Detroit:20221203T190000
DTSTAMP:20260419T163103
CREATED:20221110T201140Z
LAST-MODIFIED:20221110T201142Z
UID:10001140-1670079600-1670094000@sc4.edu
SUMMARY:Skippers Basketball home games
DESCRIPTION:The Skippers basketball teams take on Mid MIchigan College at the SC4 Fieldhouse. Women’s game tips off at 3 p.m. and the men’s at 5 p.m. \n\n\n\nBuy tickets in advance online at https://sc4skippers.com/fanzone/hometownTicketing
URL:https://sc4.edu/event/skippers-basketball-home-games-6/
LOCATION:MI
CATEGORIES:Athletics,Community
END:VEVENT
BEGIN:VEVENT
DTSTART;TZID=America/Detroit:20221205T090000
DTEND;TZID=America/Detroit:20221209T163000
DTSTAMP:20260419T163103
CREATED:20220818T215836Z
LAST-MODIFIED:20221110T193906Z
UID:10001119-1670230800-1670603400@sc4.edu
SUMMARY:Gallery show: Art Archived: The SC4 Collection
DESCRIPTION:This showcase features a wide variety of mediums and subject matter. Each piece is an original work from the SC4 art collection. \n\n\n\nLocation: Fine Arts Building GalleryHours: 9 a.m. to 4:30 p.m. Monday to Friday
URL:https://sc4.edu/event/gallery-show-sc4-arts-collection-2/
LOCATION:MI
CATEGORIES:Arts,Community
END:VEVENT
BEGIN:VEVENT
DTSTART;TZID=America/Detroit:20221208T120000
DTEND;TZID=America/Detroit:20221208T130000
DTSTAMP:20260419T163103
CREATED:20220818T210617Z
LAST-MODIFIED:20220818T210618Z
UID:10001103-1670500800-1670504400@sc4.edu
SUMMARY:Concert: Vanessa Carr
DESCRIPTION:Vanessa Carr is a world-class entertainer\, noted for her dynamic musical performances. As a singer and dancer recognized for her emotional interpretations\, humorous renditions\, captivating story-telling\, and genuine connection to audiences\, Vanessa sparks joy in the hearts of her listeners. Her ever-growing repertoire includes a diverse variety of genres: Broadway show tunes to rock n’ roll\, music of The Great American Songbook to Opera\, international favorites and soulful standards. Her influences include Barbra Streisand\, Tina Turner\, Lady Gaga\, Frank Sinatra\, Luciano Pavarotti\, Liza Minelli\, Dionne Warwick\, and Linda Ronstadt. \n\n\n\nAll concerts are free admission. Seating is limited and tickets are required to reserve seats. Seats are reserved by ticket until 15 minutes prior to showtime at which all individuals are admitted until the theatre is at capacity.  \n\n\n\nReserve your free ticket online or call (810) 989-5709. \n\n\n\nLocation: SC4 Fine Arts Theatre
URL:https://sc4.edu/event/concert-vanessa-carr/
LOCATION:MI
CATEGORIES:Arts,Community,Thursday concert series
END:VEVENT
BEGIN:VEVENT
DTSTART;TZID=America/Detroit:20221208T190000
DTEND;TZID=America/Detroit:20221208T200000
DTSTAMP:20260419T163103
CREATED:20220818T210728Z
LAST-MODIFIED:20220818T210836Z
UID:10001104-1670526000-1670529600@sc4.edu
SUMMARY:Concert: Vanessa Carr
DESCRIPTION:Vanessa Carr is a world-class entertainer\, noted for her dynamic musical performances. As a singer and dancer recognized for her emotional interpretations\, humorous renditions\, captivating story-telling\, and genuine connection to audiences\, Vanessa sparks joy in the hearts of her listeners. Her ever-growing repertoire includes a diverse variety of genres: Broadway show tunes to rock n’ roll\, music of The Great American Songbook to Opera\, international favorites and soulful standards. Her influences include Barbra Streisand\, Tina Turner\, Lady Gaga\, Frank Sinatra\, Luciano Pavarotti\, Liza Minelli\, Dionne Warwick\, and Linda Ronstadt. \n\n\n\nAll concerts are free admission. Seating is limited and tickets are required to reserve seats. Seats are reserved by ticket until 15 minutes prior to showtime at which all individuals are admitted until the theatre is at capacity.  \n\n\n\nReserve your free ticket online or call (810) 989-5709. \n\n\n\nLocation: SC4 Fine Arts Theatre
URL:https://sc4.edu/event/concert-vanessa-carr-2/
LOCATION:MI
CATEGORIES:Arts,Community,Thursday concert series
END:VEVENT
BEGIN:VEVENT
DTSTART;TZID=America/Detroit:20221210T100000
DTEND;TZID=America/Detroit:20221210T123000
DTSTAMP:20260419T163103
CREATED:20221114T160232Z
LAST-MODIFIED:20221114T160343Z
UID:10001150-1670666400-1670675400@sc4.edu
SUMMARY:Challenger Learning Center at SC4 Mission: Lunar Quest
DESCRIPTION:The Challenger Learning Center at SC4 will launch visitors to the moon with Mission Lunar Quest on Saturday\, Dec. 10. The mission date is open to the public and limited to the first 34 registrants. \n\n\n\nMission participants will launch to the moon in search of a long-term human habitat\, command and assist Mission Control\, or board the Spacecraft as an astronaut\, serving on teams like biology\, geology\, weather\, robotics\, life support and more. They will help deploy a Lunar Exploration Rover to investigate areas of the lunar surface and make critical decisions to turn a potential catastrophe into NASA’s finest hour. \n\n\n\nMission Lunar Quest is open to learners in 5th grade and beyond. \n\n\n\nRegister at https://stclair.nbsstore.net/open-lunar-quest-mission-december-10  \n\n\n\nComplete details at https://sc4.edu/news/challenger-learning-center-at-sc4-announces-open-mission-lunar-quest-on-dec-10/
URL:https://sc4.edu/event/lunar-quest-mission/
LOCATION:MI
CATEGORIES:Community,Experience Center
END:VEVENT
BEGIN:VEVENT
DTSTART;TZID=America/Detroit:20221210T170000
DTEND;TZID=America/Detroit:20221210T190000
DTSTAMP:20260419T163103
CREATED:20220818T213902Z
LAST-MODIFIED:20221202T200624Z
UID:10001111-1670691600-1670698800@sc4.edu
SUMMARY:SC4 Bands Concert: Sounds of the Season
DESCRIPTION:The college’s symphonic band is comprised of a diverse group of musicians playing a variety of music guaranteed to please. Join us as conductor Erick J. Senkmajer leads the bands in concert. \n\n\n\nAdmission: $10 adults; free admission as available at the door for SC4 students\, faculty and staff with Skippers OneCard. Tickets can be purchased at the door or online. \n\n\n\nLOCATION: SC4 Fine Arts Theatre
URL:https://sc4.edu/event/sc4-bands-concert-sounds-of-the-season/
LOCATION:MI
CATEGORIES:Arts,Community
END:VEVENT
BEGIN:VEVENT
DTSTART;TZID=America/Detroit:20221219T130000
DTEND;TZID=America/Detroit:20221219T170000
DTSTAMP:20260419T163103
CREATED:20221110T201246Z
LAST-MODIFIED:20221110T201247Z
UID:10001141-1671454800-1671469200@sc4.edu
SUMMARY:Skippers Basketball home games
DESCRIPTION:The Skippers basketball teams take on Glen Oaks Community College at the SC4 Fieldhouse. Women’s game tips off at 1 p.m. and the men’s at 3 p.m. \n\n\n\nBuy tickets in advance online at https://sc4skippers.com/fanzone/hometownTicketing
URL:https://sc4.edu/event/skippers-basketball-home-games-7/
LOCATION:MI
CATEGORIES:Athletics,Community
END:VEVENT
BEGIN:VEVENT
DTSTART;TZID=America/Detroit:20221228T093000
DTEND;TZID=America/Detroit:20221230T220000
DTSTAMP:20260419T163103
CREATED:20221228T123113Z
LAST-MODIFIED:20221228T123300Z
UID:10001161-1672219800-1672437600@sc4.edu
SUMMARY:Basketball Holiday Showcase
DESCRIPTION:The 2022 SC4 Holiday Basketball Showcase takes place Wednesday\, Dec. 28\, through Friday\, Dec. 30\, in the SC4 Fieldhouse. The event will feature 48 high school varsity girls and boys teams representing 12 counties. \n\n\n\nPurchase tickets at the door or online at https://sc4skippers.com/fanzone/hometownTicketing (choose “hosted events” under the drop-down menu) \n\n\n\nDetails and schedule available at https://sc4.edu/news/sc4-to-host-48-high-school-basketball-teams-for-2022-holiday-showcase/
URL:https://sc4.edu/event/basketball-holiday-showcase/
LOCATION:MI
CATEGORIES:Athletics,Community
END:VEVENT
END:VCALENDAR