BEGIN:VCALENDAR
VERSION:2.0
PRODID:-//St. Clair County Community College - ECPv6.15.20//NONSGML v1.0//EN
CALSCALE:GREGORIAN
METHOD:PUBLISH
X-ORIGINAL-URL:https://sc4.edu
X-WR-CALDESC:Events for St. Clair County Community College
REFRESH-INTERVAL;VALUE=DURATION:PT1H
X-Robots-Tag:noindex
X-PUBLISHED-TTL:PT1H
BEGIN:VTIMEZONE
TZID:America/Detroit
BEGIN:DAYLIGHT
TZOFFSETFROM:-0500
TZOFFSETTO:-0400
TZNAME:EDT
DTSTART:20220313T070000
END:DAYLIGHT
BEGIN:STANDARD
TZOFFSETFROM:-0400
TZOFFSETTO:-0500
TZNAME:EST
DTSTART:20221106T060000
END:STANDARD
BEGIN:DAYLIGHT
TZOFFSETFROM:-0500
TZOFFSETTO:-0400
TZNAME:EDT
DTSTART:20230312T070000
END:DAYLIGHT
BEGIN:STANDARD
TZOFFSETFROM:-0400
TZOFFSETTO:-0500
TZNAME:EST
DTSTART:20231105T060000
END:STANDARD
BEGIN:DAYLIGHT
TZOFFSETFROM:-0500
TZOFFSETTO:-0400
TZNAME:EDT
DTSTART:20240310T070000
END:DAYLIGHT
BEGIN:STANDARD
TZOFFSETFROM:-0400
TZOFFSETTO:-0500
TZNAME:EST
DTSTART:20241103T060000
END:STANDARD
END:VTIMEZONE
BEGIN:VEVENT
DTSTART;TZID=America/Detroit:20230901T140000
DTEND;TZID=America/Detroit:20230901T160000
DTSTAMP:20260424T131621
CREATED:20230807T153512Z
LAST-MODIFIED:20230807T163053Z
UID:10001199-1693576800-1693584000@sc4.edu
SUMMARY:Soccer: Skippers home game
DESCRIPTION:The Skippers take on Ancilla College. \n\n\n\nLocation: Skippers Soccer Field at Morton Park\, 560 Busha Hwy.\, Marysville \n\n\n\nFall schedule for the Skippers Soccer team.
URL:https://sc4.edu/event/soccer-skippers-home-match-11/
LOCATION:MI
CATEGORIES:Athletics,Campus life,Community
END:VEVENT
BEGIN:VEVENT
DTSTART;TZID=America/Detroit:20230912T130000
DTEND;TZID=America/Detroit:20230912T140000
DTSTAMP:20260424T131621
CREATED:20230804T190031Z
LAST-MODIFIED:20230804T191940Z
UID:10001191-1694523600-1694527200@sc4.edu
SUMMARY:ADN Transition program information session
DESCRIPTION:Attend this virtual information session to ask questions and learn about the program\, course schedule\, any prerequisites\, and more. Join the meeting here: https://sc4.edu/programs/health-human-services/nursing/adn-transition-program/
URL:https://sc4.edu/event/adn-transition-program-information-session-7/
LOCATION:MI
CATEGORIES:Academics,Admissions
END:VEVENT
BEGIN:VEVENT
DTSTART;TZID=America/Detroit:20230913T190000
DTEND;TZID=America/Detroit:20230913T210000
DTSTAMP:20260424T131621
CREATED:20230807T183822Z
LAST-MODIFIED:20230807T183824Z
UID:10001207-1694631600-1694638800@sc4.edu
SUMMARY:Volleyball: Skippers home game
DESCRIPTION:The Skippers take on Schoolcraft College. \n\n\n\nLocation: SC4 Fieldhouse \n\n\n\nFall schedule for the Skippers Volleyball team. \n\n\n\nTicket Information
URL:https://sc4.edu/event/volleyball-skippers-home-game-6/
LOCATION:MI
CATEGORIES:Athletics,Campus life,Community
END:VEVENT
BEGIN:VEVENT
DTSTART;TZID=America/Detroit:20230914T120000
DTEND;TZID=America/Detroit:20230914T130000
DTSTAMP:20260424T131621
CREATED:20230815T185149Z
LAST-MODIFIED:20230815T185348Z
UID:10001213-1694692800-1694696400@sc4.edu
SUMMARY:Free Concert: Lexington Bach String Quartet
DESCRIPTION:SC4 is happy to feature standout performers from the Lexington Bach Festival\, a weeklong event bringing the music of Johann Sebastian Bach and other composers influenced by Bach to our community. The quartet will kick off our Free Noon and Night Concert Series by performing classic compositions. \n\n\n\nPerformances are scheduled from noon to 1 p.m. and 5 to 6:30 p.m. in the SC4 Fine Arts Theatre. Seats are general admission and no reservations are needed. Doors open 30 minutes prior to showtime.
URL:https://sc4.edu/event/free-concert-lexington-bach-string-quartet-3/
LOCATION:MI
CATEGORIES:Arts,Campus life,Community,Thursday concert series
END:VEVENT
BEGIN:VEVENT
DTSTART;TZID=America/Detroit:20230914T170000
DTEND;TZID=America/Detroit:20230914T183000
DTSTAMP:20260424T131621
CREATED:20230815T185525Z
LAST-MODIFIED:20230815T185527Z
UID:10001214-1694710800-1694716200@sc4.edu
SUMMARY:Free Concert: Lexington Bach String Quartet
DESCRIPTION:SC4 is happy to feature standout performers from the Lexington Bach Festival\, a weeklong event bringing the music of Johann Sebastian Bach and other composers influenced by Bach to our community. The quartet will kick off our Free Noon and Night Concert Series by performing classic compositions. \n\n\n\nPerformances are scheduled from noon to 1 p.m. and 5 to 6:30 p.m. in the SC4 Fine Arts Theatre. Seats are general admission and no reservations are needed. Doors open 30 minutes prior to showtime.
URL:https://sc4.edu/event/free-concert-lexington-bach-string-quartet-4/
LOCATION:MI
CATEGORIES:Arts,Campus life,Community,Thursday concert series
END:VEVENT
BEGIN:VEVENT
DTSTART;TZID=America/Detroit:20230917T160000
DTEND;TZID=America/Detroit:20230917T180000
DTSTAMP:20260424T131621
CREATED:20230807T153636Z
LAST-MODIFIED:20230807T163028Z
UID:10001200-1694966400-1694973600@sc4.edu
SUMMARY:Soccer: Skippers home game
DESCRIPTION:The Skippers take on Terra State Community College. \n\n\n\nLocation: Skippers Soccer Field at Morton Park\, 560 Busha Hwy.\, Marysville \n\n\n\nFall schedule for the Skippers Soccer team.
URL:https://sc4.edu/event/soccer-skippers-home-match-12/
LOCATION:MI
CATEGORIES:Athletics,Campus life,Community
END:VEVENT
BEGIN:VEVENT
DTSTART;TZID=America/Detroit:20230918T090000
DTEND;TZID=America/Detroit:20231020T190000
DTSTAMP:20260424T131621
CREATED:20230815T185707Z
LAST-MODIFIED:20230815T185709Z
UID:10001215-1695027600-1697828400@sc4.edu
SUMMARY:Gallery: Collectively Independent Faculty Exhibition
DESCRIPTION:Stop by the SC4 Fine Arts Building galleries to view original artwork created by SC4 faculty. \n\n\n\nGallery hours: 9 a.m. to 7 p.m. Monday to Friday. \n\n\n\nExhibition dates: Sept. 18 to Oct. 20.
URL:https://sc4.edu/event/gallery-collectively-independent-faculty-exhibition/
LOCATION:MI
CATEGORIES:Arts,Campus life,Community
END:VEVENT
BEGIN:VEVENT
DTSTART;TZID=America/Detroit:20230920T160000
DTEND;TZID=America/Detroit:20230920T180000
DTSTAMP:20260424T131621
CREATED:20230807T153737Z
LAST-MODIFIED:20230807T163002Z
UID:10001201-1695225600-1695232800@sc4.edu
SUMMARY:Soccer: Skippers home game
DESCRIPTION:The Skippers take on Muskegon Community College. \n\n\n\nLocation: Skippers Soccer Field at Morton Park\, 560 Busha Hwy.\, Marysville \n\n\n\nFall schedule for the Skippers Soccer team.
URL:https://sc4.edu/event/soccer-skippers-home-match-13/
LOCATION:MI
CATEGORIES:Athletics,Campus life,Community
END:VEVENT
BEGIN:VEVENT
DTSTART;TZID=America/Detroit:20230925T190000
DTEND;TZID=America/Detroit:20230925T210000
DTSTAMP:20260424T131622
CREATED:20230807T183956Z
LAST-MODIFIED:20230807T183957Z
UID:10001208-1695668400-1695675600@sc4.edu
SUMMARY:Volleyball: Skippers home game
DESCRIPTION:The Skippers take on Jackson College. \n\n\n\nLocation: SC4 Fieldhouse \n\n\n\nFall schedule for the Skippers Volleyball team. \n\n\n\nTicket Information
URL:https://sc4.edu/event/volleyball-skippers-home-game-7/
LOCATION:MI
CATEGORIES:Athletics,Campus life,Community
END:VEVENT
BEGIN:VEVENT
DTSTART;TZID=America/Detroit:20230930T163000
DTEND;TZID=America/Detroit:20230930T183000
DTSTAMP:20260424T131622
CREATED:20230807T153842Z
LAST-MODIFIED:20230807T162941Z
UID:10001202-1696091400-1696098600@sc4.edu
SUMMARY:Soccer: Skippers home game
DESCRIPTION:The Skippers take on Delta College. \n\n\n\nLocation: Skippers Soccer Field at Morton Park\, 560 Busha Hwy.\, Marysville \n\n\n\nFall schedule for the Skippers Soccer team.
URL:https://sc4.edu/event/soccer-skippers-home-game-2/
LOCATION:MI
CATEGORIES:Athletics,Campus life,Community
END:VEVENT
END:VCALENDAR