BEGIN:VCALENDAR
VERSION:2.0
PRODID:-//St. Clair County Community College - ECPv6.15.20//NONSGML v1.0//EN
CALSCALE:GREGORIAN
METHOD:PUBLISH
X-WR-CALNAME:St. Clair County Community College
X-ORIGINAL-URL:https://sc4.edu
X-WR-CALDESC:Events for St. Clair County Community College
REFRESH-INTERVAL;VALUE=DURATION:PT1H
X-Robots-Tag:noindex
X-PUBLISHED-TTL:PT1H
BEGIN:VTIMEZONE
TZID:America/Detroit
BEGIN:DAYLIGHT
TZOFFSETFROM:-0500
TZOFFSETTO:-0400
TZNAME:EDT
DTSTART:20230312T070000
END:DAYLIGHT
BEGIN:STANDARD
TZOFFSETFROM:-0400
TZOFFSETTO:-0500
TZNAME:EST
DTSTART:20231105T060000
END:STANDARD
BEGIN:DAYLIGHT
TZOFFSETFROM:-0500
TZOFFSETTO:-0400
TZNAME:EDT
DTSTART:20240310T070000
END:DAYLIGHT
BEGIN:STANDARD
TZOFFSETFROM:-0400
TZOFFSETTO:-0500
TZNAME:EST
DTSTART:20241103T060000
END:STANDARD
BEGIN:DAYLIGHT
TZOFFSETFROM:-0500
TZOFFSETTO:-0400
TZNAME:EDT
DTSTART:20250309T070000
END:DAYLIGHT
BEGIN:STANDARD
TZOFFSETFROM:-0400
TZOFFSETTO:-0500
TZNAME:EST
DTSTART:20251102T060000
END:STANDARD
END:VTIMEZONE
BEGIN:VEVENT
DTSTART;TZID=America/Detroit:20240502T140000
DTEND;TZID=America/Detroit:20240502T183000
DTSTAMP:20260419T222200
CREATED:20240502T203024Z
LAST-MODIFIED:20250106T151346Z
UID:10001725-1714658400-1714674600@sc4.edu
SUMMARY:Baseball VS Macomb Community College
DESCRIPTION:SC4 Skippers baseball VS Macomb Monarchs Baseball at home!
URL:https://sc4.edu/event/baseball-vs-macomb-community-college/
LOCATION:Sanborn Baseball Field\, 1801 Sanborn Street\, Port Huron\, MI\, 48060\, United States
CATEGORIES:Athletics,Baseball
END:VEVENT
BEGIN:VEVENT
DTSTART;TZID=America/Detroit:20240503T150000
DTEND;TZID=America/Detroit:20240503T190000
DTSTAMP:20260419T222200
CREATED:20240502T203038Z
LAST-MODIFIED:20250106T152911Z
UID:10001726-1714748400-1714762800@sc4.edu
SUMMARY:Softball at Mott Community College
DESCRIPTION:SC4 Skippers softball at the Mott Bears
URL:https://sc4.edu/event/softball-at-mott-community-college/
LOCATION:MI
CATEGORIES:Athletics,Softball
END:VEVENT
BEGIN:VEVENT
DTSTART;TZID=America/Detroit:20240503T180000
DTEND;TZID=America/Detroit:20240503T200000
DTSTAMP:20260419T222200
CREATED:20240325T192739Z
LAST-MODIFIED:20240410T205525Z
UID:10001700-1714759200-1714766400@sc4.edu
SUMMARY:SC4 Commencement
DESCRIPTION:SC4’s Commencement Ceremony is scheduled for 6 p.m. Friday\, May 3\, in McMorran Place Arena. Tickets are not required for attendees. Information for graduates will be posted on the website at sc4.edu/commencement when information becomes available. \n\n\n\nLocation: McMorran Place Arena
URL:https://sc4.edu/event/sc4-commencement-2/
LOCATION:MI
CATEGORIES:Academics,Campus life,Community
END:VEVENT
BEGIN:VEVENT
DTSTART;TZID=America/Detroit:20240504T130000
DTEND;TZID=America/Detroit:20240504T173000
DTSTAMP:20260419T222200
CREATED:20240502T203052Z
LAST-MODIFIED:20250106T153211Z
UID:10001727-1714827600-1714843800@sc4.edu
SUMMARY:Baseball at Macomb Community College
DESCRIPTION:SC4 Skippers baseball at Macomb Community College
URL:https://sc4.edu/event/baseball-at-macomb-community-college/
LOCATION:MI
CATEGORIES:Athletics,Baseball
END:VEVENT
BEGIN:VEVENT
DTSTART;TZID=America/Detroit:20240508T100000
DTEND;TZID=America/Detroit:20240508T140000
DTSTAMP:20260419T222200
CREATED:20240507T155719Z
LAST-MODIFIED:20240507T155721Z
UID:10001730-1715162400-1715176800@sc4.edu
SUMMARY:2024 St. Clair County Community Resource Fair
DESCRIPTION:The St. Clair County Community Resource Fair is a one-day\, one-stop event designed to support\, link with resources\, and remove barriers for individuals and families experiencing or at-risk of experiencing homelessness. There are vendors\, mobile food pantry and giveaways. \n\n\n\nLocation: College Center Building
URL:https://sc4.edu/event/2024-st-clair-county-community-resource-fair/
LOCATION:MI
CATEGORIES:Community
END:VEVENT
BEGIN:VEVENT
DTSTART;TZID=America/Detroit:20240509T000000
DTEND;TZID=America/Detroit:20240511T235959
DTSTAMP:20260419T222200
CREATED:20240509T053309Z
LAST-MODIFIED:20240509T053310Z
UID:10001729-1715212800-1715471999@sc4.edu
SUMMARY:NJCAA Region 12 Softball Tournaments
DESCRIPTION:The NJCAA Region 12 softball teams competing for a trip to the NJCAA DII Softball World Series.
URL:https://sc4.edu/event/njcaa-region-12-softball-tournaments/
LOCATION:Marysville Park Softball Field\, 801 E. Huron Blvd\, Port Huron\, MI\, 48060\, United States
CATEGORIES:Athletics
END:VEVENT
BEGIN:VEVENT
DTSTART;TZID=America/Detroit:20240513T100000
DTEND;TZID=America/Detroit:20240513T110000
DTSTAMP:20260419T222200
CREATED:20240222T213259Z
LAST-MODIFIED:20240222T213300Z
UID:10001280-1715594400-1715598000@sc4.edu
SUMMARY:Associate Degree Nursing Transition Program information session
DESCRIPTION:Attend this virtual information session to ask questions and learn about the program\, course schedule\, any prerequisites\, and more. Join the meeting on Teams.
URL:https://sc4.edu/event/associate-degree-nursing-transition-program-information-session-2/
LOCATION:MI
CATEGORIES:Academics,Admissions
END:VEVENT
BEGIN:VEVENT
DTSTART;TZID=America/Detroit:20240517T000000
DTEND;TZID=America/Detroit:20240518T235959
DTSTAMP:20260419T222200
CREATED:20240528T161402Z
LAST-MODIFIED:20240528T161404Z
UID:10001744-1715904000-1716076799@sc4.edu
SUMMARY:High School Girls Softball Showcase
DESCRIPTION:High School Varsity Girls Softball showcase on Friday\, May 17 and Saturday\, May 18. Friday games starting at 4 pm
URL:https://sc4.edu/event/high-school-girls-softball-showcase/
LOCATION:Marysville Park Softball Field\, 801 E. Huron Blvd\, Port Huron\, MI\, 48060\, United States
CATEGORIES:Softball
END:VEVENT
BEGIN:VEVENT
DTSTART;TZID=America/Detroit:20240523T100000
DTEND;TZID=America/Detroit:20240523T110000
DTSTAMP:20260419T222200
CREATED:20240517T190516Z
LAST-MODIFIED:20240520T122257Z
UID:10001747-1716458400-1716462000@sc4.edu
SUMMARY:FAFSA Completion Workshops
DESCRIPTION:FAFSA Completion Workshops are offered for students to help students with FAFSA completion. Students can register at sc4.edu/financialaid.  \n\n\n\nLocation: Welcome Center 208
URL:https://sc4.edu/event/fafsa-completion-workshops/
LOCATION:MI
CATEGORIES:Academics,Admissions
END:VEVENT
BEGIN:VEVENT
DTSTART;TZID=America/Detroit:20240524T170000
DTEND;TZID=America/Detroit:20240524T180000
DTSTAMP:20260419T222200
CREATED:20240222T211411Z
LAST-MODIFIED:20240521T142652Z
UID:10001266-1716570000-1716573600@sc4.edu
SUMMARY:Respiratory Therapy Information session
DESCRIPTION:The respiratory therapy program at St. Clair County Community College uses an integration of classroom and practicum experiences in hospitals\, outpatient testing facilities and physician offices. Students graduating from the program will obtain an Associate in Applied Arts and Science degree\, and become eligible to take the National Board of Respiratory Care (NBRC) credentialing examinations. \n\n\n\nAttend this virtual information session to ask questions and learn about the program\, course schedule\, any prerequisites\, and more. \n\n\n\nJoin the meeting on Teams.
URL:https://sc4.edu/event/respiratory-therapy-information-session-4/
LOCATION:MI
CATEGORIES:Academics,Admissions
END:VEVENT
BEGIN:VEVENT
DTSTART;TZID=America/Detroit:20240529T150000
DTEND;TZID=America/Detroit:20240529T160000
DTSTAMP:20260419T222200
CREATED:20240517T190632Z
LAST-MODIFIED:20240520T134926Z
UID:10001748-1716994800-1716998400@sc4.edu
SUMMARY:FAFSA Completion Workshops
DESCRIPTION:FAFSA Completion Workshops are offered for students to help students with FAFSA completion. Students can register at sc4.edu/financialaid.  \n\n\n\nLocation: Welcome Center 208
URL:https://sc4.edu/event/fafsa-completion-workshops-2/
LOCATION:MI
CATEGORIES:Academics,Admissions
END:VEVENT
END:VCALENDAR