BEGIN:VCALENDAR
VERSION:2.0
PRODID:-//St. Clair County Community College - ECPv6.15.20//NONSGML v1.0//EN
CALSCALE:GREGORIAN
METHOD:PUBLISH
X-ORIGINAL-URL:https://sc4.edu
X-WR-CALDESC:Events for St. Clair County Community College
REFRESH-INTERVAL;VALUE=DURATION:PT1H
X-Robots-Tag:noindex
X-PUBLISHED-TTL:PT1H
BEGIN:VTIMEZONE
TZID:America/Detroit
BEGIN:DAYLIGHT
TZOFFSETFROM:-0500
TZOFFSETTO:-0400
TZNAME:EDT
DTSTART:20200308T070000
END:DAYLIGHT
BEGIN:STANDARD
TZOFFSETFROM:-0400
TZOFFSETTO:-0500
TZNAME:EST
DTSTART:20201101T060000
END:STANDARD
BEGIN:DAYLIGHT
TZOFFSETFROM:-0500
TZOFFSETTO:-0400
TZNAME:EDT
DTSTART:20210314T070000
END:DAYLIGHT
BEGIN:STANDARD
TZOFFSETFROM:-0400
TZOFFSETTO:-0500
TZNAME:EST
DTSTART:20211107T060000
END:STANDARD
BEGIN:DAYLIGHT
TZOFFSETFROM:-0500
TZOFFSETTO:-0400
TZNAME:EDT
DTSTART:20220313T070000
END:DAYLIGHT
BEGIN:STANDARD
TZOFFSETFROM:-0400
TZOFFSETTO:-0500
TZNAME:EST
DTSTART:20221106T060000
END:STANDARD
END:VTIMEZONE
BEGIN:VEVENT
DTSTART;TZID=America/Detroit:20210323T140000
DTEND;TZID=America/Detroit:20210323T150000
DTSTAMP:20260426T002420
CREATED:20210106T142514Z
LAST-MODIFIED:20210106T142515Z
UID:10000957-1616508000-1616511600@sc4.edu
SUMMARY:Associate Degree Nursing program information session
DESCRIPTION:Attend this virtual information session to ask questions and learn about the program\, course schedule\, any prerequisites\, and more. Join the meeting here: https://sc4.edu/programs/health-human-services/nursing/associate-degree-nursing/
URL:https://sc4.edu/event/associate-degree-nursing-program-information-session-5/
LOCATION:MI
CATEGORIES:Academics,Admissions
END:VEVENT
BEGIN:VEVENT
DTSTART;TZID=America/Detroit:20210325T100000
DTEND;TZID=America/Detroit:20210325T113000
DTSTAMP:20260426T002420
CREATED:20210318T132729Z
LAST-MODIFIED:20210318T132730Z
UID:10000995-1616666400-1616671800@sc4.edu
SUMMARY:Discussion with Dr. Randa Jundi-Samman
DESCRIPTION:In recognition of Women’s History Month\, SC4’s Office of Diversity\, Equity\, and Inclusion is hosting a 90-minute fireside chat session with Dr. Randa Jundi-Samman on the topic “History of Women and Their Role in Society — Have We Removed the Barriers?” \n\n\n\nThis event is 10 a.m. Thursday\, March 25\, via Zoom. To reserve your spot and receive the Zoom link\, please RSVP to dei@sc4.edu. \n\n\n\nJessica Brown will serve as moderator. SC4 faculty\, staff\, and students\, as well as community members\, are welcome to attend. More details at https://sc4.edu/office-of-diversity-equity-inclusion/news-and-events/
URL:https://sc4.edu/event/discussion-with-dr-randa-jundi-samman/
LOCATION:MI
CATEGORIES:Community,Diversity Equity Inclusion
END:VEVENT
END:VCALENDAR