BEGIN:VCALENDAR
VERSION:2.0
PRODID:-//St. Clair County Community College - ECPv6.15.20//NONSGML v1.0//EN
CALSCALE:GREGORIAN
METHOD:PUBLISH
X-WR-CALNAME:St. Clair County Community College
X-ORIGINAL-URL:https://sc4.edu
X-WR-CALDESC:Events for St. Clair County Community College
REFRESH-INTERVAL;VALUE=DURATION:PT1H
X-Robots-Tag:noindex
X-PUBLISHED-TTL:PT1H
BEGIN:VTIMEZONE
TZID:America/Detroit
BEGIN:DAYLIGHT
TZOFFSETFROM:-0500
TZOFFSETTO:-0400
TZNAME:EDT
DTSTART:20210314T070000
END:DAYLIGHT
BEGIN:STANDARD
TZOFFSETFROM:-0400
TZOFFSETTO:-0500
TZNAME:EST
DTSTART:20211107T060000
END:STANDARD
BEGIN:DAYLIGHT
TZOFFSETFROM:-0500
TZOFFSETTO:-0400
TZNAME:EDT
DTSTART:20220313T070000
END:DAYLIGHT
BEGIN:STANDARD
TZOFFSETFROM:-0400
TZOFFSETTO:-0500
TZNAME:EST
DTSTART:20221106T060000
END:STANDARD
BEGIN:DAYLIGHT
TZOFFSETFROM:-0500
TZOFFSETTO:-0400
TZNAME:EDT
DTSTART:20230312T070000
END:DAYLIGHT
BEGIN:STANDARD
TZOFFSETFROM:-0400
TZOFFSETTO:-0500
TZNAME:EST
DTSTART:20231105T060000
END:STANDARD
END:VTIMEZONE
BEGIN:VEVENT
DTSTART;TZID=America/Detroit:20220103T173000
DTEND;TZID=America/Detroit:20220103T210000
DTSTAMP:20260424T225339
CREATED:20211213T201213Z
LAST-MODIFIED:20211213T201214Z
UID:10001048-1641231000-1641243600@sc4.edu
SUMMARY:Skippers home basketball games
DESCRIPTION:The Skippers take on Alpena Community College. The women play at 5:30 p.m. and the men at 7:30 p.m.LOCATION: SC4 Fieldhouse \n\n\n\nBuy tickets online: https://sc4skippers.com/fanzone/ticketing
URL:https://sc4.edu/event/skippers-home-basketball-games-7/
LOCATION:MI
CATEGORIES:Athletics,Campus life,Community
END:VEVENT
BEGIN:VEVENT
DTSTART;TZID=America/Detroit:20220108T130000
DTEND;TZID=America/Detroit:20220108T163000
DTSTAMP:20260424T225339
CREATED:20211213T201344Z
LAST-MODIFIED:20211213T201346Z
UID:10001049-1641646800-1641659400@sc4.edu
SUMMARY:Skippers home basketball games
DESCRIPTION:The Skippers take on Mott Community College. The women play at 1 p.m. and the men at 3 p.m.LOCATION: SC4 Fieldhouse \n\n\n\nBuy tickets online: https://sc4skippers.com/fanzone/ticketing
URL:https://sc4.edu/event/skippers-home-basketball-games-8/
LOCATION:MI
CATEGORIES:Athletics,Campus life,Community
END:VEVENT
END:VCALENDAR