BEGIN:VCALENDAR
VERSION:2.0
PRODID:-//St. Clair County Community College - ECPv6.15.20//NONSGML v1.0//EN
CALSCALE:GREGORIAN
METHOD:PUBLISH
X-ORIGINAL-URL:https://sc4.edu
X-WR-CALDESC:Events for St. Clair County Community College
REFRESH-INTERVAL;VALUE=DURATION:PT1H
X-Robots-Tag:noindex
X-PUBLISHED-TTL:PT1H
BEGIN:VTIMEZONE
TZID:America/Detroit
BEGIN:DAYLIGHT
TZOFFSETFROM:-0500
TZOFFSETTO:-0400
TZNAME:EDT
DTSTART:20210314T070000
END:DAYLIGHT
BEGIN:STANDARD
TZOFFSETFROM:-0400
TZOFFSETTO:-0500
TZNAME:EST
DTSTART:20211107T060000
END:STANDARD
BEGIN:DAYLIGHT
TZOFFSETFROM:-0500
TZOFFSETTO:-0400
TZNAME:EDT
DTSTART:20220313T070000
END:DAYLIGHT
BEGIN:STANDARD
TZOFFSETFROM:-0400
TZOFFSETTO:-0500
TZNAME:EST
DTSTART:20221106T060000
END:STANDARD
BEGIN:DAYLIGHT
TZOFFSETFROM:-0500
TZOFFSETTO:-0400
TZNAME:EDT
DTSTART:20230312T070000
END:DAYLIGHT
BEGIN:STANDARD
TZOFFSETFROM:-0400
TZOFFSETTO:-0500
TZNAME:EST
DTSTART:20231105T060000
END:STANDARD
END:VTIMEZONE
BEGIN:VEVENT
DTSTART;TZID=America/Detroit:20220117T180000
DTEND;TZID=America/Detroit:20220117T193000
DTSTAMP:20260424T222747
CREATED:20211202T135932Z
LAST-MODIFIED:20220118T142421Z
UID:10001047-1642442400-1642447800@sc4.edu
SUMMARY:Dr. Martin Luther King Jr. Day Celebration
DESCRIPTION:SC4’s Office of Diversity\, Equity and Inclusion will host the annual MLK Day event in SC4’s Fine Arts Theatre on January 17. The theme for this year is “Where Are We Now?.”  \n\n\n\nThis event\, which also will be livestreamed\, is sure to be impactful with something for everyone to enjoy. For more information and to view a list of scheduled presenters and performers\, visit https://sc4.edu/news/sc4-celebrates-martin-luther-king-jr-day-jan-17/.  \n\n\n\nSeating is limited. Reserve your free seat by emailing dei@sc4.edu. \n\n\n\nLOCATION: SC4 Fine Arts TheatreLIVESTREAM LINK: sc4.edu/dei-live \n\n\n\nLINK TO RECORDED EVENT: https://www.youtube.com/watch?v=LJX1EjdJoLw
URL:https://sc4.edu/event/dr-martin-luther-king-jr-day-celebration/
LOCATION:MI
CATEGORIES:Community,Diversity Equity Inclusion
END:VEVENT
BEGIN:VEVENT
DTSTART;TZID=America/Detroit:20220119T100000
DTEND;TZID=America/Detroit:20220119T110000
DTSTAMP:20260424T222747
CREATED:20211213T203951Z
LAST-MODIFIED:20211213T203953Z
UID:10001056-1642586400-1642590000@sc4.edu
SUMMARY:Radiologic Technology program information session
DESCRIPTION:Attend this virtual information session to ask questions and learn about the program\, course schedule\, any prerequisites\, and more. Join the meeting here:  https://sc4.edu/programs/health-human-services/radiologic-technology/  \n\n\n\nProgram application deadline is Feb. 15
URL:https://sc4.edu/event/radiologic-technology-program-information-session-25/
LOCATION:MI
CATEGORIES:Academics,Admissions
END:VEVENT
BEGIN:VEVENT
DTSTART;TZID=America/Detroit:20220120T180000
DTEND;TZID=America/Detroit:20220120T190000
DTSTAMP:20260424T222747
CREATED:20211213T204049Z
LAST-MODIFIED:20211213T204318Z
UID:10001057-1642701600-1642705200@sc4.edu
SUMMARY:Radiologic Technology program information session
DESCRIPTION:Attend this virtual information session to ask questions and learn about the program\, course schedule\, any prerequisites\, and more. Join the meeting here:  https://sc4.edu/programs/health-human-services/radiologic-technology/  \n\n\n\nProgram application deadline is Feb. 15.
URL:https://sc4.edu/event/radiologic-technology-program-information-session-26/
LOCATION:MI
CATEGORIES:Academics,Admissions
END:VEVENT
BEGIN:VEVENT
DTSTART;TZID=America/Detroit:20220122T130000
DTEND;TZID=America/Detroit:20220122T163000
DTSTAMP:20260424T222747
CREATED:20211213T201726Z
LAST-MODIFIED:20211213T203351Z
UID:10001051-1642856400-1642869000@sc4.edu
SUMMARY:Skippers home basketball games
DESCRIPTION:The Skippers take on Henry Ford College. The women play at 1 p.m. and the men at 3 p.m.LOCATION: SC4 Fieldhouse \n\n\n\nBuy tickets online: https://sc4skippers.com/fanzone/ticketing
URL:https://sc4.edu/event/skippers-home-basketball-games-10/
LOCATION:MI
CATEGORIES:Athletics,Campus life,Community
END:VEVENT
END:VCALENDAR