BEGIN:VCALENDAR
VERSION:2.0
PRODID:-//St. Clair County Community College - ECPv6.15.20//NONSGML v1.0//EN
CALSCALE:GREGORIAN
METHOD:PUBLISH
X-ORIGINAL-URL:https://sc4.edu
X-WR-CALDESC:Events for St. Clair County Community College
REFRESH-INTERVAL;VALUE=DURATION:PT1H
X-Robots-Tag:noindex
X-PUBLISHED-TTL:PT1H
BEGIN:VTIMEZONE
TZID:America/Detroit
BEGIN:DAYLIGHT
TZOFFSETFROM:-0500
TZOFFSETTO:-0400
TZNAME:EDT
DTSTART:20210314T070000
END:DAYLIGHT
BEGIN:STANDARD
TZOFFSETFROM:-0400
TZOFFSETTO:-0500
TZNAME:EST
DTSTART:20211107T060000
END:STANDARD
BEGIN:DAYLIGHT
TZOFFSETFROM:-0500
TZOFFSETTO:-0400
TZNAME:EDT
DTSTART:20220313T070000
END:DAYLIGHT
BEGIN:STANDARD
TZOFFSETFROM:-0400
TZOFFSETTO:-0500
TZNAME:EST
DTSTART:20221106T060000
END:STANDARD
BEGIN:DAYLIGHT
TZOFFSETFROM:-0500
TZOFFSETTO:-0400
TZNAME:EDT
DTSTART:20230312T070000
END:DAYLIGHT
BEGIN:STANDARD
TZOFFSETFROM:-0400
TZOFFSETTO:-0500
TZNAME:EST
DTSTART:20231105T060000
END:STANDARD
END:VTIMEZONE
BEGIN:VEVENT
DTSTART;TZID=America/Detroit:20220124T090000
DTEND;TZID=America/Detroit:20220204T190000
DTSTAMP:20260424T212308
CREATED:20211216T205406Z
LAST-MODIFIED:20211216T210416Z
UID:10001061-1643014800-1644001200@sc4.edu
SUMMARY:Beatrice Thornton Student Art Exhibition: Elementary Students' Show
DESCRIPTION:Art teachers from all St. Clair County K-12 schools have been invited to choose student work for the exhibition. The 54th annual elementary show runs from Jan. 24 to Feb. 3. An opening ceremony is 6 to 6:30 p.m. Monday\, Jan. 24\, in the SC4 Fine Arts Theatre. \n\n\n\nLOCATION: SC4 Fine Arts Building GalleryGalleries closed Saturday and Sunday.
URL:https://sc4.edu/event/beatrice-thornton-student-art-exhibition-elementary-students-show/
LOCATION:MI
CATEGORIES:Arts,Community
END:VEVENT
BEGIN:VEVENT
DTSTART;TZID=America/Detroit:20220202T100000
DTEND;TZID=America/Detroit:20220202T110000
DTSTAMP:20260424T212308
CREATED:20211213T204956Z
LAST-MODIFIED:20211213T204958Z
UID:10000913-1643796000-1643799600@sc4.edu
SUMMARY:Radiologic Technology program information session
DESCRIPTION:Attend this virtual information session to ask questions and learn about the program\, course schedule\, any prerequisites\, and more. Join the meeting here:  https://sc4.edu/programs/health-human-services/radiologic-technology/
URL:https://sc4.edu/event/radiologic-technology-program-information-session-30/
LOCATION:MI
CATEGORIES:Academics,Admissions
END:VEVENT
BEGIN:VEVENT
DTSTART;TZID=America/Detroit:20220202T173000
DTEND;TZID=America/Detroit:20220202T210000
DTSTAMP:20260424T212308
CREATED:20211213T201857Z
LAST-MODIFIED:20211213T201859Z
UID:10001052-1643823000-1643835600@sc4.edu
SUMMARY:Skippers home basketball games
DESCRIPTION:The Skippers take on Macomb Community College. The women play at 5:30 p.m. and the men at 7:30 p.m.LOCATION: SC4 Fieldhouse \n\n\n\nBuy tickets online: https://sc4skippers.com/fanzone/ticketing
URL:https://sc4.edu/event/skippers-home-basketball-games-11/
LOCATION:MI
CATEGORIES:Athletics,Campus life,Community
END:VEVENT
BEGIN:VEVENT
DTSTART;TZID=America/Detroit:20220203T100000
DTEND;TZID=America/Detroit:20220203T110000
DTSTAMP:20260424T212308
CREATED:20211213T204247Z
LAST-MODIFIED:20211213T204248Z
UID:10001058-1643882400-1643886000@sc4.edu
SUMMARY:Radiologic Technology program information session
DESCRIPTION:Attend this virtual information session to ask questions and learn about the program\, course schedule\, any prerequisites\, and more. Join the meeting here:  https://sc4.edu/programs/health-human-services/radiologic-technology/  \n\n\n\nProgram application deadline is Feb. 15.
URL:https://sc4.edu/event/radiologic-technology-program-information-session-27/
LOCATION:MI
CATEGORIES:Academics,Admissions
END:VEVENT
END:VCALENDAR