BEGIN:VCALENDAR
VERSION:2.0
PRODID:-//St. Clair County Community College - ECPv6.15.20//NONSGML v1.0//EN
CALSCALE:GREGORIAN
METHOD:PUBLISH
X-ORIGINAL-URL:https://sc4.edu
X-WR-CALDESC:Events for St. Clair County Community College
REFRESH-INTERVAL;VALUE=DURATION:PT1H
X-Robots-Tag:noindex
X-PUBLISHED-TTL:PT1H
BEGIN:VTIMEZONE
TZID:America/Detroit
BEGIN:DAYLIGHT
TZOFFSETFROM:-0500
TZOFFSETTO:-0400
TZNAME:EDT
DTSTART:20210314T070000
END:DAYLIGHT
BEGIN:STANDARD
TZOFFSETFROM:-0400
TZOFFSETTO:-0500
TZNAME:EST
DTSTART:20211107T060000
END:STANDARD
BEGIN:DAYLIGHT
TZOFFSETFROM:-0500
TZOFFSETTO:-0400
TZNAME:EDT
DTSTART:20220313T070000
END:DAYLIGHT
BEGIN:STANDARD
TZOFFSETFROM:-0400
TZOFFSETTO:-0500
TZNAME:EST
DTSTART:20221106T060000
END:STANDARD
BEGIN:DAYLIGHT
TZOFFSETFROM:-0500
TZOFFSETTO:-0400
TZNAME:EDT
DTSTART:20230312T070000
END:DAYLIGHT
BEGIN:STANDARD
TZOFFSETFROM:-0400
TZOFFSETTO:-0500
TZNAME:EST
DTSTART:20231105T060000
END:STANDARD
END:VTIMEZONE
BEGIN:VEVENT
DTSTART;TZID=America/Detroit:20220214T090000
DTEND;TZID=America/Detroit:20220222T190000
DTSTAMP:20260424T212302
CREATED:20211216T210309Z
LAST-MODIFIED:20220216T194257Z
UID:10001064-1644829200-1645556400@sc4.edu
SUMMARY:Beatrice Thornton Student Art Exhibition: Middle and High School Students' Show
DESCRIPTION:Art teachers from all St. Clair County K-12 schools have been invited to choose student work for the exhibition. The 54th annual middle and high school show runs from Feb. 14 to 22. An opening ceremony is 6 to 6:30 p.m. Monday\, Feb. 14\, in the SC4 Fine Arts Theatre. \n\n\n\nLOCATION: SC4 Fine Arts Building GalleryFine Arts Building will be closed Friday\, Feb. 18.Galleries are closed Saturday and Sunday.
URL:https://sc4.edu/event/21786/
LOCATION:MI
CATEGORIES:Arts,Community
END:VEVENT
BEGIN:VEVENT
DTSTART;TZID=America/Detroit:20220221T173000
DTEND;TZID=America/Detroit:20220221T210000
DTSTAMP:20260424T212302
CREATED:20211213T203238Z
LAST-MODIFIED:20211213T203240Z
UID:10001055-1645464600-1645477200@sc4.edu
SUMMARY:Skippers home basketball games
DESCRIPTION:The Skippers take on Schoolcraft College. The women play at 5:30 p.m. and the men at 7:30 p.m.LOCATION: SC4 Fieldhouse \n\n\n\nBuy tickets online: https://sc4skippers.com/fanzone/ticketing
URL:https://sc4.edu/event/skippers-home-basketball-games-14/
LOCATION:MI
CATEGORIES:Athletics,Campus life,Community
END:VEVENT
BEGIN:VEVENT
DTSTART;TZID=America/Detroit:20220221T180000
DTEND;TZID=America/Detroit:20220221T193000
DTSTAMP:20260424T212302
CREATED:20220118T143038Z
LAST-MODIFIED:20220201T154308Z
UID:10001074-1645466400-1645471800@sc4.edu
SUMMARY:Black History Month Read-In Event
DESCRIPTION:In honor of Black History Month\, SC4’s Office of Diversity\, Equity and Inclusion in hosting a Read-In Event. Participants include K-12 students\, SC4 students\, faculty\, staff and the community. \n\n\n\nThe National African American Read-In was created in 1990 by the Black Caucus of the National Council of Teachers of English to make literacy a significant part of Black History Month.  \n\n\n\nJoin us as we bring the community together to listen to poems\, stories and book excerpts from favorite Black authors. \n\n\n\nRegister to attend the event by filling out the event registration form. \n\n\n\nLOCATION: SC4 Fine Arts Theatre
URL:https://sc4.edu/event/black-history-month-read-in-event/
LOCATION:MI
CATEGORIES:Arts,Community,Diversity Equity Inclusion
END:VEVENT
BEGIN:VEVENT
DTSTART;TZID=America/Detroit:20220226T190000
DTEND;TZID=America/Detroit:20220226T210000
DTSTAMP:20260424T212302
CREATED:20211216T211803Z
LAST-MODIFIED:20220110T151118Z
UID:10001065-1645902000-1645909200@sc4.edu
SUMMARY:SC4 Symphonic Band Concert 'Beginnings'
DESCRIPTION:The college’s symphonic band is comprised of a diverse group of musicians playing a variety of music guaranteed to please. Join us as conductor Erick J. Senkmajer leads the bands in concert.  \n\n\n\nAdmission: $10 adults; free admission as available at the door for SC4 students with Skippers OneCard. Tickets can be purchased in advance online or at the door. \n\n\n\nLOCATION: SC4 Fine Arts Theatre
URL:https://sc4.edu/event/sc4-symphonic-band-concert/
LOCATION:MI
CATEGORIES:Arts,Community
END:VEVENT
END:VCALENDAR