BEGIN:VCALENDAR
VERSION:2.0
PRODID:-//St. Clair County Community College - ECPv6.15.20//NONSGML v1.0//EN
CALSCALE:GREGORIAN
METHOD:PUBLISH
X-ORIGINAL-URL:https://sc4.edu
X-WR-CALDESC:Events for St. Clair County Community College
REFRESH-INTERVAL;VALUE=DURATION:PT1H
X-Robots-Tag:noindex
X-PUBLISHED-TTL:PT1H
BEGIN:VTIMEZONE
TZID:America/Detroit
BEGIN:DAYLIGHT
TZOFFSETFROM:-0500
TZOFFSETTO:-0400
TZNAME:EDT
DTSTART:20210314T070000
END:DAYLIGHT
BEGIN:STANDARD
TZOFFSETFROM:-0400
TZOFFSETTO:-0500
TZNAME:EST
DTSTART:20211107T060000
END:STANDARD
BEGIN:DAYLIGHT
TZOFFSETFROM:-0500
TZOFFSETTO:-0400
TZNAME:EDT
DTSTART:20220313T070000
END:DAYLIGHT
BEGIN:STANDARD
TZOFFSETFROM:-0400
TZOFFSETTO:-0500
TZNAME:EST
DTSTART:20221106T060000
END:STANDARD
BEGIN:DAYLIGHT
TZOFFSETFROM:-0500
TZOFFSETTO:-0400
TZNAME:EDT
DTSTART:20230312T070000
END:DAYLIGHT
BEGIN:STANDARD
TZOFFSETFROM:-0400
TZOFFSETTO:-0500
TZNAME:EST
DTSTART:20231105T060000
END:STANDARD
END:VTIMEZONE
BEGIN:VEVENT
DTSTART;TZID=America/Detroit:20220509T090000
DTEND;TZID=America/Detroit:20220605T163000
DTSTAMP:20260424T111924
CREATED:20211217T151811Z
LAST-MODIFIED:20220527T174816Z
UID:10001067-1652086800-1654446600@sc4.edu
SUMMARY:Gallery show: SC4 Photo Club Exhibition
DESCRIPTION:View original works taken by SC4’s Photo Club students. \n\n\n\nLOCATION: SC4 Fine Arts Gallery \n\n\n\nHOURS: 9 a.m. to 4:30 p.m. Monday to Friday \n\n\n\nGallery is closed Saturday and Sunday.
URL:https://sc4.edu/event/gallery-show-sc4-photo-club-exhibition/
LOCATION:MI
CATEGORIES:Arts,Community
END:VEVENT
BEGIN:VEVENT
DTSTART;TZID=America/Detroit:20220519T170000
DTEND;TZID=America/Detroit:20220519T180000
DTSTAMP:20260424T111924
CREATED:20220121T171718Z
LAST-MODIFIED:20220121T171720Z
UID:10001079-1652979600-1652983200@sc4.edu
SUMMARY:Respiratory Therapy program information session
DESCRIPTION:Attend this virtual information session to ask questions and learn about the program\, course schedule\, any prerequisites\, and more. Join the meeting here:  https://sc4.edu/programs/health-human-services/respiratory-therapy/.
URL:https://sc4.edu/event/respiratory-therapy-program-information-session-27/
LOCATION:MI
CATEGORIES:Academics,Admissions,Community
END:VEVENT
END:VCALENDAR