BEGIN:VCALENDAR
VERSION:2.0
PRODID:-//St. Clair County Community College - ECPv6.15.20//NONSGML v1.0//EN
CALSCALE:GREGORIAN
METHOD:PUBLISH
X-WR-CALNAME:St. Clair County Community College
X-ORIGINAL-URL:https://sc4.edu
X-WR-CALDESC:Events for St. Clair County Community College
REFRESH-INTERVAL;VALUE=DURATION:PT1H
X-Robots-Tag:noindex
X-PUBLISHED-TTL:PT1H
BEGIN:VTIMEZONE
TZID:America/Detroit
BEGIN:DAYLIGHT
TZOFFSETFROM:-0500
TZOFFSETTO:-0400
TZNAME:EDT
DTSTART:20210314T070000
END:DAYLIGHT
BEGIN:STANDARD
TZOFFSETFROM:-0400
TZOFFSETTO:-0500
TZNAME:EST
DTSTART:20211107T060000
END:STANDARD
BEGIN:DAYLIGHT
TZOFFSETFROM:-0500
TZOFFSETTO:-0400
TZNAME:EDT
DTSTART:20220313T070000
END:DAYLIGHT
BEGIN:STANDARD
TZOFFSETFROM:-0400
TZOFFSETTO:-0500
TZNAME:EST
DTSTART:20221106T060000
END:STANDARD
BEGIN:DAYLIGHT
TZOFFSETFROM:-0500
TZOFFSETTO:-0400
TZNAME:EDT
DTSTART:20230312T070000
END:DAYLIGHT
BEGIN:STANDARD
TZOFFSETFROM:-0400
TZOFFSETTO:-0500
TZNAME:EST
DTSTART:20231105T060000
END:STANDARD
END:VTIMEZONE
BEGIN:VEVENT
DTSTART;TZID=America/Detroit:20221010T090000
DTEND;TZID=America/Detroit:20221014T163000
DTSTAMP:20260424T063341
CREATED:20220818T212024Z
LAST-MODIFIED:20220818T212026Z
UID:10001108-1665392400-1665765000@sc4.edu
SUMMARY:Gallery show: Collectively Independent VIII by SC4 Arts Faculty
DESCRIPTION:This showcase features a wide variety of mediums and subject matter. Each piece is an original work of art from the arts faculty at SC4. \n\n\n\nLocation: Fine Arts Building GalleryHours: 9 a.m. to 4:30 p.m. Monday to Friday
URL:https://sc4.edu/event/gallery-show-collectively-independent-viii-by-sc4-arts-faculty-3/
LOCATION:MI
CATEGORIES:Arts,Community
END:VEVENT
BEGIN:VEVENT
DTSTART;TZID=America/Detroit:20221012T190000
DTEND;TZID=America/Detroit:20221012T210000
DTSTAMP:20260424T063341
CREATED:20220826T153423Z
LAST-MODIFIED:20220826T153425Z
UID:10001128-1665601200-1665608400@sc4.edu
SUMMARY:Volleyball: Skippers home game
DESCRIPTION:The Skippers volleyball team takes on Mott CC. \n\n\n\nLocation: SC4 Fieldhouse \n\n\n\nFall schedule: https://sc4skippers.com/sports/wvball/2022-23/schedule \n\n\n\nTicket information: https://sc4skippers.com/fanzone/ticketing
URL:https://sc4.edu/event/volleyball-skippers-home-game-5/
LOCATION:MI
CATEGORIES:Athletics,Campus life,Community
END:VEVENT
BEGIN:VEVENT
DTSTART;TZID=America/Detroit:20221015T000000
DTEND;TZID=America/Detroit:20221015T235959
DTSTAMP:20260424T063341
CREATED:20220826T153624Z
LAST-MODIFIED:20220826T153626Z
UID:10001127-1665792000-1665878399@sc4.edu
SUMMARY:Volleyball: Skippers QUAD
DESCRIPTION:The Skippers volleyball team is hosting a quad match. \n\n\n\nLocation: SC4 Fieldhouse \n\n\n\nFall schedule: https://sc4skippers.com/sports/wvball/2022-23/schedule \n\n\n\nTicket information: https://sc4skippers.com/fanzone/ticketing
URL:https://sc4.edu/event/volleyball-skippers-quad/
LOCATION:MI
CATEGORIES:Athletics,Campus life,Community
END:VEVENT
END:VCALENDAR