BEGIN:VCALENDAR
VERSION:2.0
PRODID:-//St. Clair County Community College - ECPv6.15.20//NONSGML v1.0//EN
CALSCALE:GREGORIAN
METHOD:PUBLISH
X-ORIGINAL-URL:https://sc4.edu
X-WR-CALDESC:Events for St. Clair County Community College
REFRESH-INTERVAL;VALUE=DURATION:PT1H
X-Robots-Tag:noindex
X-PUBLISHED-TTL:PT1H
BEGIN:VTIMEZONE
TZID:America/Detroit
BEGIN:DAYLIGHT
TZOFFSETFROM:-0500
TZOFFSETTO:-0400
TZNAME:EDT
DTSTART:20210314T070000
END:DAYLIGHT
BEGIN:STANDARD
TZOFFSETFROM:-0400
TZOFFSETTO:-0500
TZNAME:EST
DTSTART:20211107T060000
END:STANDARD
BEGIN:DAYLIGHT
TZOFFSETFROM:-0500
TZOFFSETTO:-0400
TZNAME:EDT
DTSTART:20220313T070000
END:DAYLIGHT
BEGIN:STANDARD
TZOFFSETFROM:-0400
TZOFFSETTO:-0500
TZNAME:EST
DTSTART:20221106T060000
END:STANDARD
BEGIN:DAYLIGHT
TZOFFSETFROM:-0500
TZOFFSETTO:-0400
TZNAME:EDT
DTSTART:20230312T070000
END:DAYLIGHT
BEGIN:STANDARD
TZOFFSETFROM:-0400
TZOFFSETTO:-0500
TZNAME:EST
DTSTART:20231105T060000
END:STANDARD
END:VTIMEZONE
BEGIN:VEVENT
DTSTART;TZID=America/Detroit:20221026T100000
DTEND;TZID=America/Detroit:20221026T160000
DTSTAMP:20260424T062721
CREATED:20221006T124240Z
LAST-MODIFIED:20221006T124242Z
UID:10001132-1666778400-1666800000@sc4.edu
SUMMARY:PTK Blood Drive
DESCRIPTION:SC4’s Lambda Mu chapter of Phi Theta Kappa International Honor Society is sponsoring a blood drive in the College Center\, on SC4’s campus. \n\n\n\nThose wishing to give blood are encouraged to schedule an appointment in advance. Visit redcrossblood.org​ and enter the college’s location or call (810) 294-4924.​
URL:https://sc4.edu/event/ptk-blood-drive-4/
LOCATION:MI
CATEGORIES:Community
END:VEVENT
BEGIN:VEVENT
DTSTART;TZID=America/Detroit:20221026T180000
DTEND;TZID=America/Detroit:20221026T190000
DTSTAMP:20260424T062721
CREATED:20220708T194550Z
LAST-MODIFIED:20220708T194553Z
UID:10001095-1666807200-1666810800@sc4.edu
SUMMARY:Respiratory Therapy program information session
DESCRIPTION:The respiratory therapy program at St. Clair County Community College uses an integration of classroom and practicum experiences in hospitals\, outpatient testing facilities and physician offices. Students graduating from the program will obtain an Associate in Applied Arts and Science degree\, and become eligible to take the National Board of Respiratory Care (NBRC) credentialing examinations. \n\n\n\nAttend this virtual information session to ask questions and learn about the program\, course schedule\, any prerequisites\, and more. \n\n\n\nJoin the meeting here:  https://sc4.edu/programs/health-human-services/respiratory-therapy/.
URL:https://sc4.edu/event/respiratory-therapy-program-information-session-31/
LOCATION:MI
CATEGORIES:Academics,Admissions,Community
END:VEVENT
BEGIN:VEVENT
DTSTART;TZID=America/Detroit:20221026T190000
DTEND;TZID=America/Detroit:20221026T203000
DTSTAMP:20260424T062721
CREATED:20221006T125253Z
LAST-MODIFIED:20221006T125255Z
UID:10001133-1666810800-1666816200@sc4.edu
SUMMARY:SC4 Financial Aid Night
DESCRIPTION:All college students\, parents and high school seniors who want to learn about the process should attend SC4’s Financial Aid Night in the Fine Arts Theatre. \n\n\n\nInformation will be shared for students looking for money to attend college\, no matter what school they are considering. Get details on all types of financial aid\, including loans\, grants and scholarships. SC4 representatives will explain how to apply for financial aid and will give tips for obtaining maximum financial aid. A question-and-answer period will be offered. \n\n\n\nQuestions\, call (810) 989-5530 or email financialaid@sc4.edu.
URL:https://sc4.edu/event/sc4-financial-aid-night-4/
LOCATION:MI
CATEGORIES:Academics,Admissions,Community
END:VEVENT
BEGIN:VEVENT
DTSTART;TZID=America/Detroit:20221029T000000
DTEND;TZID=America/Detroit:20221030T235959
DTSTAMP:20260424T062721
CREATED:20220826T150514Z
LAST-MODIFIED:20220826T150516Z
UID:10000984-1667001600-1667174399@sc4.edu
SUMMARY:Soccer: NJCAA Div. 2-Region 12 Championship
DESCRIPTION:SC4 is the host site for the NJCAA Division II-Region XII First Round Soccer Championship welcoming eight men’s and women’s teams from Michigan\, Indiana and Ohio. \n\n\n\nRead more about the event on our news site. \n\n\n\nLocation: Skippers Soccer Field\, 560 Busha Highway\, Marysville\, Mich.
URL:https://sc4.edu/event/soccer-njcaa-div-2-region-12-championship/
LOCATION:MI
CATEGORIES:Athletics,Campus life,Community
END:VEVENT
END:VCALENDAR