BEGIN:VCALENDAR
VERSION:2.0
PRODID:-//St. Clair County Community College - ECPv6.15.20//NONSGML v1.0//EN
CALSCALE:GREGORIAN
METHOD:PUBLISH
X-WR-CALNAME:St. Clair County Community College
X-ORIGINAL-URL:https://sc4.edu
X-WR-CALDESC:Events for St. Clair County Community College
REFRESH-INTERVAL;VALUE=DURATION:PT1H
X-Robots-Tag:noindex
X-PUBLISHED-TTL:PT1H
BEGIN:VTIMEZONE
TZID:America/Detroit
BEGIN:DAYLIGHT
TZOFFSETFROM:-0500
TZOFFSETTO:-0400
TZNAME:EDT
DTSTART:20210314T070000
END:DAYLIGHT
BEGIN:STANDARD
TZOFFSETFROM:-0400
TZOFFSETTO:-0500
TZNAME:EST
DTSTART:20211107T060000
END:STANDARD
BEGIN:DAYLIGHT
TZOFFSETFROM:-0500
TZOFFSETTO:-0400
TZNAME:EDT
DTSTART:20220313T070000
END:DAYLIGHT
BEGIN:STANDARD
TZOFFSETFROM:-0400
TZOFFSETTO:-0500
TZNAME:EST
DTSTART:20221106T060000
END:STANDARD
BEGIN:DAYLIGHT
TZOFFSETFROM:-0500
TZOFFSETTO:-0400
TZNAME:EDT
DTSTART:20230312T070000
END:DAYLIGHT
BEGIN:STANDARD
TZOFFSETFROM:-0400
TZOFFSETTO:-0500
TZNAME:EST
DTSTART:20231105T060000
END:STANDARD
END:VTIMEZONE
BEGIN:VEVENT
DTSTART;TZID=America/Detroit:20221103T000000
DTEND;TZID=America/Detroit:20221105T235959
DTSTAMP:20260424T015617
CREATED:20220826T153849Z
LAST-MODIFIED:20221027T183541Z
UID:10001126-1667433600-1667692799@sc4.edu
SUMMARY:Volleyball: NJCAA Div. 2-Region 12 Championship
DESCRIPTION:SC4 is the host site for the NJCAA Division II-Region XII Volleyball Championship hosting 15 teams from Michigan\, Indiana and Ohio. \n\n\n\nCompeting Teams:East: Mott CC\, SC4 Skippers\, Schoolcraft CollegeNorth: Alpena CC\, Bay College\, Grand Rapids CC and Muskegon CCSouth: Cuyahoga CC\, Edison State CC\, Terra State CCWest: Lake Michigan College\, Lansing CC and Kalamazoo Valley CC \n\n\n\nLocation: SC4 Fieldhouse \n\n\n\nTicket information: https://sc4skippers.com/fanzone/ticketing
URL:https://sc4.edu/event/volleyball-njcaa-div-2-region-12-championship/
LOCATION:MI
CATEGORIES:Athletics,Campus life,Community
END:VEVENT
BEGIN:VEVENT
DTSTART;TZID=America/Detroit:20221103T120000
DTEND;TZID=America/Detroit:20221103T130000
DTSTAMP:20260424T015617
CREATED:20220818T210213Z
LAST-MODIFIED:20220818T210953Z
UID:10001101-1667476800-1667480400@sc4.edu
SUMMARY:Concert: Bernadette Kathryn & The Lonely Days Band
DESCRIPTION:Bernadette Kathryn & The Lonely Days Band have become the Midwest’s sharpest practitioners of rock’n country\, from traditional to contemporary. Their sound is a mix of classic rock\, southern rock and modern country\, spiced up with a healthy dose of classic Nashville\, but built on a foundation that’s uniquely Motor City.   \n\n\n\nWith The Lonely Days Band\, Bernadette Kathryn’s vocals and guitar are backed ably by Erik Blundell\, a talented veteran of Detroit’s music scene who’s as comfortable singing as he is picking out tasty guitar licks. He’s joined by bassist Brendan Derey\, who brings conservatory training and a jazz sensibility to the group\, Jim Thiede\, who supplies the clean\, danceable pocket on drums\, and Daisy J on back up and some lead vocals as well as the acclaimed tambourine.   \n\n\n\nAll concerts are free admission. Seating is limited and tickets are required to reserve seats. Seats are reserved by ticket until 15 minutes prior to showtime at which all individuals are admitted until the theatre is at capacity.  \n\n\n\nReserve your free ticket online or call (810) 989-5709. \n\n\n\nLocation: SC4 Fine Arts Theatre
URL:https://sc4.edu/event/concert-bernadette-kathryn-the-lonely-days-band/
LOCATION:MI
CATEGORIES:Arts,Community,Thursday concert series
END:VEVENT
BEGIN:VEVENT
DTSTART;TZID=America/Detroit:20221103T190000
DTEND;TZID=America/Detroit:20221103T200000
DTSTAMP:20260424T015617
CREATED:20220818T210332Z
LAST-MODIFIED:20220818T210334Z
UID:10001102-1667502000-1667505600@sc4.edu
SUMMARY:Concert: Bernadette Kathryn & The Lonely Days Band
DESCRIPTION:Bernadette Kathryn & The Lonely Days Band have become the Midwest’s sharpest practitioners of rock’n country\, from traditional to contemporary. Their sound is a mix of classic rock\, southern rock and modern country\, spiced up with a healthy dose of classic Nashville\, but built on a foundation that’s uniquely Motor City.   \n\n\n\nWith The Lonely Days Band\, Bernadette Kathryn’s vocals and guitar are backed ably by Erik Blundell\, a talented veteran of Detroit’s music scene who’s as comfortable singing as he is picking out tasty guitar licks. He’s joined by bassist Brendan Derey\, who brings conservatory training and a jazz sensibility to the group\, Jim Thiede\, who supplies the clean\, danceable pocket on drums\, and Daisy J on back up and some lead vocals as well as the acclaimed tambourine.   \n\n\n\nAll concerts are free admission. Seating is limited and tickets are required to reserve seats. Seats are reserved by ticket until 15 minutes prior to showtime at which all individuals are admitted until the theatre is at capacity.  \n\n\n\nReserve your free ticket online or call (810) 989-5709. \n\n\n\nLocation: SC4 Fine Arts Theatre
URL:https://sc4.edu/event/concert-bernadette-kathryn-the-lonely-days-band-2/
LOCATION:MI
CATEGORIES:Arts,Community,Thursday concert series
END:VEVENT
END:VCALENDAR